Workbook
Name Kommune: #REF!
Name Løntabel: #REF!
Name Løntrin: #REF!

Sheet Løntabel 1 okt. 2012
A1: Løntrin | C1: Grundsats | D1: Område 1 | E1: Område 2 | F1: Område 3 | G1: Område 4
C2: 0 | D2: 1 | E2: 2 | F2: 3 | G2: 4
B3: Ikke-uddannede
A4: 19 | B4: Bruttoløn | C4: 22256.889 | D4: 22621.377 | E4: 22873.728 | F4: 23238.217 | G4: 23490.578
B5: Egetbidrag | C5: 1186.2922 | D5: 1205.7194 | E5: 1219.1697 | F5: 1238.597 | G5: 1252.0478
B6: Nettoløn | C6: 21070.597 | D6: 21415.658 | E6: 21654.559 | F6: 21999.62 | G6: 22238.53
B7: Arbejdsgiverbidrag | C7: 2374.81 | D7: 2413.701 | E7: 2440.6268 | F7: 2479.5178 | G7: 2506.4447
B9: Uddannede
A10: 24 | B10: Bruttoløn | C10: 24022.006 | D10: 24384.245 | E10: 24635.073 | F10: 24997.312 | G10: 25248.048
B11: Egetbidrag | C11: 1280.3729 | D11: 1299.6803 | E11: 1313.0494 | F11: 1332.3568 | G11: 1345.721
B12: Nettoløn | C12: 22741.633 | D12: 23084.565 | E12: 23322.024 | F12: 23664.956 | G12: 23902.327
B13: Arbejdsgiverbidrag | C13: 2563.148 | D13: 2601.799 | E13: 2628.5623 | F13: 2667.2132 | G13: 2693.9667
A14: 25 | B14: Bruttoløn | C14: 24409.182 | D14: 24760.083 | E14: 25002.987 | F14: 25354.061 | G14: 25596.965
B15: Egetbidrag | C15: 1301.0094 | D15: 1319.7124 | E15: 1332.6592 | F15: 1351.3715 | G15: 1364.3183
B16: Nettoløn | C16: 23108.173 | D16: 23440.37 | E16: 23670.328 | F16: 24002.69 | G16: 24232.647
B17: Arbejdsgiverbidrag | C17: 2604.4597 | D17: 2641.9008 | E17: 2667.8187 | F17: 2705.2784 | G17: 2731.1962
A18: 26 | B18: Bruttoløn | C18: 24805.263 | D18: 25144.192 | E18: 25378.722 | F18: 25717.569 | G18: 25952.099
B19: Egetbidrag | C19: 1322.1205 | D19: 1340.1854 | E19: 1352.6859 | F19: 1370.7464 | G19: 1383.2469
B20: Nettoløn | C20: 23483.143 | D20: 23804.006 | E20: 24026.036 | F20: 24346.822 | G20: 24568.852
B21: Arbejdsgiverbidrag | C21: 2646.7216 | D21: 2682.8852 | E21: 2707.9096 | F21: 2744.0646 | G21: 2769.089
A22: 27 | B22: Bruttoløn | C22: 25210.423 | D22: 25536.306 | E22: 25761.839 | F22: 26087.722 | G22: 26313.255
B23: Egetbidrag | C23: 1343.7156 | D23: 1361.0851 | E23: 1373.106 | F23: 1390.4756 | G23: 1402.4965
B24: Nettoløn | C24: 23866.708 | D24: 24175.221 | E24: 24388.733 | F24: 24697.246 | G24: 24910.758
B25: Arbejdsgiverbidrag | C25: 2689.9522 | D25: 2724.7238 | E25: 2748.7882 | F25: 2783.5599 | G25: 2807.6243
A26: 28 | B26: Bruttoløn | C26: 25624.509 | D26: 25936.528 | E26: 26152.522 | F26: 26464.541 | G26: 26680.453
B27: Egetbidrag | C27: 1365.7863 | D27: 1382.4169 | E27: 1393.9294 | F27: 1410.56 | G27: 1422.0681
B28: Nettoløn | C28: 24258.723 | D28: 24554.111 | E28: 24758.592 | F28: 25053.981 | G28: 25258.385
B29: Arbejdsgiverbidrag | C29: 2734.1351 | D29: 2767.4275 | E29: 2790.4741 | F29: 2823.7665 | G29: 2846.8043
A30: 29 | B30: Bruttoløn | C30: 26047.95 | D30: 26345.205 | E30: 26550.944 | F30: 26848.118 | G30: 27053.939
B31: Egetbidrag | C31: 1388.3557 | D31: 1404.1994 | E31: 1415.1653 | F31: 1431.0047 | G31: 1441.9749
B32: Nettoløn | C32: 24659.594 | D32: 24941.006 | E32: 25135.779 | F32: 25417.113 | G32: 25611.964
B33: Arbejdsgiverbidrag | C33: 2779.3163 | D33: 2811.0334 | E33: 2832.9858 | F33: 2864.6942 | G33: 2886.6553
A34: 30 | B34: Bruttoløn | C34: 26480.562 | D34: 26761.99 | E34: 26956.922 | F34: 27238.34 | G34: 27433.191
B35: Egetbidrag | C35: 1411.4139 | D35: 1426.4141 | E35: 1436.804 | F35: 1451.8035 | G35: 1462.1891
B36: Nettoløn | C36: 25069.148 | D36: 25335.576 | E36: 25520.118 | F36: 25786.537 | G36: 25971.002
B37: Arbejdsgiverbidrag | C37: 2825.4759 | D37: 2855.5043 | E37: 2876.3036 | F37: 2906.3309 | G37: 2927.1215
A38: 31 | B38: Bruttoløn | C38: 26922.989 | D38: 27187.762 | E38: 27370.998 | F38: 27635.771 | G38: 27819.007
B39: Egetbidrag | C39: 1434.9953 | D39: 1449.1077 | E39: 1458.8742 | F39: 1472.9866 | G39: 1482.7531
B40: Nettoløn | C40: 25487.993 | D40: 25738.654 | E40: 25912.124 | F40: 26162.785 | G40: 26336.254
B41: Arbejdsgiverbidrag | C41: 2872.6829 | D41: 2900.9342 | E41: 2920.4855 | F41: 2948.7368 | G41: 2968.2881
B43: Ledende
A44: 39 | B44: Bruttoløn | C44: 30864.436 | D44: 30954.97 | E44: 31017.613 | F44: 31108.148 | G44: 31170.883
B45: Egetbidrag | C45: 1645.0744 | D45: 1649.8999 | E45: 1653.2388 | F45: 1658.0643 | G45: 1661.408
B46: Nettoløn | C46: 29219.362 | D46: 29305.07 | E46: 29364.374 | F46: 29450.083 | G46: 29509.475
B47: Arbejdsgiverbidrag | C47: 3293.2353 | D47: 3302.8953 | E47: 3309.5793 | F47: 3319.2393 | G47: 3325.9332

Sheet Løntabel 1 okt. 2013
A1: Løntrin | C1: Grundsats | D1: Område 1 | E1: Område 2 | F1: Område 3 | G1: Område 4
B3: Ikke-uddannede | I3: Indtast timetal: | J3: ='Løntabel 1 aug. 2014'!J11 -> 37
A4: 19 | B4: Bruttoløn | C4: =((('Løntabel 1 okt. 2012'!C4*1.0064)/37)*$J$3)+(((225.9*1.022*1.0004*1.0064)/37)*(37-$J$3)) -> 22399.333 | D4: =((('Løntabel 1 okt. 2012'!D4*1.0064)/37)*$J$3)+(((225.9*1.022*1.0004*1.0064)/37)*(37-$J$3)) -> 22766.154 | E4: =((('Løntabel 1 okt. 2012'!E4*1.0064)/37)*$J$3)+(((225.9*1.022*1.0004*1.0064)/37)*(37-$J$3)) -> 23020.12 | F4: =((('Løntabel 1 okt. 2012'!F4*1.0064)/37)*$J$3)+(((225.9*1.022*1.0004*1.0064)/37)*(37-$J$3)) -> 23386.942 | G4: =((('Løntabel 1 okt. 2012'!G4*1.0064)/37)*$J$3)+(((225.9*1.022*1.0004*1.0064)/37)*(37-$J$3)) -> 23640.918
B5: Egetbidrag | C5: =C4*0.0533 -> 1193.8844 | D5: =D4*0.0533 -> 1213.436 | E5: =E4*0.0533 -> 1226.9724 | F5: =F4*0.0533 -> 1246.524 | G5: =G4*0.0533 -> 1260.0609
B6: Nettoløn | C6: =C4-C5 -> 21205.448 | D6: =D4-D5 -> 21552.718 | E6: =E4-E5 -> 21793.148 | F6: =F4-F5 -> 22140.418 | G6: =G4-G5 -> 22380.857
B7: Arbejdsgiverbidrag | C7: =C4*0.1067 -> 2390.0088 | D7: =D4*0.1067 -> 2429.1487 | E7: =E4*0.1067 -> 2456.2468 | F7: =F4*0.1067 -> 2495.3867 | G7: =G4*0.1067 -> 2522.486
B9: Uddannede
A10: 24 | B10: Bruttoløn | C10: =((('Løntabel 1 okt. 2012'!C10*1.0064)/37)*$J$3)+(((225.9*1.022*1.0004*1.0064)/37)*(37-$J$3)) -> 24175.747 | D10: =((('Løntabel 1 okt. 2012'!D10*1.0064)/37)*$J$3)+(((225.9*1.022*1.0004*1.0064)/37)*(37-$J$3)) -> 24540.305 | E10: =((('Løntabel 1 okt. 2012'!E10*1.0064)/37)*$J$3)+(((225.9*1.022*1.0004*1.0064)/37)*(37-$J$3)) -> 24792.737 | F10: =((('Løntabel 1 okt. 2012'!F10*1.0064)/37)*$J$3)+(((225.9*1.022*1.0004*1.0064)/37)*(37-$J$3)) -> 25157.295 | G10: =((('Løntabel 1 okt. 2012'!G10*1.0064)/37)*$J$3)+(((225.9*1.022*1.0004*1.0064)/37)*(37-$J$3)) -> 25409.635
B11: Egetbidrag | C11: =C10*0.0533 -> 1288.5673 | D11: =D10*0.0533 -> 1307.9982 | E11: =E10*0.0533 -> 1321.4529 | F11: =F10*0.0533 -> 1340.8838 | G11: =G10*0.0533 -> 1354.3336
B12: Nettoløn | C12: =C10-C11 -> 22887.179 | D12: =D10-D11 -> 23232.306 | E12: =E10-E11 -> 23471.285 | F12: =F10-F11 -> 23816.411 | G12: =G10-G11 -> 24055.302
B13: Arbejdsgiverbidrag | C13: =C10*0.1067 -> 2579.5522 | D13: =D10*0.1067 -> 2618.4505 | E13: =E10*0.1067 -> 2645.3851 | F13: =F10*0.1067 -> 2684.2834 | G13: =G10*0.1067 -> 2711.2081
A14: 25 | B14: Bruttoløn | C14: =((('Løntabel 1 okt. 2012'!C14*1.0064)/37)*$J$3)+(((225.9*1.022*1.0004*1.0064)/37)*(37-$J$3)) -> 24565.401 | D14: =((('Løntabel 1 okt. 2012'!D14*1.0064)/37)*$J$3)+(((225.9*1.022*1.0004*1.0064)/37)*(37-$J$3)) -> 24918.547 | E14: =((('Løntabel 1 okt. 2012'!E14*1.0064)/37)*$J$3)+(((225.9*1.022*1.0004*1.0064)/37)*(37-$J$3)) -> 25163.006 | F14: =((('Løntabel 1 okt. 2012'!F14*1.0064)/37)*$J$3)+(((225.9*1.022*1.0004*1.0064)/37)*(37-$J$3)) -> 25516.327 | G14: =((('Løntabel 1 okt. 2012'!G14*1.0064)/37)*$J$3)+(((225.9*1.022*1.0004*1.0064)/37)*(37-$J$3)) -> 25760.786
B15: Egetbidrag | C15: =C14*0.0533 -> 1309.3359 | D15: =D14*0.0533 -> 1328.1586 | E15: =E14*0.0533 -> 1341.1882 | F15: =F14*0.0533 -> 1360.0203 | G15: =G14*0.0533 -> 1373.0499
B16: Nettoløn | C16: =C14-C15 -> 23256.065 | D16: =D14-D15 -> 23590.389 | E16: =E14-E15 -> 23821.818 | F16: =F14-F15 -> 24156.307 | G16: =G14-G15 -> 24387.736
B17: Arbejdsgiverbidrag | C17: =C14*0.1067 -> 2621.1283 | D17: =D14*0.1067 -> 2658.809 | E17: =E14*0.1067 -> 2684.8927 | F17: =F14*0.1067 -> 2722.5921 | G17: =G14*0.1067 -> 2748.6759
A18: 26 | B18: Bruttoløn | C18: =((('Løntabel 1 okt. 2012'!C18*1.0064)/37)*$J$3)+(((225.9*1.022*1.0004*1.0064)/37)*(37-$J$3)) -> 24964.017 | D18: =((('Løntabel 1 okt. 2012'!D18*1.0064)/37)*$J$3)+(((225.9*1.022*1.0004*1.0064)/37)*(37-$J$3)) -> 25305.114 | E18: =((('Løntabel 1 okt. 2012'!E18*1.0064)/37)*$J$3)+(((225.9*1.022*1.0004*1.0064)/37)*(37-$J$3)) -> 25541.146 | F18: =((('Løntabel 1 okt. 2012'!F18*1.0064)/37)*$J$3)+(((225.9*1.022*1.0004*1.0064)/37)*(37-$J$3)) -> 25882.161 | G18: =((('Løntabel 1 okt. 2012'!G18*1.0064)/37)*$J$3)+(((225.9*1.022*1.0004*1.0064)/37)*(37-$J$3)) -> 26118.193
B19: Egetbidrag | C19: =C18*0.0533 -> 1330.5821 | D19: =D18*0.0533 -> 1348.7626 | E19: =E18*0.0533 -> 1361.3431 | F19: =F18*0.0533 -> 1379.5192 | G19: =G18*0.0533 -> 1392.0997
B20: Nettoløn | C20: =C18-C19 -> 23633.435 | D20: =D18-D19 -> 23956.352 | E20: =E18-E19 -> 24179.803 | F20: =F18-F19 -> 24502.642 | G20: =G18-G19 -> 24726.093
B21: Arbejdsgiverbidrag | C21: =C18*0.1067 -> 2663.6606 | D21: =D18*0.1067 -> 2700.0557 | E21: =E18*0.1067 -> 2725.2403 | F21: =F18*0.1067 -> 2761.6266 | G21: =G18*0.1067 -> 2786.8111
A22: 27 | B22: Bruttoløn | C22: =((('Løntabel 1 okt. 2012'!C22*1.0064)/37)*$J$3)+(((225.9*1.022*1.0004*1.0064)/37)*(37-$J$3)) -> 25371.77 | D22: =((('Løntabel 1 okt. 2012'!D22*1.0064)/37)*$J$3)+(((225.9*1.022*1.0004*1.0064)/37)*(37-$J$3)) -> 25699.738 | E22: =((('Løntabel 1 okt. 2012'!E22*1.0064)/37)*$J$3)+(((225.9*1.022*1.0004*1.0064)/37)*(37-$J$3)) -> 25926.715 | F22: =((('Løntabel 1 okt. 2012'!F22*1.0064)/37)*$J$3)+(((225.9*1.022*1.0004*1.0064)/37)*(37-$J$3)) -> 26254.683 | G22: =((('Løntabel 1 okt. 2012'!G22*1.0064)/37)*$J$3)+(((225.9*1.022*1.0004*1.0064)/37)*(37-$J$3)) -> 26481.66
B23: Egetbidrag | C23: =C22*0.0533 -> 1352.3153 | D23: =D22*0.0533 -> 1369.796 | E23: =E22*0.0533 -> 1381.8939 | F23: =F22*0.0533 -> 1399.3746 | G23: =G22*0.0533 -> 1411.4725
B24: Nettoløn | C24: =C22-C23 -> 24019.455 | D24: =D22-D23 -> 24329.942 | E24: =E22-E23 -> 24544.821 | F24: =F22-F23 -> 24855.308 | G24: =G22-G23 -> 25070.187
B25: Arbejdsgiverbidrag | C25: =C22*0.1067 -> 2707.1679 | D25: =D22*0.1067 -> 2742.1621 | E25: =E22*0.1067 -> 2766.3805 | F25: =F22*0.1067 -> 2801.3747 | G25: =G22*0.1067 -> 2825.5931
A26: 28 | B26: Bruttoløn | C26: =((('Løntabel 1 okt. 2012'!C26*1.0064)/37)*$J$3)+(((225.9*1.022*1.0004*1.0064)/37)*(37-$J$3)) -> 25788.506 | D26: =((('Løntabel 1 okt. 2012'!D26*1.0064)/37)*$J$3)+(((225.9*1.022*1.0004*1.0064)/37)*(37-$J$3)) -> 26102.522 | E26: =((('Løntabel 1 okt. 2012'!E26*1.0064)/37)*$J$3)+(((225.9*1.022*1.0004*1.0064)/37)*(37-$J$3)) -> 26319.898 | F26: =((('Løntabel 1 okt. 2012'!F26*1.0064)/37)*$J$3)+(((225.9*1.022*1.0004*1.0064)/37)*(37-$J$3)) -> 26633.914 | G26: =((('Løntabel 1 okt. 2012'!G26*1.0064)/37)*$J$3)+(((225.9*1.022*1.0004*1.0064)/37)*(37-$J$3)) -> 26851.208
B27: Egetbidrag | C27: =C26*0.0533 -> 1374.5274 | D27: =D26*0.0533 -> 1391.2644 | E27: =E26*0.0533 -> 1402.8506 | F27: =F26*0.0533 -> 1419.5876 | G27: =G26*0.0533 -> 1431.1694
B28: Nettoløn | C28: =C26-C27 -> 24413.979 | D28: =D26-D27 -> 24711.257 | E28: =E26-E27 -> 24917.047 | F28: =F26-F27 -> 25214.326 | G28: =G26-G27 -> 25420.038
B29: Arbejdsgiverbidrag | C29: =C26*0.1067 -> 2751.6336 | D29: =D26*0.1067 -> 2785.1391 | E29: =E26*0.1067 -> 2808.3331 | F29: =F26*0.1067 -> 2841.8386 | G29: =G26*0.1067 -> 2865.0239
A30: 29 | B30: Bruttoløn | C30: =((('Løntabel 1 okt. 2012'!C30*1.0064)/37)*$J$3)+(((225.9*1.022*1.0004*1.0064)/37)*(37-$J$3)) -> 26214.657 | D30: =((('Løntabel 1 okt. 2012'!D30*1.0064)/37)*$J$3)+(((225.9*1.022*1.0004*1.0064)/37)*(37-$J$3)) -> 26513.814 | E30: =((('Løntabel 1 okt. 2012'!E30*1.0064)/37)*$J$3)+(((225.9*1.022*1.0004*1.0064)/37)*(37-$J$3)) -> 26720.87 | F30: =((('Løntabel 1 okt. 2012'!F30*1.0064)/37)*$J$3)+(((225.9*1.022*1.0004*1.0064)/37)*(37-$J$3)) -> 27019.946 | G30: =((('Løntabel 1 okt. 2012'!G30*1.0064)/37)*$J$3)+(((225.9*1.022*1.0004*1.0064)/37)*(37-$J$3)) -> 27227.084
B31: Egetbidrag | C31: =C30*0.0533 -> 1397.2412 | D31: =D30*0.0533 -> 1413.1863 | E31: =E30*0.0533 -> 1424.2224 | F31: =F30*0.0533 -> 1440.1631 | G31: =G30*0.0533 -> 1451.2036
B32: Nettoløn | C32: =C30-C31 -> 24817.416 | D32: =D30-D31 -> 25100.628 | E32: =E30-E31 -> 25296.648 | F32: =F30-F31 -> 25579.783 | G32: =G30-G31 -> 25775.88
B33: Arbejdsgiverbidrag | C33: =C30*0.1067 -> 2797.1039 | D33: =D30*0.1067 -> 2829.024 | E33: =E30*0.1067 -> 2851.1169 | F33: =F30*0.1067 -> 2883.0282 | G33: =G30*0.1067 -> 2905.1299
A34: 30 | B34: Bruttoløn | C34: =((('Løntabel 1 okt. 2012'!C34*1.0064)/37)*$J$3)+(((225.9*1.022*1.0004*1.0064)/37)*(37-$J$3)) -> 26650.037 | D34: =((('Løntabel 1 okt. 2012'!D34*1.0064)/37)*$J$3)+(((225.9*1.022*1.0004*1.0064)/37)*(37-$J$3)) -> 26933.267 | E34: =((('Løntabel 1 okt. 2012'!E34*1.0064)/37)*$J$3)+(((225.9*1.022*1.0004*1.0064)/37)*(37-$J$3)) -> 27129.447 | F34: =((('Løntabel 1 okt. 2012'!F34*1.0064)/37)*$J$3)+(((225.9*1.022*1.0004*1.0064)/37)*(37-$J$3)) -> 27412.666 | G34: =((('Løntabel 1 okt. 2012'!G34*1.0064)/37)*$J$3)+(((225.9*1.022*1.0004*1.0064)/37)*(37-$J$3)) -> 27608.764
B35: Egetbidrag | C35: =C34*0.0533 -> 1420.447 | D35: =D34*0.0533 -> 1435.5431 | E35: =E34*0.0533 -> 1445.9995 | F35: =F34*0.0533 -> 1461.0951 | G35: =G34*0.0533 -> 1471.5471
B36: Nettoløn | C36: =C34-C35 -> 25229.59 | D36: =D34-D35 -> 25497.724 | E36: =E34-E35 -> 25683.447 | F36: =F34-F35 -> 25951.571 | G36: =G34-G35 -> 26137.216
B37: Arbejdsgiverbidrag | C37: =C34*0.1067 -> 2843.559 | D37: =D34*0.1067 -> 2873.7796 | E37: =E34*0.1067 -> 2894.712 | F37: =F34*0.1067 -> 2924.9314 | G37: =G34*0.1067 -> 2945.8551
A38: 31 | B38: Bruttoløn | C38: =((('Løntabel 1 okt. 2012'!C38*1.0064)/37)*$J$3)+(((225.9*1.022*1.0004*1.0064)/37)*(37-$J$3)) -> 27095.296 | D38: =((('Løntabel 1 okt. 2012'!D38*1.0064)/37)*$J$3)+(((225.9*1.022*1.0004*1.0064)/37)*(37-$J$3)) -> 27361.764 | E38: =((('Løntabel 1 okt. 2012'!E38*1.0064)/37)*$J$3)+(((225.9*1.022*1.0004*1.0064)/37)*(37-$J$3)) -> 27546.172 | F38: =((('Løntabel 1 okt. 2012'!F38*1.0064)/37)*$J$3)+(((225.9*1.022*1.0004*1.0064)/37)*(37-$J$3)) -> 27812.64 | G38: =((('Løntabel 1 okt. 2012'!G38*1.0064)/37)*$J$3)+(((225.9*1.022*1.0004*1.0064)/37)*(37-$J$3)) -> 27997.049
B39: Egetbidrag | C39: =C38*0.0533 -> 1444.1793 | D39: =D38*0.0533 -> 1458.382 | E39: =E38*0.0533 -> 1468.211 | F39: =F38*0.0533 -> 1482.4137 | G39: =G38*0.0533 -> 1492.2427
B40: Nettoløn | C40: =C38-C39 -> 25651.117 | D40: =D38-D39 -> 25903.382 | E40: =E38-E39 -> 26077.961 | F40: =F38-F39 -> 26330.226 | G40: =G38-G39 -> 26504.806
B41: Arbejdsgiverbidrag | C41: =C38*0.1067 -> 2891.0681 | D41: =D38*0.1067 -> 2919.5002 | E41: =E38*0.1067 -> 2939.1766 | F41: =F38*0.1067 -> 2967.6087 | G41: =G38*0.1067 -> 2987.2851
B43: Ledende
A44: 39 | B44: Bruttoløn | C44: =((('Løntabel 1 okt. 2012'!C44*1.0064)/37)*$J$3)+(((225.9*1.022*1.0004*1.0064)/37)*(37-$J$3)) -> 31061.968 | D44: =((('Løntabel 1 okt. 2012'!D44*1.0064)/37)*$J$3)+(((225.9*1.022*1.0004*1.0064)/37)*(37-$J$3)) -> 31153.082 | E44: =((('Løntabel 1 okt. 2012'!E44*1.0064)/37)*$J$3)+(((225.9*1.022*1.0004*1.0064)/37)*(37-$J$3)) -> 31216.126 | F44: =((('Løntabel 1 okt. 2012'!F44*1.0064)/37)*$J$3)+(((225.9*1.022*1.0004*1.0064)/37)*(37-$J$3)) -> 31307.24 | G44: =((('Løntabel 1 okt. 2012'!G44*1.0064)/37)*$J$3)+(((225.9*1.022*1.0004*1.0064)/37)*(37-$J$3)) -> 31370.376
B45: Egetbidrag | C45: =C44*0.0533 -> 1655.6029 | D45: =D44*0.0533 -> 1660.4593 | E45: =E44*0.0533 -> 1663.8195 | F45: =F44*0.0533 -> 1668.6759 | G45: =G44*0.0533 -> 1672.0411
B46: Nettoløn | C46: =C44-C45 -> 29406.365 | D46: =D44-D45 -> 29492.623 | E46: =E44-E45 -> 29552.306 | F46: =F44-F45 -> 29638.564 | G46: =G44-G45 -> 29698.335
B47: Arbejdsgiverbidrag | C47: =C44*0.1067 -> 3314.312 | D47: =D44*0.1067 -> 3324.0339 | E47: =E44*0.1067 -> 3330.7606 | F47: =F44*0.1067 -> 3340.4825 | G47: =G44*0.1067 -> 3347.2191

Sheet Løntabel 1 aug. 2014
A1: Interaktiv løntabel med fuld kittelkompensation til fuldtidsansatte
A2: Løn gældende pr. 1. juli 2014
A4: Eventuelle personlige løntillæg reguleres med 1,47%
A6: Eget bidrag (brutto) til pension på 5,33%. Arbejdsgiverbidrag til pension på 10,67
A9: Løntrin | C9: Grundsats | D9: Område 1 | E9: Område 2 | F9: Område 3 | G9: Område 4
B11: Ikke-uddannede | I11: Indtast timetal: | J11: 37
A12: 19 | B12: Bruttoløn | C12: =((('Løntabel 1 okt. 2013'!C4*1.0172*1.0147))) -> 23119.535 | D12: =((('Løntabel 1 okt. 2013'!D4*1.0172*1.0147))) -> 23498.151 | E12: =((('Løntabel 1 okt. 2013'!E4*1.0172*1.0147))) -> 23760.283 | F12: =((('Løntabel 1 okt. 2013'!F4*1.0172*1.0147))) -> 24138.898 | G12: =((('Løntabel 1 okt. 2013'!G4*1.0172*1.0147))) -> 24401.041
B13: Egetbidrag | C13: =C12*0.0533 -> 1232.2712 | D13: =D12*0.0533 -> 1252.4514 | E13: =E12*0.0533 -> 1266.4231 | F13: =F12*0.0533 -> 1286.6033 | G13: =G12*0.0533 -> 1300.5755
B14: Nettoløn | C14: =C12-C13 -> 21887.264 | D14: =D12-D13 -> 22245.699 | E14: =E12-E13 -> 22493.859 | F14: =F12-F13 -> 22852.295 | G14: =G12-G13 -> 23100.465
B15: Arbejdsgiverbidrag | C15: =C12*0.1067 -> 2466.8544 | D15: =D12*0.1067 -> 2507.2527 | E15: =E12*0.1067 -> 2535.2221 | F15: =F12*0.1067 -> 2575.6205 | G15: =G12*0.1067 -> 2603.591
B17: Uddannede
A18: 24 | B18: Bruttoløn | C18: =((('Løntabel 1 okt. 2013'!C10*1.0172*1.0147))) -> 24953.066 | D18: =((('Løntabel 1 okt. 2013'!D10*1.0172*1.0147))) -> 25329.345 | E18: =((('Løntabel 1 okt. 2013'!E10*1.0172*1.0147))) -> 25589.894 | F18: =((('Løntabel 1 okt. 2013'!F10*1.0172*1.0147))) -> 25966.174 | G18: =((('Løntabel 1 okt. 2013'!G10*1.0172*1.0147))) -> 26226.627
B19: Egetbidrag | C19: =C18*0.0533 -> 1329.9984 | D19: =D18*0.0533 -> 1350.0541 | E19: =E18*0.0533 -> 1363.9414 | F19: =F18*0.0533 -> 1383.9971 | G19: =G18*0.0533 -> 1397.8792 | L19: Område 1 | M19: Område 2 | N19: Område 3 | O19: Område 4 | P19: Grundsats
B20: Nettoløn | C20: =C18-C19 -> 23623.067 | D20: =D18-D19 -> 23979.291 | E20: =E18-E19 -> 24225.953 | F20: =F18-F19 -> 24582.177 | G20: =G18-G19 -> 24828.748 | L20: Aalborg | M20: Køge | N20: Allerød | O20: Albertslund | P20: Alle andre kommuner
B21: Arbejdsgiverbidrag | C21: =C18*0.1067 -> 2662.4921 | D21: =D18*0.1067 -> 2702.6411 | E21: =E18*0.1067 -> 2730.4417 | F21: =F18*0.1067 -> 2770.5907 | G21: =G18*0.1067 -> 2798.3811 | L21: Esbjerg | M21: Lejre | N21: Fredensborg | O21: Ballerup
A22: 25 | B22: Bruttoløn | C22: =((('Løntabel 1 okt. 2013'!C14*1.0172*1.0147))) -> 25355.248 | D22: =((('Løntabel 1 okt. 2013'!D14*1.0172*1.0147))) -> 25719.749 | E22: =((('Løntabel 1 okt. 2013'!E14*1.0172*1.0147))) -> 25972.068 | F22: =((('Løntabel 1 okt. 2013'!F14*1.0172*1.0147))) -> 26336.75 | G22: =((('Løntabel 1 okt. 2013'!G14*1.0172*1.0147))) -> 26589.068 | L22: Faaborg-Midtfyn | M22: Roskilde | N22: Frederikssund | O22: Brøndby
B23: Egetbidrag | C23: =C22*0.0533 -> 1351.4347 | D23: =D22*0.0533 -> 1370.8626 | E23: =E22*0.0533 -> 1384.3112 | F23: =F22*0.0533 -> 1403.7488 | G23: =G22*0.0533 -> 1417.1973 | L23: Frederikshavn | M23: Solrød | N23: Gribskov | O23: Dragør
B24: Nettoløn | C24: =C22-C23 -> 24003.813 | D24: =D22-D23 -> 24348.887 | E24: =E22-E23 -> 24587.757 | F24: =F22-F23 -> 24933.001 | G24: =G22-G23 -> 25171.871 | L24: Kalundborg | M24: Århus | N24: Halsnæs | O24: Egedal
B25: Arbejdsgiverbidrag | C25: =C22*0.1067 -> 2705.405 | D25: =D22*0.1067 -> 2744.2973 | E25: =E22*0.1067 -> 2771.2197 | F25: =F22*0.1067 -> 2810.1312 | G25: =G22*0.1067 -> 2837.0536 | L25: Kerteminde | N25: Helsingør | O25: Frederiksberg
A26: 26 | B26: Bruttoløn | C26: =((('Løntabel 1 okt. 2013'!C18*1.0172*1.0147))) -> 25766.681 | D26: =((('Løntabel 1 okt. 2013'!D18*1.0172*1.0147))) -> 26118.746 | E26: =((('Løntabel 1 okt. 2013'!E18*1.0172*1.0147))) -> 26362.366 | F26: =((('Løntabel 1 okt. 2013'!F18*1.0172*1.0147))) -> 26714.346 | G26: =((('Løntabel 1 okt. 2013'!G18*1.0172*1.0147))) -> 26957.967 | L26: Nyborg | N26: Hillerød | O26: Gentofte
B27: Egetbidrag | C27: =C26*0.0533 -> 1373.3641 | D27: =D26*0.0533 -> 1392.1291 | E27: =E26*0.0533 -> 1405.1141 | F27: =F26*0.0533 -> 1423.8746 | G27: =G26*0.0533 -> 1436.8596 | L27: Næstved | N27: Hørsholm | O27: Gladsaxe
B28: Nettoløn | C28: =C26-C27 -> 24393.317 | D28: =D26-D27 -> 24726.617 | E28: =E26-E27 -> 24957.252 | F28: =F26-F27 -> 25290.471 | G28: =G26-G27 -> 25521.107 | L28: Odense | O28: Glostrup
B29: Arbejdsgiverbidrag | C29: =C26*0.1067 -> 2749.3048 | D29: =D26*0.1067 -> 2786.8702 | E29: =E26*0.1067 -> 2812.8645 | F29: =F26*0.1067 -> 2850.4207 | G29: =G26*0.1067 -> 2876.415 | L29: Skanderborg | O29: Greve
A30: 28 | B30: Bruttoløn | C30: =((('Løntabel 1 okt. 2013'!C26*1.0172*1.0147))) -> 26617.68 | D30: =((('Løntabel 1 okt. 2013'!D26*1.0172*1.0147))) -> 26941.792 | E30: =((('Løntabel 1 okt. 2013'!E26*1.0172*1.0147))) -> 27166.157 | F30: =((('Løntabel 1 okt. 2013'!F26*1.0172*1.0147))) -> 27490.27 | G30: =((('Løntabel 1 okt. 2013'!G26*1.0172*1.0147))) -> 27714.55 | L30: Slagelse | O30: Herlev
B31: Egetbidrag | C31: =C30*0.0533 -> 1418.7223 | D31: =D30*0.0533 -> 1435.9975 | E31: =E30*0.0533 -> 1447.9562 | F31: =F30*0.0533 -> 1465.2314 | G31: =G30*0.0533 -> 1477.1855 | L31: Sønderborg | O31: Høje-Tåstrup
B32: Nettoløn | C32: =C30-C31 -> 25198.957 | D32: =D30-D31 -> 25505.794 | E32: =E30-E31 -> 25718.201 | F32: =F30-F31 -> 26025.038 | G32: =G30-G31 -> 26237.365 | O32: Ishøj
B33: Arbejdsgiverbidrag | C33: =C30*0.1067 -> 2840.1064 | D33: =D30*0.1067 -> 2874.6892 | E33: =E30*0.1067 -> 2898.629 | F33: =F30*0.1067 -> 2933.2118 | G33: =G30*0.1067 -> 2957.1425 | O33: København
A34: 29 | B34: Bruttoløn | C34: =((('Løntabel 1 okt. 2013'!C30*1.0172*1.0147))) -> 27057.532 | D34: =((('Løntabel 1 okt. 2013'!D30*1.0172*1.0147))) -> 27366.309 | E34: =((('Løntabel 1 okt. 2013'!E30*1.0172*1.0147))) -> 27580.022 | F34: =((('Løntabel 1 okt. 2013'!F30*1.0172*1.0147))) -> 27888.714 | G34: =((('Løntabel 1 okt. 2013'!G30*1.0172*1.0147))) -> 28102.512 | O34: Lyngby-Tårbæk
B35: Egetbidrag | C35: =C34*0.0533 -> 1442.1665 | D35: =D34*0.0533 -> 1458.6243 | E35: =E34*0.0533 -> 1470.0152 | F35: =F34*0.0533 -> 1486.4684 | G35: =G34*0.0533 -> 1497.8639 | O35: Rudersdal Rødovre
B36: Nettoløn | C36: =C34-C35 -> 25615.366 | D36: =D34-D35 -> 25907.685 | E36: =E34-E35 -> 26110.007 | F36: =F34-F35 -> 26402.245 | G36: =G34-G35 -> 26604.648 | O36: Tårnby
B37: Arbejdsgiverbidrag | C37: =C34*0.1067 -> 2887.0387 | D37: =D34*0.1067 -> 2919.9851 | E37: =E34*0.1067 -> 2942.7884 | F37: =F34*0.1067 -> 2975.7257 | G37: =G34*0.1067 -> 2998.538 | O37: Vallensbæk
A38: 30 | B38: Bruttoløn | C38: =((('Løntabel 1 okt. 2013'!C34*1.0172*1.0147))) -> 27506.912 | D38: =((('Løntabel 1 okt. 2013'!D34*1.0172*1.0147))) -> 27799.248 | E38: =((('Løntabel 1 okt. 2013'!E34*1.0172*1.0147))) -> 28001.736 | F38: =((('Løntabel 1 okt. 2013'!F34*1.0172*1.0147))) -> 28294.061 | G38: =((('Løntabel 1 okt. 2013'!G34*1.0172*1.0147))) -> 28496.464 | O38: Furesø
B39: Egetbidrag | C39: =C38*0.0533 -> 1466.1184 | D39: =D38*0.0533 -> 1481.6999 | E39: =E38*0.0533 -> 1492.4925 | F39: =F38*0.0533 -> 1508.0734 | G39: =G38*0.0533 -> 1518.8615 | O39: Hvidovre
B40: Nettoløn | C40: =C38-C39 -> 26040.793 | D40: =D38-D39 -> 26317.548 | E40: =E38-E39 -> 26509.243 | F40: =F38-F39 -> 26785.987 | G40: =G38-G39 -> 26977.602
B41: Arbejdsgiverbidrag | C41: =C38*0.1067 -> 2934.9875 | D41: =D38*0.1067 -> 2966.1797 | E41: =E38*0.1067 -> 2987.7852 | F41: =F38*0.1067 -> 3018.9763 | G41: =G38*0.1067 -> 3040.5727
A42: 31 | B42: Bruttoløn | C42: =((('Løntabel 1 okt. 2013'!C38*1.0172*1.0147))) -> 27966.487 | D42: =((('Løntabel 1 okt. 2013'!D38*1.0172*1.0147))) -> 28241.522 | E42: =((('Løntabel 1 okt. 2013'!E38*1.0172*1.0147))) -> 28431.86 | F42: =((('Løntabel 1 okt. 2013'!F38*1.0172*1.0147))) -> 28706.896 | G42: =((('Løntabel 1 okt. 2013'!G38*1.0172*1.0147))) -> 28897.234
B43: Egetbidrag | C43: =C42*0.0533 -> 1490.6137 | D43: =D42*0.0533 -> 1505.2731 | E43: =E42*0.0533 -> 1515.4181 | F43: =F42*0.0533 -> 1530.0775 | G43: =G42*0.0533 -> 1540.2226
B44: Nettoløn | C44: =C42-C43 -> 26475.873 | D44: =D42-D43 -> 26736.249 | E44: =E42-E43 -> 26916.442 | F44: =F42-F43 -> 27176.818 | G44: =G42-G43 -> 27357.011
B45: Arbejdsgiverbidrag | C45: =C42*0.1067 -> 2984.0241 | D45: =D42*0.1067 -> 3013.3704 | E45: =E42*0.1067 -> 3033.6795 | F45: =F42*0.1067 -> 3063.0258 | G45: =G42*0.1067 -> 3083.3348
B47: Ledende
A48: 39 | B48: Bruttoløn | C48: =((('Løntabel 1 okt. 2013'!C44*1.0172*1.0147))) -> 32060.699 | D48: =((('Løntabel 1 okt. 2013'!D44*1.0172*1.0147))) -> 32154.742 | E48: =((('Løntabel 1 okt. 2013'!E44*1.0172*1.0147))) -> 32219.813 | F48: =((('Løntabel 1 okt. 2013'!F44*1.0172*1.0147))) -> 32313.856 | G48: =((('Løntabel 1 okt. 2013'!G44*1.0172*1.0147))) -> 32379.023
B49: Egetbidrag | C49: =C48*0.0533 -> 1708.8352 | D49: =D48*0.0533 -> 1713.8478 | E49: =E48*0.0533 -> 1717.316 | F49: =F48*0.0533 -> 1722.3285 | G49: =G48*0.0533 -> 1725.8019
B50: Nettoløn | C50: =C48-C49 -> 30351.864 | D50: =D48-D49 -> 30440.894 | E50: =E48-E49 -> 30502.497 | F50: =F48-F49 -> 30591.528 | G50: =G48-G49 -> 30653.221
B51: Arbejdsgiverbidrag | C51: =C48*0.1067 -> 3420.8766 | D51: =D48*0.1067 -> 3430.911 | E51: =E48*0.1067 -> 3437.8541 | F51: =F48*0.1067 -> 3447.8885 | G51: =G48*0.1067 -> 3454.8417

Sheet Ark1
A1: Interaktiv løntabel med fuld kittelkompensation til fuldtidsansatte
A2: Løn gældende pr. 1. juni 2015
A4: Eventuelle personlige løntillæg reguleres med 0,96%
A6: Eget bidrag (brutto) til pension på 5,33%. Arbejdsgiverbidrag til pension på 10,67
A9: Løntrin | C9: Grundsats | D9: Område 1 | E9: Område 2 | F9: Område 3 | G9: Område 4
B11: Ikke-uddannede | I11: Indtast timetal: | J11: 37
A12: 19 | B12: Bruttoløn | C12: 23341.483 | D12: 23723.733 | E12: 23988.381 | F12: 24370.632 | G12: 24635.291
B13: Egetbidrag | C13: 1244.101 | D13: 1264.475 | E13: 1278.5807 | F13: 1298.9547 | G13: 1313.061
B14: Nettoløn | C14: 22097.382 | D14: 22459.258 | E14: 22709.801 | F14: 23071.677 | G14: 23322.23
B15: Arbejdsgiverbidrag | C15: 2490.5362 | D15: 2531.3223 | E15: 2559.5603 | F15: 2600.3464 | G15: 2628.5855
B17: Uddannede
A18: 24 | B18: Bruttoløn | C18: 25192.615 | D18: 25572.507 | E18: 25835.557 | F18: 26215.449 | G18: 26478.403
B19: Egetbidrag | C19: 1342.7664 | D19: 1363.0146 | E19: 1377.0352 | F19: 1397.2834 | G19: 1411.2989 | L19: Område 1 | M19: Område 2 | N19: Område 3 | O19: Område 4 | P19: Grundsats
B20: Nettoløn | C20: 23849.849 | D20: 24209.492 | E20: 24458.522 | F20: 24818.166 | G20: 25067.104 | L20: Aalborg | M20: Køge | N20: Allerød | O20: Albertslund | P20: Alle andre kommuner
B21: Arbejdsgiverbidrag | C21: 2688.052 | D21: 2728.5865 | E21: 2756.654 | F21: 2797.1884 | G21: 2825.2456 | L21: Esbjerg | M21: Lejre | N21: Fredensborg | O21: Ballerup
A22: 25 | B22: Bruttoløn | C22: 25598.658 | D22: 25966.659 | E22: 26221.4 | F22: 26589.583 | G22: 26844.323 | L22: Faaborg-Midtfyn | M22: Roskilde | N22: Frederikssund | O22: Brøndby
B23: Egetbidrag | C23: 1364.4085 | D23: 1384.0229 | E23: 1397.6006 | F23: 1417.2248 | G23: 1430.8024 | L23: Frederikshavn | M23: Solrød | N23: Gribskov | O23: Dragør
B24: Nettoløn | C24: 24234.25 | D24: 24582.636 | E24: 24823.799 | F24: 25172.358 | G24: 25413.521 | L24: Kalundborg | M24: Århus | N24: Halsnæs | O24: Egedal
B25: Arbejdsgiverbidrag | C25: 2731.3769 | D25: 2770.6425 | E25: 2797.8234 | F25: 2837.1085 | G25: 2864.2893 | L25: Kerteminde | N25: Helsingør | O25: Frederiksberg
A26: 26 | B26: Bruttoløn | C26: 26014.041 | D26: 26369.486 | E26: 26615.445 | F26: 26970.804 | G26: 27216.763 | L26: Nyborg | N26: Hillerød | O26: Gentofte
B27: Egetbidrag | C27: 1386.5484 | D27: 1405.4936 | E27: 1418.6032 | F27: 1437.5438 | G27: 1450.6535 | L27: Næstved | N27: Hørsholm | O27: Gladsaxe
B28: Nettoløn | C28: 24627.493 | D28: 24963.992 | E28: 25196.842 | F28: 25533.26 | G28: 25766.11 | L28: Odense | O28: Glostrup
B29: Arbejdsgiverbidrag | C29: 2775.6982 | D29: 2813.6241 | E29: 2839.868 | F29: 2877.7848 | G29: 2904.0286 | L29: Skanderborg | O29: Greve
A30: 28 | B30: Bruttoløn | C30: 26873.209 | D30: 27200.433 | E30: 27426.953 | F30: 27754.176 | G30: 27980.61 | L30: Slagelse | O30: Herlev
B31: Egetbidrag | C31: 1432.3421 | D31: 1449.7831 | E31: 1461.8566 | F31: 1479.2976 | G31: 1491.3665 | L31: Sønderborg | O31: Høje-Tåstrup
B32: Nettoløn | C32: 25440.867 | D32: 25750.65 | E32: 25965.096 | F32: 26274.879 | G32: 26489.244 | O32: Ishøj
B33: Arbejdsgiverbidrag | C33: 2867.3714 | D33: 2902.2862 | E33: 2926.4558 | F33: 2961.3706 | G33: 2985.5311 | O33: København
A34: 29 | B34: Bruttoløn | C34: 27317.285 | D34: 27629.025 | E34: 27844.79 | F34: 28156.445 | G34: 28372.296 | O34: Lyngby-Tårbæk
B35: Egetbidrag | C35: 1456.0113 | D35: 1472.6271 | E35: 1484.1273 | F35: 1500.7385 | G35: 1512.2434 | O35: Rudersdal Rødovre
B36: Nettoløn | C36: 25861.273 | D36: 26156.398 | E36: 26360.663 | F36: 26655.707 | G36: 26860.053 | O36: Tårnby
B37: Arbejdsgiverbidrag | C37: 2914.7543 | D37: 2948.017 | E37: 2971.0391 | F37: 3004.2927 | G37: 3027.324 | O37: Vallensbæk
A38: 30 | B38: Bruttoløn | C38: 27770.978 | D38: 28066.121 | E38: 28270.552 | F38: 28565.684 | G38: 28770.03 | O38: Furesø
B39: Egetbidrag | C39: 1480.1931 | D39: 1495.9242 | E39: 1506.8204 | F39: 1522.551 | G39: 1533.4426 | O39: Hvidovre
B40: Nettoløn | C40: 26290.785 | D40: 26570.196 | E40: 26763.732 | F40: 27043.133 | G40: 27236.587
B41: Arbejdsgiverbidrag | C41: 2963.1634 | D41: 2994.6551 | E41: 3016.4679 | F41: 3047.9585 | G41: 3069.7622
A42: 31 | B42: Bruttoløn | C42: 28234.965 | D42: 28512.641 | E42: 28704.806 | F42: 28982.482 | G42: 29174.647
B43: Egetbidrag | C43: 1504.9236 | D43: 1519.7237 | E43: 1529.9662 | F43: 1544.7663 | G43: 1555.0087
B44: Nettoløn | C44: 26730.041 | D44: 26992.917 | E44: 27174.84 | F44: 27437.715 | G44: 27619.638
B45: Arbejdsgiverbidrag | C45: 3012.6707 | D45: 3042.2988 | E45: 3062.8028 | F45: 3092.4308 | G45: 3112.9348
B47: Ledende
A48: 39 | B48: Bruttoløn | C48: 32368.482 | D48: 32463.428 | E48: 32529.123 | F48: 32624.069 | G48: 32689.862
B49: Egetbidrag | C49: 1725.2401 | D49: 1730.3007 | E49: 1733.8023 | F49: 1738.8629 | G49: 1742.3696
B50: Nettoløn | C50: 30643.241 | D50: 30733.127 | E50: 30795.321 | F50: 30885.206 | G50: 30947.492
B51: Arbejdsgiverbidrag | C51: 3453.717 | D51: 3463.8477 | E51: 3470.8575 | F51: 3480.9882 | G51: 3488.0082

Sheet Løntabel oktober 2015 
A1: Interaktiv løntabel med fuld kittelkompensation til fuldtidsansatte
A2: Løn gældende pr. 1. oktober 2015
A4: Eventuelle personlige løntillæg reguleres med 1,18%
A6: Eget bidrag (brutto) til pension på 5,33%. Arbejdsgiverbidrag til pension på 10,67
K7: 23341.483 | L7: 23723.733 | M7: 23988.381 | N7: 24370.632 | O7: 24635.291
K8: =(C12-K7)/K7*100 -> 0.22 | L8: =(D12-L7)/L7*100 -> 0.2199778 | M8: =(E12-M7)/M7*100 -> 0.21997636 | N8: =(F12-N7)/N7*100 -> 0.22 | O8: =(G12-O7)/O7*100 -> 0.22
A9: Løntrin | C9: Grundsats | D9: Område 1 | E9: Område 2 | F9: Område 3 | G9: Område 4
B11: Ikke-uddannede
A12: 19 | B12: Bruttoløn | C12: 23392.834 | D12: 23775.92 | E12: 24041.15 | F12: 24424.247 | G12: 24689.488 | I12: Område 1 | J12: Område 2 | K12: Område 3 | L12: Område 4 | M12: Grundsats
B13: Egetbidrag | C13: =C12*0.0533 -> 1246.838 | D13: =D12*0.0533 -> 1267.2565 | E13: =E12*0.0533 -> 1281.3933 | F13: =F12*0.0533 -> 1301.8124 | G13: =G12*0.0533 -> 1315.9497 | I13: Aalborg | J13: Køge | K13: Allerød | L13: Albertslund | M13: Alle andre kommuner
B14: Nettoløn | C14: =C12-C13 -> 22145.996 | D14: =D12-D13 -> 22508.663 | E14: =E12-E13 -> 22759.757 | F14: =F12-F13 -> 23122.435 | G14: =G12-G13 -> 23373.539 | I14: Esbjerg | J14: Lejre | K14: Fredensborg | L14: Ballerup
B15: Arbejdsgiverbidrag | C15: =C12*0.1067 -> 2496.0154 | D15: =D12*0.1067 -> 2536.8907 | E15: =E12*0.1067 -> 2565.1907 | F15: =F12*0.1067 -> 2606.0672 | G15: =G12*0.1067 -> 2634.3684 | O15: =C12/37 -> 632.23875
A16: HK | I16: Faaborg-Midtfyn | J16: Roskilde | K16: Frederikssund | L16: Brøndby
B17: Uddannede | I17: Frederikshavn | J17: Solrød | K17: Gribskov | L17: Dragør
A18: 24 | B18: Bruttoløn | C18: 25248.039 | D18: 25628.766 | E18: 25892.396 | F18: 26273.123 | G18: 26536.65 | I18: Kalundborg | J18: Århus | K18: Halsnæs | L18: Egedal
B19: Egetbidrag | C19: =C18*0.0533 -> 1345.7205 | D19: =D18*0.0533 -> 1366.0132 | E19: =E18*0.0533 -> 1380.0647 | F19: =F18*0.0533 -> 1400.3575 | G19: =G18*0.0533 -> 1414.4034 | I19: Kerteminde | K19: Helsingør | L19: Frederiksberg
B20: Nettoløn | C20: =C18-C19 -> 23902.318 | D20: =D18-D19 -> 24262.753 | E20: =E18-E19 -> 24512.331 | F20: =F18-F19 -> 24872.765 | G20: =G18-G19 -> 25122.247
B21: Arbejdsgiverbidrag | C21: =C18*0.1067 -> 2693.9658 | D21: =D18*0.1067 -> 2734.5894 | E21: =E18*0.1067 -> 2762.7186 | F21: =F18*0.1067 -> 2803.3422 | G21: =G18*0.1067 -> 2831.4606 | I21: Nyborg | K21: Hillerød | L21: Gentofte
A22: HK | I22: Næstved | K22: Hørsholm | L22: Gladsaxe
A23: 25 | B23: Bruttoløn | C23: 25654.976 | D23: 26023.786 | E23: 26279.087 | F23: 26648.09 | G23: 26903.381 | I23: Odense | L23: Glostrup
B24: Egetbidrag | C24: =C23*0.0533 -> 1367.4102 | D24: =D23*0.0533 -> 1387.0678 | E24: =E23*0.0533 -> 1400.6753 | F24: =F23*0.0533 -> 1420.3432 | G24: =G23*0.0533 -> 1433.9502 | I24: Skanderborg | L24: Greve
B25: Nettoløn | C25: =C23-C24 -> 24287.565 | D25: =D23-D24 -> 24636.718 | E25: =E23-E24 -> 24878.412 | F25: =F23-F24 -> 25227.747 | G25: =G23-G24 -> 25469.431
B26: Arbejdsgiverbidrag | C26: =C23*0.1067 -> 2737.3859 | D26: =D23*0.1067 -> 2776.7379 | E26: =E23*0.1067 -> 2803.9786 | F26: =F23*0.1067 -> 2843.3512 | G26: =G23*0.1067 -> 2870.5907 | I26: Slagelse | L26: Herlev
A27: HK | I27: Sønderborg | L27: Høje-Tåstrup
A28: 26 | B28: Bruttoløn | C28: 26071.272 | D28: 26427.499 | E28: 26673.99 | F28: 27030.14 | G28: 27276.64 | L28: Ishøj
B29: Egetbidrag | C29: =C28*0.0533 -> 1389.5988 | D29: =D28*0.0533 -> 1408.5857 | E29: =E28*0.0533 -> 1421.7237 | F29: =F28*0.0533 -> 1440.7064 | G29: =G28*0.0533 -> 1453.8449 | L29: København
B30: Nettoløn | C30: =C28-C29 -> 24681.673 | D30: =D28-D29 -> 25018.913 | E30: =E28-E29 -> 25252.266 | F30: =F28-F29 -> 25589.433 | G30: =G28-G29 -> 25822.795 | L30: Lyngby-Tårbæk
B31: Arbejdsgiverbidrag | C31: =C28*0.1067 -> 2781.8047 | D31: =D28*0.1067 -> 2819.8141 | E31: =E28*0.1067 -> 2846.1147 | F31: =F28*0.1067 -> 2884.1159 | G31: =G28*0.1067 -> 2910.4175 | L31: Rudersdal Rødovre
A32: HK | L32: Tårnby
A33: 28 | B33: Bruttoløn | C33: 26932.33 | D33: 27260.274 | E33: 27487.292 | F33: 27815.235 | G33: 28042.167 | L33: Vallensbæk
B34: Egetbidrag | C34: =C33*0.0533 -> 1435.4932 | D34: =D33*0.0533 -> 1452.9726 | E34: =E33*0.0533 -> 1465.0727 | F34: =F33*0.0533 -> 1482.552 | G34: =G33*0.0533 -> 1494.6475 | L34: Furesø
B35: Nettoløn | C35: =C33-C34 -> 25496.837 | D35: =D33-D34 -> 25807.301 | E35: =E33-E34 -> 26022.219 | F35: =F33-F34 -> 26332.683 | G35: =G33-G34 -> 26547.52 | L35: Hvidovre
B36: Arbejdsgiverbidrag | C36: =C33*0.1067 -> 2873.6797 | D36: =D33*0.1067 -> 2908.6712 | E36: =E33*0.1067 -> 2932.894 | F36: =F33*0.1067 -> 2967.8856 | G36: =G33*0.1067 -> 2992.0993
A37: 29 | B37: Bruttoløn | C37: 27377.383 | D37: 27689.809 | E37: 27906.049 | F37: 28218.389 | G37: 28434.715
B38: Egetbidrag | C38: =C37*0.0533 -> 1459.2145 | D38: =D37*0.0533 -> 1475.8668 | E38: =E37*0.0533 -> 1487.3924 | F38: =F37*0.0533 -> 1504.0402 | G38: =G37*0.0533 -> 1515.5703
B39: Nettoløn | C39: =C37-C38 -> 25918.168 | D39: =D37-D38 -> 26213.942 | E39: =E37-E38 -> 26418.657 | F39: =F37-F38 -> 26714.349 | G39: =G37-G38 -> 26919.145
B40: Arbejdsgiverbidrag | C40: =C37*0.1067 -> 2921.1667 | D40: =D37*0.1067 -> 2954.5026 | E40: =E37*0.1067 -> 2977.5754 | F40: =F37*0.1067 -> 3010.9022 | G40: =G37*0.1067 -> 3033.9841
A41: 30 | B41: Bruttoløn | C41: 27832.08 | D41: 28127.866 | E41: 28332.747 | F41: 28628.528 | G41: 28833.324
B42: Egetbidrag | C42: =C41*0.0533 -> 1483.4499 | D42: =D41*0.0533 -> 1499.2153 | E42: =E41*0.0533 -> 1510.1354 | F42: =F41*0.0533 -> 1525.9006 | G42: =G41*0.0533 -> 1536.8162
B43: Nettoløn | C43: =C41-C42 -> 26348.63 | D43: =D41-D42 -> 26628.651 | E43: =E41-E42 -> 26822.612 | F43: =F41-F42 -> 27102.628 | G43: =G41-G42 -> 27296.508
B44: Arbejdsgiverbidrag | C44: =C41*0.1067 -> 2969.6829 | D44: =D41*0.1067 -> 3001.2433 | E44: =E41*0.1067 -> 3023.1041 | F44: =F41*0.1067 -> 3054.664 | G44: =G41*0.1067 -> 3076.5157
A45: HK
A46: 31 | B46: Bruttoløn | C46: 28297.082 | D46: 28575.368 | E46: 28767.956 | F46: 29046.243 | G46: 29238.831
B47: Egetbidrag | C47: =C46*0.0533 -> 1508.2345 | D47: =D46*0.0533 -> 1523.0671 | E47: =E46*0.0533 -> 1533.3321 | F47: =F46*0.0533 -> 1548.1648 | G47: =G46*0.0533 -> 1558.4297
B48: Nettoløn | C48: =C46-C47 -> 26788.847 | D48: =D46-D47 -> 27052.301 | E48: =E46-E47 -> 27234.624 | F48: =F46-F47 -> 27498.078 | G48: =G46-G47 -> 27680.402
B49: Arbejdsgiverbidrag | C49: =C46*0.1067 -> 3019.2986 | D49: =D46*0.1067 -> 3048.9918 | E49: =E46*0.1067 -> 3069.541 | F49: =F46*0.1067 -> 3099.2341 | G49: =G46*0.1067 -> 3119.7833
B51: Ledende
A52: 39 | B52: Bruttoløn | C52: 32439.692 | D52: 32534.847 | E52: 32600.68 | F52: 32695.842 | G52: 32761.779
B53: Egetbidrag | C53: =C52*0.0533 -> 1729.0356 | D53: =D52*0.0533 -> 1734.1074 | E53: =E52*0.0533 -> 1737.6162 | F53: =F52*0.0533 -> 1742.6884 | G53: =G52*0.0533 -> 1746.2028
B54: Nettoløn | C54: =C52-C53 -> 30710.657 | D54: =D52-D53 -> 30800.74 | E54: =E52-E53 -> 30863.064 | F54: =F52-F53 -> 30953.154 | G54: =G52-G53 -> 31015.576
B55: Arbejdsgiverbidrag | C55: =C52*0.1067 -> 3461.3152 | D55: =D52*0.1067 -> 3471.4682 | E55: =E52*0.1067 -> 3478.4926 | F55: =F52*0.1067 -> 3488.6464 | G55: =G52*0.1067 -> 3495.6818
A56: HK

Sheet Deltid oktober 2015
A1: Interaktiv løntabel med fuld kittelkompensation til deltidsansatte
A2: Løn gældende pr. 1. oktober 2015
A4: Eventuelle personlige løntillæg reguleres med 1,18% | I4: INDTAST ANTAL TIMER PR: UGE: | K4: 20
A6: Eget bidrag (brutto) til pension på 5,33%. Arbejdsgiverbidrag til pension på 10,67
A9: Løntrin | C9: Grundsats | D9: Område 1 | E9: Område 2 | F9: Område 3 | G9: Område 4
B11: Ikke-uddannede
A12: 19 | B12: Bruttoløn | C12: =(('[1]Løntabel 1 oktober 2015 '!C12/37)*$K$4)+(242.75*((37-$K$4)/37)) -> 12756.309 | D12: =(('[1]Løntabel 1 oktober 2015 '!D12/37)*$K$4)+(242.75*((37-$K$4)/37)) -> 12963.382 | E12: =(('[1]Løntabel 1 oktober 2015 '!E12/37)*$K$4)+(242.75*((37-$K$4)/37)) -> 13106.75 | F12: =(('[1]Løntabel 1 oktober 2015 '!F12/37)*$K$4)+(242.75*((37-$K$4)/37)) -> 13313.83 | G12: =(('[1]Løntabel 1 oktober 2015 '!G12/37)*$K$4)+(242.75*((37-$K$4)/37)) -> 13457.203 | I12: Område 1 | J12: Område 2 | K12: Område 3 | L12: Område 4 | M12: Grundsats
B13: Egetbidrag | C13: =C12*0.0533 -> 679.91126 | D13: =D12*0.0533 -> 690.94828 | E13: =E12*0.0533 -> 698.58978 | F13: =F12*0.0533 -> 709.62711 | G13: =G12*0.0533 -> 717.26893 | I13: Aalborg | J13: Køge | K13: Allerød | L13: Albertslund | M13: Alle andre kommuner
B14: Nettoløn | C14: =C12-C13 -> 12076.398 | D14: =D12-D13 -> 12272.434 | E14: =E12-E13 -> 12408.16 | F14: =F12-F13 -> 12604.202 | G14: =G12-G13 -> 12739.934 | I14: Esbjerg | J14: Lejre | K14: Fredensborg | L14: Ballerup
B15: Arbejdsgiverbidrag | C15: =C12*0.1067 -> 1361.0981 | D15: =D12*0.1067 -> 1383.1929 | E15: =E12*0.1067 -> 1398.4902 | F15: =F12*0.1067 -> 1420.5856 | G15: =G12*0.1067 -> 1435.8836
A16: HK | I16: Faaborg-Midtfyn | J16: Roskilde | K16: Frederikssund | L16: Brøndby
B17: Uddannede | I17: Frederikshavn | J17: Solrød | K17: Gribskov | L17: Dragør
A18: 24 | B18: Bruttoløn | C18: =(('[1]Løntabel 1 oktober 2015 '!C18/37)*$K$4)+(242.75*((37-$K$4)/37)) -> 13759.122 | D18: =(('[1]Løntabel 1 oktober 2015 '!D18/37)*$K$4)+(242.75*((37-$K$4)/37)) -> 13964.921 | E18: =(('[1]Løntabel 1 oktober 2015 '!E18/37)*$K$4)+(242.75*((37-$K$4)/37)) -> 14107.423 | F18: =(('[1]Løntabel 1 oktober 2015 '!F18/37)*$K$4)+(242.75*((37-$K$4)/37)) -> 14313.222 | G18: =(('[1]Løntabel 1 oktober 2015 '!G18/37)*$K$4)+(242.75*((37-$K$4)/37)) -> 14455.669 | I18: Kalundborg | J18: Århus | K18: Halsnæs | L18: Egedal
B19: Egetbidrag | C19: =C18*0.0533 -> 733.36122 | D19: =D18*0.0533 -> 744.33029 | E19: =E18*0.0533 -> 751.92566 | F19: =F18*0.0533 -> 762.89472 | G19: =G18*0.0533 -> 770.48715 | I19: Kerteminde | K19: Helsingør | L19: Frederiksberg
B20: Nettoløn | C20: =C18-C19 -> 13025.761 | D20: =D18-D19 -> 13220.591 | E20: =E18-E19 -> 13355.498 | F20: =F18-F19 -> 13550.327 | G20: =G18-G19 -> 13685.182
B21: Arbejdsgiverbidrag | C21: =C18*0.1067 -> 1468.0984 | D21: =D18*0.1067 -> 1490.0571 | E21: =E18*0.1067 -> 1505.2621 | F21: =F18*0.1067 -> 1527.2208 | G21: =G18*0.1067 -> 1542.4199 | I21: Nyborg | K21: Hillerød | L21: Gentofte
A22: HK | I22: Næstved | K22: Hørsholm | L22: Gladsaxe
A23: 25 | B23: Bruttoløn | C23: =(('[1]Løntabel 1 oktober 2015 '!C23/37)*$K$4)+(242.75*((37-$K$4)/37)) -> 13979.088 | D23: =(('[1]Løntabel 1 oktober 2015 '!D23/37)*$K$4)+(242.75*((37-$K$4)/37)) -> 14178.445 | E23: =(('[1]Løntabel 1 oktober 2015 '!E23/37)*$K$4)+(242.75*((37-$K$4)/37)) -> 14316.446 | F23: =(('[1]Løntabel 1 oktober 2015 '!F23/37)*$K$4)+(242.75*((37-$K$4)/37)) -> 14515.907 | G23: =(('[1]Løntabel 1 oktober 2015 '!G23/37)*$K$4)+(242.75*((37-$K$4)/37)) -> 14653.902 | I23: Odense | L23: Glostrup
B24: Egetbidrag | C24: =C23*0.0533 -> 745.0854 | D24: =D23*0.0533 -> 755.71112 | E24: =E23*0.0533 -> 763.06655 | F24: =F23*0.0533 -> 773.69783 | G24: =G23*0.0533 -> 781.05297 | I24: Skanderborg | L24: Greve
B25: Nettoløn | C25: =C23-C24 -> 13234.003 | D25: =D23-D24 -> 13422.734 | E25: =E23-E24 -> 13553.379 | F25: =F23-F24 -> 13742.209 | G25: =G23-G24 -> 13872.849
B26: Arbejdsgiverbidrag | C26: =C23*0.1067 -> 1491.5687 | D26: =D23*0.1067 -> 1512.8401 | E26: =E23*0.1067 -> 1527.5647 | F26: =F23*0.1067 -> 1548.8473 | G26: =G23*0.1067 -> 1563.5713 | I26: Slagelse | L26: Herlev
A27: HK | I27: Sønderborg | L27: Høje-Tåstrup
A28: 26 | B28: Bruttoløn | C28: =(('[1]Løntabel 1 oktober 2015 '!C28/37)*$K$4)+(242.75*((37-$K$4)/37)) -> 14204.113 | D28: =(('[1]Løntabel 1 oktober 2015 '!D28/37)*$K$4)+(242.75*((37-$K$4)/37)) -> 14396.668 | E28: =(('[1]Løntabel 1 oktober 2015 '!E28/37)*$K$4)+(242.75*((37-$K$4)/37)) -> 14529.907 | F28: =(('[1]Løntabel 1 oktober 2015 '!F28/37)*$K$4)+(242.75*((37-$K$4)/37)) -> 14722.42 | G28: =(('[1]Løntabel 1 oktober 2015 '!G28/37)*$K$4)+(242.75*((37-$K$4)/37)) -> 14855.663 | L28: Ishøj
B29: Egetbidrag | C29: =C28*0.0533 -> 757.07923 | D29: =D28*0.0533 -> 767.34241 | E29: =E28*0.0533 -> 774.44403 | F29: =F28*0.0533 -> 784.70499 | G29: =G28*0.0533 -> 791.80686 | L29: København
B30: Nettoløn | C30: =C28-C29 -> 13447.034 | D30: =D28-D29 -> 13629.326 | E30: =E28-E29 -> 13755.463 | F30: =F28-F29 -> 13937.715 | G30: =G28-G29 -> 14063.857 | L30: Lyngby-Tårbæk
B31: Arbejdsgiverbidrag | C31: =C28*0.1067 -> 1515.5789 | D31: =D28*0.1067 -> 1536.1245 | E31: =E28*0.1067 -> 1550.3411 | F31: =F28*0.1067 -> 1570.8822 | G31: =G28*0.1067 -> 1585.0993 | L31: Rudersdal Rødovre
A32: HK | L32: Tårnby
A33: 28 | B33: Bruttoløn | C33: =(('[1]Løntabel 1 oktober 2015 '!C33/37)*$K$4)+(242.75*((37-$K$4)/37)) -> 14669.55 | D33: =(('[1]Løntabel 1 oktober 2015 '!D33/37)*$K$4)+(242.75*((37-$K$4)/37)) -> 14846.817 | E33: =(('[1]Løntabel 1 oktober 2015 '!E33/37)*$K$4)+(242.75*((37-$K$4)/37)) -> 14969.529 | F33: =(('[1]Løntabel 1 oktober 2015 '!F33/37)*$K$4)+(242.75*((37-$K$4)/37)) -> 15146.796 | G33: =(('[1]Løntabel 1 oktober 2015 '!G33/37)*$K$4)+(242.75*((37-$K$4)/37)) -> 15269.462 | L33: Vallensbæk
B34: Egetbidrag | C34: =C33*0.0533 -> 781.88703 | D34: =D33*0.0533 -> 791.33535 | E34: =E33*0.0533 -> 797.87592 | F34: =F33*0.0533 -> 807.32423 | G34: =G33*0.0533 -> 813.86233 | L34: Furesø
B35: Nettoløn | C35: =C33-C34 -> 13887.663 | D35: =D33-D34 -> 14055.482 | E35: =E33-E34 -> 14171.653 | F35: =F33-F34 -> 14339.472 | G35: =G33-G34 -> 14455.6 | L35: Hvidovre
B36: Arbejdsgiverbidrag | C36: =C33*0.1067 -> 1565.241 | D36: =D33*0.1067 -> 1584.1554 | E36: =E33*0.1067 -> 1597.2488 | F36: =F33*0.1067 -> 1616.1631 | G36: =G33*0.1067 -> 1629.2516
A37: 29 | B37: Bruttoløn | C37: =(('[1]Løntabel 1 oktober 2015 '!C37/37)*$K$4)+(242.75*((37-$K$4)/37)) -> 14910.119 | D37: =(('[1]Løntabel 1 oktober 2015 '!D37/37)*$K$4)+(242.75*((37-$K$4)/37)) -> 15078.998 | E37: =(('[1]Løntabel 1 oktober 2015 '!E37/37)*$K$4)+(242.75*((37-$K$4)/37)) -> 15195.885 | F37: =(('[1]Løntabel 1 oktober 2015 '!F37/37)*$K$4)+(242.75*((37-$K$4)/37)) -> 15364.717 | G37: =(('[1]Løntabel 1 oktober 2015 '!G37/37)*$K$4)+(242.75*((37-$K$4)/37)) -> 15481.65
B38: Egetbidrag | C38: =C37*0.0533 -> 794.70935 | D38: =D37*0.0533 -> 803.7106 | E38: =E37*0.0533 -> 809.94065 | F38: =F37*0.0533 -> 818.93943 | G38: =G37*0.0533 -> 825.17195
B39: Nettoløn | C39: =C37-C38 -> 14115.41 | D39: =D37-D38 -> 14275.288 | E39: =E37-E38 -> 14385.944 | F39: =F37-F38 -> 14545.778 | G39: =G37-G38 -> 14656.478
B40: Arbejdsgiverbidrag | C40: =C37*0.1067 -> 1590.9097 | D40: =D37*0.1067 -> 1608.9291 | E40: =E37*0.1067 -> 1621.4009 | F40: =F37*0.1067 -> 1639.4153 | G40: =G37*0.1067 -> 1651.8921
A41: 30 | B41: Bruttoløn | C41: =(('[1]Løntabel 1 oktober 2015 '!C41/37)*$K$4)+(242.75*((37-$K$4)/37)) -> 15155.901 | D41: =(('[1]Løntabel 1 oktober 2015 '!D41/37)*$K$4)+(242.75*((37-$K$4)/37)) -> 15315.786 | E41: =(('[1]Løntabel 1 oktober 2015 '!E41/37)*$K$4)+(242.75*((37-$K$4)/37)) -> 15426.532 | F41: =(('[1]Løntabel 1 oktober 2015 '!F41/37)*$K$4)+(242.75*((37-$K$4)/37)) -> 15586.414 | G41: =(('[1]Løntabel 1 oktober 2015 '!G41/37)*$K$4)+(242.75*((37-$K$4)/37)) -> 15697.114
B42: Egetbidrag | C42: =C41*0.0533 -> 807.80954 | D42: =D41*0.0533 -> 816.33138 | E42: =E41*0.0533 -> 822.23418 | F42: =F41*0.0533 -> 830.75587 | G42: =G41*0.0533 -> 836.65619
B43: Nettoløn | C43: =C41-C42 -> 14348.092 | D43: =D41-D42 -> 14499.454 | E43: =E41-E42 -> 14604.298 | F43: =F41-F42 -> 14755.658 | G43: =G41-G42 -> 14860.458
B44: Arbejdsgiverbidrag | C44: =C41*0.1067 -> 1617.1347 | D44: =D41*0.1067 -> 1634.1943 | E44: =E41*0.1067 -> 1646.011 | F44: =F41*0.1067 -> 1663.0704 | G44: =G41*0.1067 -> 1674.8821
A45: HK
A46: 31 | B46: Bruttoløn | C46: =(('[1]Løntabel 1 oktober 2015 '!C46/37)*$K$4)+(242.75*((37-$K$4)/37)) -> 15407.254 | D46: =(('[1]Løntabel 1 oktober 2015 '!D46/37)*$K$4)+(242.75*((37-$K$4)/37)) -> 15557.679 | E46: =(('[1]Løntabel 1 oktober 2015 '!E46/37)*$K$4)+(242.75*((37-$K$4)/37)) -> 15661.781 | F46: =(('[1]Løntabel 1 oktober 2015 '!F46/37)*$K$4)+(242.75*((37-$K$4)/37)) -> 15812.206 | G46: =(('[1]Løntabel 1 oktober 2015 '!G46/37)*$K$4)+(242.75*((37-$K$4)/37)) -> 15916.307
B47: Egetbidrag | C47: =C46*0.0533 -> 821.20662 | D47: =D46*0.0533 -> 829.22428 | E47: =E46*0.0533 -> 834.7729 | F47: =F46*0.0533 -> 842.79057 | G47: =G46*0.0533 -> 848.33919
B48: Nettoløn | C48: =C46-C47 -> 14586.047 | D48: =D46-D47 -> 14728.455 | E48: =E46-E47 -> 14827.008 | F48: =F46-F47 -> 14969.415 | G48: =G46-G47 -> 15067.968
B49: Arbejdsgiverbidrag | C49: =C46*0.1067 -> 1643.954 | D49: =D46*0.1067 -> 1660.0043 | E49: =E46*0.1067 -> 1671.112 | F49: =F46*0.1067 -> 1687.1624 | G49: =G46*0.1067 -> 1698.27
B51: Ledende
A52: 39 | B52: Bruttoløn | C52: =(('[1]Løntabel 1 oktober 2015 '!C52/37)*$K$4)+(242.75*((37-$K$4)/37)) -> 17646.503 | D52: =(('[1]Løntabel 1 oktober 2015 '!D52/37)*$K$4)+(242.75*((37-$K$4)/37)) -> 17697.938 | E52: =(('[1]Løntabel 1 oktober 2015 '!E52/37)*$K$4)+(242.75*((37-$K$4)/37)) -> 17733.523 | F52: =(('[1]Løntabel 1 oktober 2015 '!F52/37)*$K$4)+(242.75*((37-$K$4)/37)) -> 17784.962 | G52: =(('[1]Løntabel 1 oktober 2015 '!G52/37)*$K$4)+(242.75*((37-$K$4)/37)) -> 17820.604
B53: Egetbidrag | C53: =C52*0.0533 -> 940.55859 | D53: =D52*0.0533 -> 943.30008 | E53: =E52*0.0533 -> 945.19677 | F53: =F52*0.0533 -> 947.93848 | G53: =G52*0.0533 -> 949.83817
B54: Nettoløn | C54: =C52-C53 -> 16705.944 | D54: =D52-D53 -> 16754.638 | E54: =E52-E53 -> 16788.326 | F54: =F52-F53 -> 16837.024 | G54: =G52-G53 -> 16870.765
B55: Arbejdsgiverbidrag | C55: =C52*0.1067 -> 1882.8818 | D55: =D52*0.1067 -> 1888.3699 | E55: =E52*0.1067 -> 1892.1669 | F55: =F52*0.1067 -> 1897.6555 | G55: =G52*0.1067 -> 1901.4584
A56: HK

Sheet Timelønnede oktober 2015
A1: Interaktiv løntabel med fuld kittelkompensation til fuldtidsansatte
A2: Løn gældende pr. 1. oktober 2015
A4: Eventuelle personlige løntillæg reguleres med 1,18%
A6: Eget bidrag (brutto) til pension på 5,33%. Arbejdsgiverbidrag til pension på 10,67
A9: Løntrin | C9: Grundsats | D9: Område 1 | E9: Område 2 | F9: Område 3 | G9: Område 4
B11: Ikke-uddannede | J11: =IF(#REF!>=8.1,0,#REF!) -> #REF!
A12: 19 | B12: Bruttoløn | C12: ='[2]Løntabel 1.10.2015'!C12/160.33 -> 145.90428 | D12: ='[2]Løntabel 1.10.2015'!D12/160.33 -> 148.29364 | E12: ='[2]Løntabel 1.10.2015'!E12/160.33 -> 149.94792 | F12: ='[2]Løntabel 1.10.2015'!F12/160.33 -> 152.33735 | G12: ='[2]Løntabel 1.10.2015'!G12/160.33 -> 153.99169
B13: Egetbidrag | C13: =C12*0.0533 -> 7.7766983 | D13: =D12*0.0533 -> 7.9040512 | E13: =E12*0.0533 -> 7.9922241 | F13: =F12*0.0533 -> 8.1195807 | G13: =G12*0.0533 -> 8.2077573
B14: Nettoløn | C14: =C12-C13 -> 138.12759 | D14: =D12-D13 -> 140.38959 | E14: =E12-E13 -> 141.9557 | F14: =F12-F13 -> 144.21777 | G14: =G12-G13 -> 145.78394
B15: Arbejdsgiverbidrag | C15: =C12*0.1067 -> 15.567987 | D15: =D12*0.1067 -> 15.822932 | E15: =E12*0.1067 -> 15.999443 | F15: =F12*0.1067 -> 16.254395 | G15: =G12*0.1067 -> 16.430914
B17: Uddannede
A18: 24 | B18: Bruttoløn | C18: ='[2]Løntabel 1.10.2015'!C17/160.33 -> 157.47545 | D18: ='[2]Løntabel 1.10.2015'!D17/160.33 -> 159.8501 | E18: ='[2]Løntabel 1.10.2015'!E17/160.33 -> 161.49439 | F18: ='[2]Løntabel 1.10.2015'!F17/160.33 -> 163.86904 | G18: ='[2]Løntabel 1.10.2015'!G17/160.33 -> 165.51269
B19: Egetbidrag | C19: =C18*0.0533 -> 8.3934415 | D19: =D18*0.0533 -> 8.5200102 | E19: =E18*0.0533 -> 8.607651 | F19: =F18*0.0533 -> 8.7342197 | G19: =G18*0.0533 -> 8.8218265 | L19: Område 1 | M19: Område 2 | N19: Område 3 | O19: Område 4 | P19: Grundsats
B20: Nettoløn | C20: =C18-C19 -> 149.08201 | D20: =D18-D19 -> 151.33009 | E20: =E18-E19 -> 152.88674 | F20: =F18-F19 -> 155.13482 | G20: =G18-G19 -> 156.69087 | L20: Aalborg | M20: Køge | N20: Allerød | O20: Albertslund | P20: Alle andre kommuner
B21: Arbejdsgiverbidrag | C21: =C18*0.1067 -> 16.802631 | D21: =D18*0.1067 -> 17.056006 | E21: =E18*0.1067 -> 17.231451 | F21: =F18*0.1067 -> 17.484826 | G21: =G18*0.1067 -> 17.660204 | L21: Esbjerg | M21: Lejre | N21: Fredensborg | O21: Ballerup
A22: 25 | B22: Bruttoløn | C22: ='[2]Løntabel 1.10.2015'!C21/160.33 -> 160.01357 | D22: ='[2]Løntabel 1.10.2015'!D21/160.33 -> 162.31389 | E22: ='[2]Løntabel 1.10.2015'!E21/160.33 -> 163.90624 | F22: ='[2]Løntabel 1.10.2015'!F21/160.33 -> 166.20776 | G22: ='[2]Løntabel 1.10.2015'!G21/160.33 -> 167.80004 | L22: Faaborg-Midtfyn | M22: Roskilde | N22: Frederikssund | O22: Brøndby
B23: Egetbidrag | C23: =C22*0.0533 -> 8.5287232 | D23: =D22*0.0533 -> 8.6513302 | E23: =E22*0.0533 -> 8.7362024 | F23: =F22*0.0533 -> 8.8588736 | G23: =G22*0.0533 -> 8.9437423 | L23: Frederikshavn | M23: Solrød | N23: Gribskov | O23: Dragør
B24: Nettoløn | C24: =C22-C23 -> 151.48485 | D24: =D22-D23 -> 153.66256 | E24: =E22-E23 -> 155.17003 | F24: =F22-F23 -> 157.34889 | G24: =G22-G23 -> 158.8563 | L24: Kalundborg | M24: Århus | N24: Halsnæs | O24: Egedal
B25: Arbejdsgiverbidrag | C25: =C22*0.1067 -> 17.073448 | D25: =D22*0.1067 -> 17.318892 | E25: =E22*0.1067 -> 17.488795 | F25: =F22*0.1067 -> 17.734368 | G25: =G22*0.1067 -> 17.904265 | L25: Kerteminde | N25: Helsingør | O25: Frederiksberg
A26: 26 | B26: Bruttoløn | C26: ='[2]Løntabel 1.10.2015'!C25/160.33 -> 162.61007 | D26: ='[2]Løntabel 1.10.2015'!D25/160.33 -> 164.8319 | E26: ='[2]Løntabel 1.10.2015'!E25/160.33 -> 166.3693 | F26: ='[2]Løntabel 1.10.2015'!F25/160.33 -> 168.59065 | G26: ='[2]Løntabel 1.10.2015'!G25/160.33 -> 170.12811 | L26: Nyborg | N26: Hillerød | O26: Gentofte
B27: Egetbidrag | C27: =C26*0.0533 -> 8.6671165 | D27: =D26*0.0533 -> 8.7855403 | E27: =E26*0.0533 -> 8.8674837 | F27: =F26*0.0533 -> 8.9858819 | G27: =G26*0.0533 -> 9.0678283 | L27: Næstved | N27: Hørsholm | O27: Gladsaxe
B28: Nettoløn | C28: =C26-C27 -> 153.94295 | D28: =D26-D27 -> 156.04636 | E28: =E26-E27 -> 157.50182 | F28: =F26-F27 -> 159.60477 | G28: =G26-G27 -> 161.06028 | L28: Odense | O28: Glostrup
B29: Arbejdsgiverbidrag | C29: =C26*0.1067 -> 17.350494 | D29: =D26*0.1067 -> 17.587564 | E29: =E26*0.1067 -> 17.751604 | F29: =F26*0.1067 -> 17.988623 | G29: =G26*0.1067 -> 18.152669 | L29: Skanderborg | O29: Greve
A30: 28 | B30: Bruttoløn | C30: ='[2]Løntabel 1.10.2015'!C29/160.33 -> 167.98061 | D30: ='[2]Løntabel 1.10.2015'!D29/160.33 -> 170.02603 | E30: ='[2]Løntabel 1.10.2015'!E29/160.33 -> 171.44198 | F30: ='[2]Løntabel 1.10.2015'!F29/160.33 -> 173.4874 | G30: ='[2]Løntabel 1.10.2015'!G29/160.33 -> 174.90281 | L30: Slagelse | O30: Herlev
B31: Egetbidrag | C31: =C30*0.0533 -> 8.9533663 | D31: =D30*0.0533 -> 9.0623876 | E31: =E30*0.0533 -> 9.1378573 | F31: =F30*0.0533 -> 9.2468786 | G31: =G30*0.0533 -> 9.3223197 | L31: Sønderborg | O31: Høje-Tåstrup
B32: Nettoløn | C32: =C30-C31 -> 159.02724 | D32: =D30-D31 -> 160.96365 | E32: =E30-E31 -> 162.30412 | F32: =F30-F31 -> 164.24052 | G32: =G30-G31 -> 165.58049 | O32: Ishøj
B33: Arbejdsgiverbidrag | C33: =C30*0.1067 -> 17.923531 | D33: =D30*0.1067 -> 18.141778 | E33: =E30*0.1067 -> 18.292859 | F33: =F30*0.1067 -> 18.511106 | G33: =G30*0.1067 -> 18.66213 | O33: København
A34: 29 | B34: Bruttoløn | C34: ='[2]Løntabel 1.10.2015'!C33/160.33 -> 170.75646 | D34: ='[2]Løntabel 1.10.2015'!D33/160.33 -> 172.7051 | E34: ='[2]Løntabel 1.10.2015'!E33/160.33 -> 174.05382 | F34: ='[2]Løntabel 1.10.2015'!F33/160.33 -> 176.00193 | G34: ='[2]Løntabel 1.10.2015'!G33/160.33 -> 177.35118 | O34: Lyngby-Tårbæk
B35: Egetbidrag | C35: =C34*0.0533 -> 9.1013192 | D35: =D34*0.0533 -> 9.205182 | E35: =E34*0.0533 -> 9.2770686 | F35: =F34*0.0533 -> 9.3809029 | G35: =G34*0.0533 -> 9.4528181 | O35: Rudersdal Rødovre
B36: Nettoløn | C36: =C34-C35 -> 161.65514 | D36: =D34-D35 -> 163.49992 | E36: =E34-E35 -> 164.77675 | F36: =F34-F35 -> 166.62103 | G36: =G34-G35 -> 167.89837 | O36: Tårnby
B37: Arbejdsgiverbidrag | C37: =C34*0.1067 -> 18.219714 | D37: =D34*0.1067 -> 18.427635 | E37: =E34*0.1067 -> 18.571543 | F37: =F34*0.1067 -> 18.779406 | G37: =G34*0.1067 -> 18.923371 | O37: Vallensbæk
A38: 30 | B38: Bruttoløn | C38: ='[2]Løntabel 1.10.2015'!C37/160.33 -> 173.59247 | D38: ='[2]Løntabel 1.10.2015'!D37/160.33 -> 175.43732 | E38: ='[2]Løntabel 1.10.2015'!E37/160.33 -> 176.7152 | F38: ='[2]Løntabel 1.10.2015'!F37/160.33 -> 178.56002 | G38: ='[2]Løntabel 1.10.2015'!G37/160.33 -> 179.83736 | O38: Furesø
B39: Egetbidrag | C39: =C38*0.0533 -> 9.2524784 | D39: =D38*0.0533 -> 9.3508093 | E39: =E38*0.0533 -> 9.4189199 | F39: =F38*0.0533 -> 9.5172492 | G39: =G38*0.0533 -> 9.5853313 | O39: Hvidovre
B40: Nettoløn | C40: =C38-C39 -> 164.33999 | D40: =D38-D39 -> 166.08651 | E40: =E38-E39 -> 167.29628 | F40: =F38-F39 -> 169.04277 | G40: =G38-G39 -> 170.25203
B41: Arbejdsgiverbidrag | C41: =C38*0.1067 -> 18.522316 | D41: =D38*0.1067 -> 18.719162 | E41: =E38*0.1067 -> 18.855511 | F41: =F38*0.1067 -> 19.052354 | G41: =G38*0.1067 -> 19.188646
A42: 31 | B42: Bruttoløn | C42: ='[2]Løntabel 1.10.2015'!C41/160.33 -> 176.49274 | D42: ='[2]Løntabel 1.10.2015'!D41/160.33 -> 178.22846 | E42: ='[2]Løntabel 1.10.2015'!E41/160.33 -> 179.42965 | F42: ='[2]Løntabel 1.10.2015'!F41/160.33 -> 181.16537 | G42: ='[2]Løntabel 1.10.2015'!G41/160.33 -> 182.36656
B43: Egetbidrag | C43: =C42*0.0533 -> 9.4070633 | D43: =D42*0.0533 -> 9.4995767 | E43: =E42*0.0533 -> 9.5636006 | F43: =F42*0.0533 -> 9.656114 | G43: =G42*0.0533 -> 9.7201379
B44: Nettoløn | C44: =C42-C43 -> 167.08568 | D44: =D42-D43 -> 168.72888 | E44: =E42-E43 -> 169.86605 | F44: =F42-F43 -> 171.50925 | G44: =G42-G43 -> 172.64643
B45: Arbejdsgiverbidrag | C45: =C42*0.1067 -> 18.831776 | D45: =D42*0.1067 -> 19.016976 | E45: =E42*0.1067 -> 19.145144 | F45: =F42*0.1067 -> 19.330345 | G45: =G42*0.1067 -> 19.458512
B47: Ledende
A48: 39 | B48: Bruttoløn | C48: ='[2]Løntabel 1.10.2015'!C47/160.33 -> 202.33077 | D48: ='[2]Løntabel 1.10.2015'!D47/160.33 -> 202.92426 | E48: ='[2]Løntabel 1.10.2015'!E47/160.33 -> 203.33487 | F48: ='[2]Løntabel 1.10.2015'!F47/160.33 -> 203.92841 | G48: ='[2]Løntabel 1.10.2015'!G47/160.33 -> 204.33967
B49: Egetbidrag | C49: =C48*0.0533 -> 10.78423 | D49: =D48*0.0533 -> 10.815863 | E49: =E48*0.0533 -> 10.837749 | F49: =F48*0.0533 -> 10.869384 | G49: =G48*0.0533 -> 10.891304
B50: Nettoløn | C50: =C48-C49 -> 191.54654 | D50: =D48-D49 -> 192.1084 | E50: =E48-E49 -> 192.49712 | F50: =F48-F49 -> 193.05903 | G50: =G48-G49 -> 193.44837
B51: Arbejdsgiverbidrag | C51: =C48*0.1067 -> 21.588693 | D51: =D48*0.1067 -> 21.652019 | E51: =E48*0.1067 -> 21.695831 | F51: =F48*0.1067 -> 21.759162 | G51: =G48*0.1067 -> 21.803043

Sheet Løntabel april 2016
A1: Interaktiv løntabel med fuld kittelkompensation til fuldtidsansatte
A2: Løn gældende pr. 1. april 2016
A4: Eventuelle personlige løntillæg reguleres med: | D4: 0.015
A5: Egetbidrag pension: | D5: 0.055
A6: Arbejdsgiverbidrag pension: | D6: 0.11
A9: Løntrin | C9: Grundsats | D9: Område 1 | E9: Område 2 | F9: Område 3 | G9: Område 4
B11: Ikke-uddannede
A12: 19 | B12: Bruttoløn | C12: ='Løntabel oktober 2015 '!C12*(1+$D$4) -> 23743.726 | D12: ='Løntabel oktober 2015 '!D12*(1+$D$4) -> 24132.559 | E12: ='Løntabel oktober 2015 '!E12*(1+$D$4) -> 24401.767 | F12: ='Løntabel oktober 2015 '!F12*(1+$D$4) -> 24790.611 | G12: ='Løntabel oktober 2015 '!G12*(1+$D$4) -> 25059.831 | I12: Område 1 | J12: Område 2 | K12: Område 3 | L12: Område 4 | M12: Grundsats
B13: Egetbidrag | C13: =C12*$D$5 -> 1305.9049 | D13: =D12*$D$5 -> 1327.2907 | E13: =E12*$D$5 -> 1342.0972 | F13: =F12*$D$5 -> 1363.4836 | G13: =G12*$D$5 -> 1378.2907 | I13: Aalborg | J13: Køge | K13: Allerød | L13: Albertslund | M13: Alle andre kommuner
B14: Nettoløn | C14: =C12-C13 -> 22437.821 | D14: =D12-D13 -> 22805.268 | E14: =E12-E13 -> 23059.67 | F14: =F12-F13 -> 23427.127 | G14: =G12-G13 -> 23681.54 | I14: Esbjerg | J14: Lejre | K14: Fredensborg | L14: Ballerup
B15: Arbejdsgiverbidrag | C15: =C12*$D$6 -> 2611.8099 | D15: =D12*$D$6 -> 2654.5815 | E15: =E12*$D$6 -> 2684.1944 | F15: =F12*$D$6 -> 2726.9672 | G15: =G12*$D$6 -> 2756.5814
A16: HK | I16: Faaborg-Midtfyn | J16: Roskilde | K16: Frederikssund | L16: Brøndby
B17: Uddannede | I17: Frederikshavn | J17: Solrød | K17: Gribskov | L17: Dragør
A18: 24 | B18: Bruttoløn | C18: ='Løntabel oktober 2015 '!C18*(1+'Løntabel april 2016'!$D$4) -> 25626.759 | D18: ='Løntabel oktober 2015 '!D18*(1+'Løntabel april 2016'!$D$4) -> 26013.198 | E18: ='Løntabel oktober 2015 '!E18*(1+'Løntabel april 2016'!$D$4) -> 26280.781 | F18: ='Løntabel oktober 2015 '!F18*(1+'Løntabel april 2016'!$D$4) -> 26667.22 | G18: ='Løntabel oktober 2015 '!G18*(1+'Løntabel april 2016'!$D$4) -> 26934.7 | I18: Kalundborg | J18: Århus | K18: Halsnæs | L18: Egedal
B19: Egetbidrag | C19: =C18*$D$5 -> 1409.4718 | D19: =D18*$D$5 -> 1430.7259 | E19: =E18*$D$5 -> 1445.443 | F19: =F18*$D$5 -> 1466.6971 | G19: =G18*$D$5 -> 1481.4085 | I19: Kerteminde | K19: Helsingør | L19: Frederiksberg
B20: Nettoløn | C20: =C18-C19 -> 24217.288 | D20: =D18-D19 -> 24582.472 | E20: =E18-E19 -> 24835.338 | F20: =F18-F19 -> 25200.523 | G20: =G18-G19 -> 25453.291
B21: Arbejdsgiverbidrag | C21: =C18*$D$6 -> 2818.9435 | D21: =D18*$D$6 -> 2861.4518 | E21: =E18*$D$6 -> 2890.886 | F21: =F18*$D$6 -> 2933.3942 | G21: =G18*$D$6 -> 2962.817 | I21: Nyborg | K21: Hillerød | L21: Gentofte
A22: HK | I22: Næstved | K22: Hørsholm | L22: Gladsaxe
A23: 25 | B23: Bruttoløn | C23: ='Løntabel oktober 2015 '!C23*(1+'Løntabel april 2016'!$D$4) -> 26039.8 | D23: ='Løntabel oktober 2015 '!D23*(1+'Løntabel april 2016'!$D$4) -> 26414.143 | E23: ='Løntabel oktober 2015 '!E23*(1+'Løntabel april 2016'!$D$4) -> 26673.273 | F23: ='Løntabel oktober 2015 '!F23*(1+'Løntabel april 2016'!$D$4) -> 27047.811 | G23: ='Løntabel oktober 2015 '!G23*(1+'Løntabel april 2016'!$D$4) -> 27306.932 | I23: Odense | L23: Glostrup
B24: Egetbidrag | C24: =C23*$D$5 -> 1432.189 | D24: =D23*$D$5 -> 1452.7778 | E24: =E23*$D$5 -> 1467.03 | F24: =F23*$D$5 -> 1487.6296 | G24: =G23*$D$5 -> 1501.8812 | I24: Skanderborg | L24: Greve
B25: Nettoløn | C25: =C23-C24 -> 24607.611 | D25: =D23-D24 -> 24961.365 | E25: =E23-E24 -> 25206.243 | F25: =F23-F24 -> 25560.182 | G25: =G23-G24 -> 25805.05
B26: Arbejdsgiverbidrag | C26: =C23*$D$6 -> 2864.378 | D26: =D23*$D$6 -> 2905.5557 | E26: =E23*$D$6 -> 2934.0601 | F26: =F23*$D$6 -> 2975.2592 | G26: =G23*$D$6 -> 3003.7625 | I26: Slagelse | L26: Herlev
A27: HK | I27: Sønderborg | L27: Høje-Tåstrup
A28: 26 | B28: Bruttoløn | C28: ='Løntabel oktober 2015 '!C28*(1+'Løntabel april 2016'!$D$4) -> 26462.341 | D28: ='Løntabel oktober 2015 '!D28*(1+'Løntabel april 2016'!$D$4) -> 26823.911 | E28: ='Løntabel oktober 2015 '!E28*(1+'Løntabel april 2016'!$D$4) -> 27074.1 | F28: ='Løntabel oktober 2015 '!F28*(1+'Løntabel april 2016'!$D$4) -> 27435.592 | G28: ='Løntabel oktober 2015 '!G28*(1+'Løntabel april 2016'!$D$4) -> 27685.79 | L28: Ishøj
B29: Egetbidrag | C29: =C28*$D$5 -> 1455.4288 | D29: =D28*$D$5 -> 1475.3151 | E29: =E28*$D$5 -> 1489.0755 | F29: =F28*$D$5 -> 1508.9575 | G29: =G28*$D$5 -> 1522.7184 | L29: København
B30: Nettoløn | C30: =C28-C29 -> 25006.912 | D30: =D28-D29 -> 25348.596 | E30: =E28-E29 -> 25585.024 | F30: =F28-F29 -> 25926.634 | G30: =G28-G29 -> 26163.071 | L30: Lyngby-Tårbæk
B31: Arbejdsgiverbidrag | C31: =C28*$D$6 -> 2910.8575 | D31: =D28*$D$6 -> 2950.6302 | E31: =E28*$D$6 -> 2978.151 | F31: =F28*$D$6 -> 3017.9151 | G31: =G28*$D$6 -> 3045.4368 | L31: Rudersdal Rødovre
A32: HK | L32: Tårnby
A33: 28 | B33: Bruttoløn | C33: ='Løntabel oktober 2015 '!C33*(1+'Løntabel april 2016'!$D$4) -> 27336.315 | D33: ='Løntabel oktober 2015 '!D33*(1+'Løntabel april 2016'!$D$4) -> 27669.178 | E33: ='Løntabel oktober 2015 '!E33*(1+'Løntabel april 2016'!$D$4) -> 27899.601 | F33: ='Løntabel oktober 2015 '!F33*(1+'Løntabel april 2016'!$D$4) -> 28232.464 | G33: ='Løntabel oktober 2015 '!G33*(1+'Løntabel april 2016'!$D$4) -> 28462.8 | L33: Vallensbæk
B34: Egetbidrag | C34: =C33*$D$5 -> 1503.4973 | D34: =D33*$D$5 -> 1521.8048 | E34: =E33*$D$5 -> 1534.4781 | F34: =F33*$D$5 -> 1552.7855 | G34: =G33*$D$5 -> 1565.454 | L34: Furesø
B35: Nettoløn | C35: =C33-C34 -> 25832.818 | D35: =D33-D34 -> 26147.373 | E35: =E33-E34 -> 26365.123 | F35: =F33-F34 -> 26679.678 | G35: =G33-G34 -> 26897.346 | L35: Hvidovre
B36: Arbejdsgiverbidrag | C36: =C33*$D$6 -> 3006.9947 | D36: =D33*$D$6 -> 3043.6096 | E36: =E33*$D$6 -> 3068.9561 | F36: =F33*$D$6 -> 3105.571 | G36: =G33*$D$6 -> 3130.908
A37: 29 | B37: Bruttoløn | C37: ='Løntabel oktober 2015 '!C37*(1+'Løntabel april 2016'!$D$4) -> 27788.044 | D37: ='Løntabel oktober 2015 '!D37*(1+'Løntabel april 2016'!$D$4) -> 28105.156 | E37: ='Løntabel oktober 2015 '!E37*(1+'Løntabel april 2016'!$D$4) -> 28324.64 | F37: ='Løntabel oktober 2015 '!F37*(1+'Løntabel april 2016'!$D$4) -> 28641.665 | G37: ='Løntabel oktober 2015 '!G37*(1+'Løntabel april 2016'!$D$4) -> 28861.236
B38: Egetbidrag | C38: =C37*$D$5 -> 1528.3424 | D38: =D37*$D$5 -> 1545.7836 | E38: =E37*$D$5 -> 1557.8552 | F38: =F37*$D$5 -> 1575.2916 | G38: =G37*$D$5 -> 1587.368
B39: Nettoløn | C39: =C37-C38 -> 26259.701 | D39: =D37-D38 -> 26559.373 | E39: =E37-E38 -> 26766.785 | F39: =F37-F38 -> 27066.374 | G39: =G37-G38 -> 27273.868
B40: Arbejdsgiverbidrag | C40: =C37*$D$6 -> 3056.6848 | D40: =D37*$D$6 -> 3091.5672 | E40: =E37*$D$6 -> 3115.7104 | F40: =F37*$D$6 -> 3150.5832 | G40: =G37*$D$6 -> 3174.736
A41: 30 | B41: Bruttoløn | C41: ='Løntabel oktober 2015 '!C41*(1+'Løntabel april 2016'!$D$4) -> 28249.561 | D41: ='Løntabel oktober 2015 '!D41*(1+'Løntabel april 2016'!$D$4) -> 28549.784 | E41: ='Løntabel oktober 2015 '!E41*(1+'Løntabel april 2016'!$D$4) -> 28757.739 | F41: ='Løntabel oktober 2015 '!F41*(1+'Løntabel april 2016'!$D$4) -> 29057.956 | G41: ='Løntabel oktober 2015 '!G41*(1+'Løntabel april 2016'!$D$4) -> 29265.824
B42: Egetbidrag | C42: =C41*$D$5 -> 1553.7259 | D42: =D41*$D$5 -> 1570.2381 | E42: =E41*$D$5 -> 1581.6756 | F42: =F41*$D$5 -> 1598.1876 | G42: =G41*$D$5 -> 1609.6203
B43: Nettoløn | C43: =C41-C42 -> 26695.835 | D43: =D41-D42 -> 26979.546 | E43: =E41-E42 -> 27176.063 | F43: =F41-F42 -> 27459.769 | G43: =G41-G42 -> 27656.203
B44: Arbejdsgiverbidrag | C44: =C41*$D$6 -> 3107.4517 | D44: =D41*$D$6 -> 3140.4762 | E44: =E41*$D$6 -> 3163.3512 | F44: =F41*$D$6 -> 3196.3752 | G44: =G41*$D$6 -> 3219.2406
A45: HK
A46: 31 | B46: Bruttoløn | C46: ='Løntabel oktober 2015 '!C46*(1+'Løntabel april 2016'!$D$4) -> 28721.538 | D46: ='Løntabel oktober 2015 '!D46*(1+'Løntabel april 2016'!$D$4) -> 29003.999 | E46: ='Løntabel oktober 2015 '!E46*(1+'Løntabel april 2016'!$D$4) -> 29199.476 | F46: ='Løntabel oktober 2015 '!F46*(1+'Løntabel april 2016'!$D$4) -> 29481.937 | G46: ='Løntabel oktober 2015 '!G46*(1+'Løntabel april 2016'!$D$4) -> 29677.414
B47: Egetbidrag | C47: =C46*$D$5 -> 1579.6846 | D47: =D46*$D$5 -> 1595.2199 | E47: =E46*$D$5 -> 1605.9712 | F47: =F46*$D$5 -> 1621.5065 | G47: =G46*$D$5 -> 1632.2578
B48: Nettoløn | C48: =C46-C47 -> 27141.853 | D48: =D46-D47 -> 27408.779 | E48: =E46-E47 -> 27593.505 | F48: =F46-F47 -> 27860.43 | G48: =G46-G47 -> 28045.156
B49: Arbejdsgiverbidrag | C49: =C46*$D$6 -> 3159.3692 | D49: =D46*$D$6 -> 3190.4399 | E49: =E46*$D$6 -> 3211.9423 | F49: =F46*$D$6 -> 3243.013 | G49: =G46*$D$6 -> 3264.5155
B51: Ledende
A52: 39 | B52: Bruttoløn | C52: ='Løntabel oktober 2015 '!C52*(1+'Løntabel april 2016'!$D$4) -> 32926.288 | D52: ='Løntabel oktober 2015 '!D52*(1+'Løntabel april 2016'!$D$4) -> 33022.87 | E52: ='Løntabel oktober 2015 '!E52*(1+'Løntabel april 2016'!$D$4) -> 33089.69 | F52: ='Løntabel oktober 2015 '!F52*(1+'Løntabel april 2016'!$D$4) -> 33186.28 | G52: ='Løntabel oktober 2015 '!G52*(1+'Løntabel april 2016'!$D$4) -> 33253.206
B53: Egetbidrag | C53: =C52*$D$5 -> 1810.9458 | D53: =D52*$D$5 -> 1816.2578 | E53: =E52*$D$5 -> 1819.933 | F53: =F52*$D$5 -> 1825.2454 | G53: =G52*$D$5 -> 1828.9263
B54: Nettoløn | C54: =C52-C53 -> 31115.342 | D54: =D52-D53 -> 31206.612 | E54: =E52-E53 -> 31269.757 | F54: =F52-F53 -> 31361.035 | G54: =G52-G53 -> 31424.28
B55: Arbejdsgiverbidrag | C55: =C52*$D$6 -> 3621.8916 | D55: =D52*$D$6 -> 3632.5157 | E55: =E52*$D$6 -> 3639.8659 | F55: =F52*$D$6 -> 3650.4908 | G55: =G52*$D$6 -> 3657.8526
A56: HK

Sheet Deltid april 2016 
A1: Interaktiv løntabel med fuld kittelkompensation til deltidsansatte
A2: Løn gældende pr. 1. april 2016
N3: Kitteltillæg okt 2015 | Q3: 242.75
A4: Eventuelle personlige løntillæg reguleres med: | D4: 0.015 | I4: INDTAST ANTAL TIMER PR: UGE: | K4: 30 | N4: Kitteltillæg april 2016 | Q4: =Q3*(1+D4) -> 246.39125
A5: Egetbidrag pension: | D5: 0.055
A6: Arbejdsgiverbidrag pension: | D6: 0.11
A9: Løntrin | C9: Grundsats | D9: Område 1 | E9: Område 2 | F9: Område 3 | G9: Område 4
B11: Ikke-uddannede
A12: 19 | B12: Bruttoløn | C12: =(('Løntabel april 2016'!C12/37*$K$4))+($Q$4*((37-$K$4)/37)) -> 19298.285 | D12: =(('Løntabel april 2016'!D12/37*$K$4))+($Q$4*((37-$K$4)/37)) -> 19613.554 | E12: =(('Løntabel april 2016'!E12/37*$K$4))+($Q$4*((37-$K$4)/37)) -> 19831.831 | F12: =(('Løntabel april 2016'!F12/37*$K$4))+($Q$4*((37-$K$4)/37)) -> 20147.11 | G12: =(('Løntabel april 2016'!G12/37*$K$4))+($Q$4*((37-$K$4)/37)) -> 20365.396 | I12: Område 1 | J12: Område 2 | K12: Område 3 | L12: Område 4 | M12: Grundsats
B13: Egetbidrag | C13: =C12*$D$5 -> 1061.4056 | D13: =D12*$D$5 -> 1078.7455 | E13: =E12*$D$5 -> 1090.7507 | F13: =F12*$D$5 -> 1108.091 | G13: =G12*$D$5 -> 1120.0968 | I13: Aalborg | J13: Køge | K13: Allerød | L13: Albertslund | M13: Alle andre kommuner
B14: Nettoløn | C14: =C12-C13 -> 18236.879 | D14: =D12-D13 -> 18534.809 | E14: =E12-E13 -> 18741.081 | F14: =F12-F13 -> 19039.019 | G14: =G12-G13 -> 19245.299 | I14: Esbjerg | J14: Lejre | K14: Fredensborg | L14: Ballerup
B15: Arbejdsgiverbidrag | C15: =C12*$D$6 -> 2122.8113 | D15: =D12*$D$6 -> 2157.491 | E15: =E12*$D$6 -> 2181.5014 | F15: =F12*$D$6 -> 2216.1821 | G15: =G12*$D$6 -> 2240.1936
A16: HK | I16: Faaborg-Midtfyn | J16: Roskilde | K16: Frederikssund | L16: Brøndby
B17: Uddannede | I17: Frederikshavn | J17: Solrød | K17: Gribskov | L17: Dragør
A18: 24 | B18: Bruttoløn | C18: =(('Løntabel april 2016'!C18/37)*$K$4)+($Q$4*((37-$K$4)/37)) -> 20825.068 | D18: =(('Løntabel april 2016'!D18/37)*$K$4)+($Q$4*((37-$K$4)/37)) -> 21138.397 | E18: =(('Løntabel april 2016'!E18/37)*$K$4)+($Q$4*((37-$K$4)/37)) -> 21355.356 | F18: =(('Løntabel april 2016'!F18/37)*$K$4)+($Q$4*((37-$K$4)/37)) -> 21668.685 | G18: =(('Løntabel april 2016'!G18/37)*$K$4)+($Q$4*((37-$K$4)/37)) -> 21885.56 | I18: Kalundborg | J18: Århus | K18: Halsnæs | L18: Egedal
B19: Egetbidrag | C19: =C18*$D$5 -> 1145.3788 | D19: =D18*$D$5 -> 1162.6118 | E19: =E18*$D$5 -> 1174.5446 | F19: =F18*$D$5 -> 1191.7777 | G19: =G18*$D$5 -> 1203.7058 | I19: Kerteminde | K19: Helsingør | L19: Frederiksberg
B20: Nettoløn | C20: =C18-C19 -> 19679.689 | D20: =D18-D19 -> 19975.785 | E20: =E18-E19 -> 20180.812 | F20: =F18-F19 -> 20476.907 | G20: =G18-G19 -> 20681.854
B21: Arbejdsgiverbidrag | C21: =C18*$D$6 -> 2290.7575 | D21: =D18*$D$6 -> 2325.2236 | E21: =E18*$D$6 -> 2349.0892 | F21: =F18*$D$6 -> 2383.5553 | G21: =G18*$D$6 -> 2407.4116 | I21: Nyborg | K21: Hillerød | L21: Gentofte
A22: HK | I22: Næstved | K22: Hørsholm | L22: Gladsaxe
A23: 25 | B23: Bruttoløn | C23: =(('Løntabel april 2016'!C23/37)*$K$4)+($Q$4*((37-$K$4)/37)) -> 21159.966 | D23: =(('Løntabel april 2016'!D23/37)*$K$4)+($Q$4*((37-$K$4)/37)) -> 21463.487 | E23: =(('Løntabel april 2016'!E23/37)*$K$4)+($Q$4*((37-$K$4)/37)) -> 21673.593 | F23: =(('Løntabel april 2016'!F23/37)*$K$4)+($Q$4*((37-$K$4)/37)) -> 21977.272 | G23: =(('Løntabel april 2016'!G23/37)*$K$4)+($Q$4*((37-$K$4)/37)) -> 22187.37 | I23: Odense | L23: Glostrup
B24: Egetbidrag | C24: =C23*$D$5 -> 1163.7981 | D24: =D23*$D$5 -> 1180.4918 | E24: =E23*$D$5 -> 1192.0476 | F24: =F23*$D$5 -> 1208.75 | G24: =G23*$D$5 -> 1220.3053 | I24: Skanderborg | L24: Greve
B25: Nettoløn | C25: =C23-C24 -> 19996.168 | D25: =D23-D24 -> 20282.995 | E25: =E23-E24 -> 20481.545 | F25: =F23-F24 -> 20768.522 | G25: =G23-G24 -> 20967.065
B26: Arbejdsgiverbidrag | C26: =C23*$D$6 -> 2327.5963 | D26: =D23*$D$6 -> 2360.9836 | E26: =E23*$D$6 -> 2384.0952 | F26: =F23*$D$6 -> 2417.5 | G26: =G23*$D$6 -> 2440.6107 | I26: Slagelse | L26: Herlev
A27: HK | I27: Sønderborg | L27: Høje-Tåstrup
A28: 26 | B28: Bruttoløn | C28: =(('Løntabel april 2016'!C28/37)*$K$4)+($Q$4*((37-$K$4)/37)) -> 21502.567 | D28: =(('Løntabel april 2016'!D28/37)*$K$4)+($Q$4*((37-$K$4)/37)) -> 21795.732 | E28: =(('Løntabel april 2016'!E28/37)*$K$4)+($Q$4*((37-$K$4)/37)) -> 21998.587 | F28: =(('Løntabel april 2016'!F28/37)*$K$4)+($Q$4*((37-$K$4)/37)) -> 22291.689 | G28: =(('Løntabel april 2016'!G28/37)*$K$4)+($Q$4*((37-$K$4)/37)) -> 22494.552 | L28: Ishøj
B29: Egetbidrag | C29: =C28*$D$5 -> 1182.6412 | D29: =D28*$D$5 -> 1198.7652 | E29: =E28*$D$5 -> 1209.9223 | F29: =F28*$D$5 -> 1226.0429 | G29: =G28*$D$5 -> 1237.2004 | L29: København
B30: Nettoløn | C30: =C28-C29 -> 20319.926 | D30: =D28-D29 -> 20596.966 | E30: =E28-E29 -> 20788.665 | F30: =F28-F29 -> 21065.646 | G30: =G28-G29 -> 21257.352 | L30: Lyngby-Tårbæk
B31: Arbejdsgiverbidrag | C31: =C28*$D$6 -> 2365.2823 | D31: =D28*$D$6 -> 2397.5305 | E31: =E28*$D$6 -> 2419.8446 | F31: =F28*$D$6 -> 2452.0858 | G31: =G28*$D$6 -> 2474.4007 | L31: Rudersdal Rødovre
A32: HK | L32: Tårnby
A33: 28 | B33: Bruttoløn | C33: =(('Løntabel april 2016'!C33/37)*$K$4)+($Q$4*((37-$K$4)/37)) -> 22211.195 | D33: =(('Løntabel april 2016'!D33/37)*$K$4)+($Q$4*((37-$K$4)/37)) -> 22481.083 | E33: =(('Løntabel april 2016'!E33/37)*$K$4)+($Q$4*((37-$K$4)/37)) -> 22667.913 | F33: =(('Løntabel april 2016'!F33/37)*$K$4)+($Q$4*((37-$K$4)/37)) -> 22937.802 | G33: =(('Løntabel april 2016'!G33/37)*$K$4)+($Q$4*((37-$K$4)/37)) -> 23124.56 | L33: Vallensbæk
B34: Egetbidrag | C34: =C33*$D$5 -> 1221.6157 | D34: =D33*$D$5 -> 1236.4596 | E34: =E33*$D$5 -> 1246.7352 | F34: =F33*$D$5 -> 1261.5791 | G34: =G33*$D$5 -> 1271.8508 | L34: Furesø
B35: Nettoløn | C35: =C33-C34 -> 20989.579 | D35: =D33-D34 -> 21244.624 | E35: =E33-E34 -> 21421.178 | F35: =F33-F34 -> 21676.222 | G35: =G33-G34 -> 21852.71 | L35: Hvidovre
B36: Arbejdsgiverbidrag | C36: =C33*$D$6 -> 2443.2314 | D36: =D33*$D$6 -> 2472.9192 | E36: =E33*$D$6 -> 2493.4704 | F36: =F33*$D$6 -> 2523.1582 | G36: =G33*$D$6 -> 2543.7016
A37: 29 | B37: Bruttoløn | C37: =(('Løntabel april 2016'!C37/37)*$K$4)+($Q$4*((37-$K$4)/37)) -> 22577.461 | D37: =(('Løntabel april 2016'!D37/37)*$K$4)+($Q$4*((37-$K$4)/37)) -> 22834.579 | E37: =(('Løntabel april 2016'!E37/37)*$K$4)+($Q$4*((37-$K$4)/37)) -> 23012.539 | F37: =(('Løntabel april 2016'!F37/37)*$K$4)+($Q$4*((37-$K$4)/37)) -> 23269.586 | G37: =(('Løntabel april 2016'!G37/37)*$K$4)+($Q$4*((37-$K$4)/37)) -> 23447.617
B38: Egetbidrag | C38: =C37*$D$5 -> 1241.7603 | D38: =D37*$D$5 -> 1255.9019 | E38: =E37*$D$5 -> 1265.6896 | F38: =F37*$D$5 -> 1279.8273 | G38: =G37*$D$5 -> 1289.6189
B39: Nettoløn | C39: =C37-C38 -> 21335.7 | D39: =D37-D38 -> 21578.677 | E39: =E37-E38 -> 21746.849 | F39: =F37-F38 -> 21989.759 | G39: =G37-G38 -> 22157.998
B40: Arbejdsgiverbidrag | C40: =C37*$D$6 -> 2483.5207 | D40: =D37*$D$6 -> 2511.8037 | E40: =E37*$D$6 -> 2531.3793 | F40: =F37*$D$6 -> 2559.6545 | G40: =G37*$D$6 -> 2579.2378
A41: 30 | B41: Bruttoløn | C41: =(('Løntabel april 2016'!C41/37)*$K$4)+($Q$4*((37-$K$4)/37)) -> 22951.664 | D41: =(('Løntabel april 2016'!D41/37)*$K$4)+($Q$4*((37-$K$4)/37)) -> 23195.088 | E41: =(('Løntabel april 2016'!E41/37)*$K$4)+($Q$4*((37-$K$4)/37)) -> 23363.7 | F41: =(('Løntabel april 2016'!F41/37)*$K$4)+($Q$4*((37-$K$4)/37)) -> 23607.12 | G41: =(('Løntabel april 2016'!G41/37)*$K$4)+($Q$4*((37-$K$4)/37)) -> 23775.661
B42: Egetbidrag | C42: =C41*$D$5 -> 1262.3415 | D42: =D41*$D$5 -> 1275.7298 | E42: =E41*$D$5 -> 1285.0035 | F42: =F41*$D$5 -> 1298.3916 | G42: =G41*$D$5 -> 1307.6613
B43: Nettoløn | C43: =C41-C42 -> 21689.323 | D43: =D41-D42 -> 21919.358 | E43: =E41-E42 -> 22078.696 | F43: =F41-F42 -> 22308.728 | G43: =G41-G42 -> 22467.999
B44: Arbejdsgiverbidrag | C44: =C41*$D$6 -> 2524.6831 | D44: =D41*$D$6 -> 2551.4597 | E44: =E41*$D$6 -> 2570.007 | F44: =F41*$D$6 -> 2596.7832 | G44: =G41*$D$6 -> 2615.3227
A45: HK
A46: 31 | B46: Bruttoløn | C46: =(('Løntabel april 2016'!C46/37)*$K$4)+($Q$4*((37-$K$4)/37)) -> 23334.348 | D46: =(('Løntabel april 2016'!D46/37)*$K$4)+($Q$4*((37-$K$4)/37)) -> 23563.37 | E46: =(('Løntabel april 2016'!E46/37)*$K$4)+($Q$4*((37-$K$4)/37)) -> 23721.865 | F46: =(('Løntabel april 2016'!F46/37)*$K$4)+($Q$4*((37-$K$4)/37)) -> 23950.888 | G46: =(('Løntabel april 2016'!G46/37)*$K$4)+($Q$4*((37-$K$4)/37)) -> 24109.382
B47: Egetbidrag | C47: =C46*$D$5 -> 1283.3891 | D47: =D46*$D$5 -> 1295.9854 | E47: =E46*$D$5 -> 1304.7026 | F47: =F46*$D$5 -> 1317.2988 | G47: =G46*$D$5 -> 1326.016
B48: Nettoløn | C48: =C46-C47 -> 22050.959 | D48: =D46-D47 -> 22267.385 | E48: =E46-E47 -> 22417.163 | F48: =F46-F47 -> 22633.589 | G48: =G46-G47 -> 22783.366
B49: Arbejdsgiverbidrag | C49: =C46*$D$6 -> 2566.7783 | D49: =D46*$D$6 -> 2591.9707 | E49: =E46*$D$6 -> 2609.4052 | F49: =F46*$D$6 -> 2634.5976 | G49: =G46*$D$6 -> 2652.0321
B51: Ledende
A52: 39 | B52: Bruttoløn | C52: =(('Løntabel april 2016'!C52/37)*$K$4)+($Q$4*((37-$K$4)/37)) -> 26743.605 | D52: =(('Løntabel april 2016'!D52/37)*$K$4)+($Q$4*((37-$K$4)/37)) -> 26821.914 | E52: =(('Løntabel april 2016'!E52/37)*$K$4)+($Q$4*((37-$K$4)/37)) -> 26876.093 | F52: =(('Løntabel april 2016'!F52/37)*$K$4)+($Q$4*((37-$K$4)/37)) -> 26954.409 | G52: =(('Løntabel april 2016'!G52/37)*$K$4)+($Q$4*((37-$K$4)/37)) -> 27008.673
B53: Egetbidrag | C53: =C52*$D$5 -> 1470.8982 | D53: =D52*$D$5 -> 1475.2053 | E53: =E52*$D$5 -> 1478.1851 | F53: =F52*$D$5 -> 1482.4925 | G53: =G52*$D$5 -> 1485.477
B54: Nettoløn | C54: =C52-C53 -> 25272.706 | D54: =D52-D53 -> 25346.709 | E54: =E52-E53 -> 25397.908 | F54: =F52-F53 -> 25471.917 | G54: =G52-G53 -> 25523.196
B55: Arbejdsgiverbidrag | C55: =C52*$D$6 -> 2941.7965 | D55: =D52*$D$6 -> 2950.4106 | E55: =E52*$D$6 -> 2956.3702 | F55: =F52*$D$6 -> 2964.985 | G55: =G52*$D$6 -> 2970.9541
A56: HK

Sheet Timelønnede april 2016
A1: Interaktiv løntabel med fuld kittelkompensation til fuldtidsansatte
A2: Løn gældende pr. 1. april 2016
A4: Eventuelle personlige løntillæg reguleres med: | D4: 0.015
A5: Egetbidrag pension: | D5: 0.055
A6: Arbejdsgiverbidrag pension: | D6: 0.11
A9: Løntrin | C9: Grundsats | D9: Område 1 | E9: Område 2 | F9: Område 3 | G9: Område 4
B11: Ikke-uddannede | J11: =IF(#REF!>=8.1,0,#REF!) -> #REF!
A12: 19 | B12: Bruttoløn | C12: ='Løntabel april 2016'!C12/160.33 -> 148.09285 | D12: ='Løntabel april 2016'!D12/160.33 -> 150.51805 | E12: ='Løntabel april 2016'!E12/160.33 -> 152.19714 | F12: ='Løntabel april 2016'!F12/160.33 -> 154.62241 | G12: ='Løntabel april 2016'!G12/160.33 -> 156.30157
B13: Egetbidrag | C13: =C12*$D$5 -> 8.1451066 | D13: =D12*$D$5 -> 8.2784927 | E13: =E12*$D$5 -> 8.3708426 | F13: =F12*$D$5 -> 8.5042325 | G13: =G12*$D$5 -> 8.5965863
B14: Nettoløn | C14: =C12-C13 -> 139.94774 | D14: =D12-D13 -> 142.23956 | E14: =E12-E13 -> 143.8263 | F14: =F12-F13 -> 146.11818 | G14: =G12-G13 -> 147.70498
B15: Arbejdsgiverbidrag | C15: =C12*$D$6 -> 16.290213 | D15: =D12*$D$6 -> 16.556985 | E15: =E12*$D$6 -> 16.741685 | F15: =F12*$D$6 -> 17.008465 | G15: =G12*$D$6 -> 17.193173
B17: Uddannede
A18: 24 | B18: Bruttoløn | C18: ='Løntabel april 2016'!C18/160.33 -> 159.83758 | D18: ='Løntabel april 2016'!D18/160.33 -> 162.24785 | E18: ='Løntabel april 2016'!E18/160.33 -> 163.91681 | F18: ='Løntabel april 2016'!F18/160.33 -> 166.32707 | G18: ='Løntabel april 2016'!G18/160.33 -> 167.99538
B19: Egetbidrag | C19: =C18*$D$5 -> 8.791067 | D19: =D18*$D$5 -> 8.9236317 | E19: =E18*$D$5 -> 9.0154243 | F19: =F18*$D$5 -> 9.1479891 | G19: =G18*$D$5 -> 9.2397461 | L19: Område 1 | M19: Område 2 | N19: Område 3 | O19: Område 4 | P19: Grundsats
B20: Nettoløn | C20: =C18-C19 -> 151.04651 | D20: =D18-D19 -> 153.32422 | E20: =E18-E19 -> 154.90138 | F20: =F18-F19 -> 157.17908 | G20: =G18-G19 -> 158.75564 | L20: Aalborg | M20: Køge | N20: Allerød | O20: Albertslund | P20: Alle andre kommuner
B21: Arbejdsgiverbidrag | C21: =C18*$D$6 -> 17.582134 | D21: =D18*$D$6 -> 17.847263 | E21: =E18*$D$6 -> 18.030849 | F21: =F18*$D$6 -> 18.295978 | G21: =G18*$D$6 -> 18.479492 | L21: Esbjerg | M21: Lejre | N21: Fredensborg | O21: Ballerup
A22: 25 | B22: Bruttoløn | C22: ='Løntabel april 2016'!C23/160.33 -> 162.41377 | D22: ='Løntabel april 2016'!D23/160.33 -> 164.7486 | E22: ='Løntabel april 2016'!E23/160.33 -> 166.36483 | F22: ='Løntabel april 2016'!F23/160.33 -> 168.70088 | G22: ='Løntabel april 2016'!G23/160.33 -> 170.31704 | L22: Faaborg-Midtfyn | M22: Roskilde | N22: Frederikssund | O22: Brøndby
B23: Egetbidrag | C23: =C22*$D$5 -> 8.9327575 | D23: =D22*$D$5 -> 9.0611728 | E23: =E22*$D$5 -> 9.1500657 | F23: =F22*$D$5 -> 9.2785481 | G23: =G22*$D$5 -> 9.3674374 | L23: Frederikshavn | M23: Solrød | N23: Gribskov | O23: Dragør
B24: Nettoløn | C24: =C22-C23 -> 153.48102 | D24: =D22-D23 -> 155.68742 | E24: =E22-E23 -> 157.21476 | F24: =F22-F23 -> 159.42233 | G24: =G22-G23 -> 160.94961 | L24: Kalundborg | M24: Århus | N24: Halsnæs | O24: Egedal
B25: Arbejdsgiverbidrag | C25: =C22*$D$6 -> 17.865515 | D25: =D22*$D$6 -> 18.122346 | E25: =E22*$D$6 -> 18.300131 | F25: =F22*$D$6 -> 18.557096 | G25: =G22*$D$6 -> 18.734875 | L25: Kerteminde | N25: Helsingør | O25: Frederiksberg
A26: 26 | B26: Bruttoløn | C26: ='Løntabel april 2016'!C28/160.33 -> 165.04922 | D26: ='Løntabel april 2016'!D28/160.33 -> 167.30438 | E26: ='Løntabel april 2016'!E28/160.33 -> 168.86484 | F26: ='Løntabel april 2016'!F28/160.33 -> 171.11951 | G26: ='Løntabel april 2016'!G28/160.33 -> 172.68003 | L26: Nyborg | N26: Hillerød | O26: Gentofte
B27: Egetbidrag | C27: =C26*$D$5 -> 9.0777069 | D27: =D26*$D$5 -> 9.2017408 | E27: =E26*$D$5 -> 9.2875662 | F27: =F26*$D$5 -> 9.4115733 | G27: =G26*$D$5 -> 9.4974018 | L27: Næstved | N27: Hørsholm | O27: Gladsaxe
B28: Nettoløn | C28: =C26-C27 -> 155.97151 | D28: =D26-D27 -> 158.10264 | E28: =E26-E27 -> 159.57727 | F28: =F26-F27 -> 161.70794 | G28: =G26-G27 -> 163.18263 | L28: Odense | O28: Glostrup
B29: Arbejdsgiverbidrag | C29: =C26*$D$6 -> 18.155414 | D29: =D26*$D$6 -> 18.403482 | E29: =E26*$D$6 -> 18.575132 | F29: =F26*$D$6 -> 18.823147 | G29: =G26*$D$6 -> 18.994804 | L29: Skanderborg | O29: Greve
A30: 28 | B30: Bruttoløn | C30: ='Løntabel april 2016'!C33/160.33 -> 170.50031 | D30: ='Løntabel april 2016'!D33/160.33 -> 172.57642 | E30: ='Løntabel april 2016'!E33/160.33 -> 174.0136 | F30: ='Løntabel april 2016'!F33/160.33 -> 176.08971 | G30: ='Løntabel april 2016'!G33/160.33 -> 177.52635 | L30: Slagelse | O30: Herlev
B31: Egetbidrag | C31: =C30*$D$5 -> 9.3775173 | D31: =D30*$D$5 -> 9.4917033 | E31: =E30*$D$5 -> 9.5707483 | F31: =F30*$D$5 -> 9.6849343 | G31: =G30*$D$5 -> 9.7639493 | L31: Sønderborg | O31: Høje-Tåstrup
B32: Nettoløn | C32: =C30-C31 -> 161.1228 | D32: =D30-D31 -> 163.08472 | E32: =E30-E31 -> 164.44286 | F32: =F30-F31 -> 166.40478 | G32: =G30-G31 -> 167.7624 | O32: Ishøj
B33: Arbejdsgiverbidrag | C33: =C30*$D$6 -> 18.755035 | D33: =D30*$D$6 -> 18.983407 | E33: =E30*$D$6 -> 19.141497 | F33: =F30*$D$6 -> 19.369869 | G33: =G30*$D$6 -> 19.527899 | O33: København
A34: 29 | B34: Bruttoløn | C34: ='Løntabel april 2016'!C37/160.33 -> 173.3178 | D34: ='Løntabel april 2016'!D37/160.33 -> 175.29568 | E34: ='Løntabel april 2016'!E37/160.33 -> 176.66463 | F34: ='Løntabel april 2016'!F37/160.33 -> 178.64196 | G34: ='Løntabel april 2016'!G37/160.33 -> 180.01145 | O34: Lyngby-Tårbæk
B35: Egetbidrag | C35: =C34*$D$5 -> 9.5324792 | D35: =D34*$D$5 -> 9.6412624 | E35: =E34*$D$5 -> 9.7165545 | F35: =F34*$D$5 -> 9.8253078 | G35: =G34*$D$5 -> 9.9006298 | O35: Rudersdal Rødovre
B36: Nettoløn | C36: =C34-C35 -> 163.78532 | D36: =D34-D35 -> 165.65442 | E36: =E34-E35 -> 166.94807 | F36: =F34-F35 -> 168.81665 | G36: =G34-G35 -> 170.11082 | O36: Tårnby
B37: Arbejdsgiverbidrag | C37: =C34*$D$6 -> 19.064958 | D37: =D34*$D$6 -> 19.282525 | E37: =E34*$D$6 -> 19.433109 | F37: =F34*$D$6 -> 19.650616 | G37: =G34*$D$6 -> 19.80126 | O37: Vallensbæk
A38: 30 | B38: Bruttoløn | C38: ='Løntabel april 2016'!C41/160.33 -> 176.19635 | D38: ='Løntabel april 2016'!D41/160.33 -> 178.06888 | E38: ='Løntabel april 2016'!E41/160.33 -> 179.36592 | F38: ='Løntabel april 2016'!F41/160.33 -> 181.23842 | G38: ='Løntabel april 2016'!G41/160.33 -> 182.53492 | O38: Furesø
B39: Egetbidrag | C39: =C38*$D$5 -> 9.6907994 | D39: =D38*$D$5 -> 9.7937885 | E39: =E38*$D$5 -> 9.8651258 | F39: =F38*$D$5 -> 9.9681132 | G39: =G38*$D$5 -> 10.039421 | O39: Hvidovre
B40: Nettoløn | C40: =C38-C39 -> 166.50555 | D40: =D38-D39 -> 168.27509 | E40: =E38-E39 -> 169.5008 | F40: =F38-F39 -> 171.27031 | G40: =G38-G39 -> 172.4955
B41: Arbejdsgiverbidrag | C41: =C38*$D$6 -> 19.381599 | D41: =D38*$D$6 -> 19.587577 | E41: =E38*$D$6 -> 19.730252 | F41: =F38*$D$6 -> 19.936226 | G41: =G38*$D$6 -> 20.078841
A42: 31 | B42: Bruttoløn | C42: ='Løntabel april 2016'!C46/160.33 -> 179.14014 | D42: ='Løntabel april 2016'!D46/160.33 -> 180.90188 | E42: ='Løntabel april 2016'!E46/160.33 -> 182.1211 | F42: ='Løntabel april 2016'!F46/160.33 -> 183.88285 | G42: ='Løntabel april 2016'!G46/160.33 -> 185.10206
B43: Egetbidrag | C43: =C42*$D$5 -> 9.8527075 | D43: =D42*$D$5 -> 9.9496036 | E43: =E42*$D$5 -> 10.01666 | F43: =F42*$D$5 -> 10.113557 | G43: =G42*$D$5 -> 10.180613
B44: Nettoløn | C44: =C42-C43 -> 169.28743 | D44: =D42-D43 -> 170.95228 | E44: =E42-E43 -> 172.10444 | F44: =F42-F43 -> 173.76929 | G44: =G42-G43 -> 174.92145
B45: Arbejdsgiverbidrag | C45: =C42*$D$6 -> 19.705415 | D45: =D42*$D$6 -> 19.899207 | E45: =E42*$D$6 -> 20.033321 | F45: =F42*$D$6 -> 20.227113 | G45: =G42*$D$6 -> 20.361227
B47: Ledende
A48: 39 | B48: Bruttoløn | C48: ='Løntabel april 2016'!C52/160.33 -> 205.36573 | D48: ='Løntabel april 2016'!D52/160.33 -> 205.96813 | E48: ='Løntabel april 2016'!E52/160.33 -> 206.38489 | F48: ='Løntabel april 2016'!F52/160.33 -> 206.98734 | G48: ='Løntabel april 2016'!G52/160.33 -> 207.40476
B49: Egetbidrag | C49: =C48*$D$5 -> 11.295115 | D49: =D48*$D$5 -> 11.328247 | E49: =E48*$D$5 -> 11.351169 | F49: =F48*$D$5 -> 11.384304 | G49: =G48*$D$5 -> 11.407262
B50: Nettoløn | C50: =C48-C49 -> 194.07062 | D50: =D48-D49 -> 194.63988 | E50: =E48-E49 -> 195.03373 | F50: =F48-F49 -> 195.60303 | G50: =G48-G49 -> 195.9975
B51: Arbejdsgiverbidrag | C51: =C48*$D$6 -> 22.59023 | D51: =D48*$D$6 -> 22.656494 | E51: =E48*$D$6 -> 22.702338 | F51: =F48*$D$6 -> 22.768607 | G51: =G48*$D$6 -> 22.814524

Sheet Løntabel januar 2017
A1: Interaktiv løntabel med fuld kittelkompensation til fuldtidsansatte
A2: Løn gældende pr. 1. januar 2017
A4: Eventuelle personlige løntillæg reguleres med: | D4: 0.012
A5: Egetbidrag pension: | D5: 0.055
A6: Arbejdsgiverbidrag pension: | D6: 0.11
A9: Løntrin | C9: Grundsats | D9: Område 1 | E9: Område 2 | F9: Område 3 | G9: Område 4
B11: Ikke-uddannede
A12: 19 | B12: Bruttoløn | C12: ='Løntabel april 2016'!C12*(1+$D$4) -> 24028.651 | D12: ='Løntabel april 2016'!D12*(1+$D$4) -> 24422.15 | E12: ='Løntabel april 2016'!E12*(1+$D$4) -> 24694.588 | F12: ='Løntabel april 2016'!F12*(1+$D$4) -> 25088.098 | G12: ='Løntabel april 2016'!G12*(1+$D$4) -> 25360.549 | I12: Område 1 | J12: Område 2 | K12: Område 3 | L12: Område 4 | M12: Grundsats
B13: Egetbidrag | C13: =C12*$D$5 -> 1321.5758 | D13: =D12*$D$5 -> 1343.2182 | E13: =E12*$D$5 -> 1358.2024 | F13: =F12*$D$5 -> 1379.8454 | G13: =G12*$D$5 -> 1394.8302 | I13: Aalborg | J13: Køge | K13: Allerød | L13: Albertslund | M13: Alle andre kommuner
B14: Nettoløn | C14: =C12-C13 -> 22707.075 | D14: =D12-D13 -> 23078.931 | E14: =E12-E13 -> 23336.386 | F14: =F12-F13 -> 23708.253 | G14: =G12-G13 -> 23965.718 | I14: Esbjerg | J14: Lejre | K14: Fredensborg | L14: Ballerup
B15: Arbejdsgiverbidrag | C15: =C12*$D$6 -> 2643.1516 | D15: =D12*$D$6 -> 2686.4364 | E15: =E12*$D$6 -> 2716.4047 | F15: =F12*$D$6 -> 2759.6908 | G15: =G12*$D$6 -> 2789.6603
A16: HK | I16: Faaborg-Midtfyn | J16: Roskilde | K16: Frederikssund | L16: Brøndby
B17: Uddannede | I17: Frederikshavn | J17: Solrød | K17: Gribskov | L17: Dragør
A18: 24 | B18: Bruttoløn | C18: ='Løntabel april 2016'!C18*(1+$D$4) -> 25934.281 | D18: ='Løntabel april 2016'!D18*(1+$D$4) -> 26325.356 | E18: ='Løntabel april 2016'!E18*(1+$D$4) -> 26596.151 | F18: ='Løntabel april 2016'!F18*(1+$D$4) -> 26987.226 | G18: ='Løntabel april 2016'!G18*(1+$D$4) -> 27257.916 | I18: Kalundborg | J18: Århus | K18: Halsnæs | L18: Egedal
B19: Egetbidrag | C19: =C18*$D$5 -> 1426.3854 | D19: =D18*$D$5 -> 1447.8946 | E19: =E18*$D$5 -> 1462.7883 | F19: =F18*$D$5 -> 1484.2975 | G19: =G18*$D$5 -> 1499.1854 | I19: Kerteminde | K19: Helsingør | L19: Frederiksberg
B20: Nettoløn | C20: =C18-C19 -> 24507.895 | D20: =D18-D19 -> 24877.462 | E20: =E18-E19 -> 25133.363 | F20: =F18-F19 -> 25502.929 | G20: =G18-G19 -> 25758.731
B21: Arbejdsgiverbidrag | C21: =C18*$D$6 -> 2852.7709 | D21: =D18*$D$6 -> 2895.7892 | E21: =E18*$D$6 -> 2925.5766 | F21: =F18*$D$6 -> 2968.5949 | G21: =G18*$D$6 -> 2998.3708 | I21: Nyborg | K21: Hillerød | L21: Gentofte
A22: HK | I22: Næstved | K22: Hørsholm | L22: Gladsaxe
A23: 25 | B23: Bruttoløn | C23: ='Løntabel april 2016'!C23*(1+$D$4) -> 26352.278 | D23: ='Løntabel april 2016'!D23*(1+$D$4) -> 26731.112 | E23: ='Løntabel april 2016'!E23*(1+$D$4) -> 26993.352 | F23: ='Løntabel april 2016'!F23*(1+$D$4) -> 27372.385 | G23: ='Løntabel april 2016'!G23*(1+$D$4) -> 27634.615 | I23: Odense | L23: Glostrup
B24: Egetbidrag | C24: =C23*$D$5 -> 1449.3753 | D24: =D23*$D$5 -> 1470.2112 | E24: =E23*$D$5 -> 1484.6344 | F24: =F23*$D$5 -> 1505.4812 | G24: =G23*$D$5 -> 1519.9038 | I24: Skanderborg | L24: Greve
B25: Nettoløn | C25: =C23-C24 -> 24902.903 | D25: =D23-D24 -> 25260.901 | E25: =E23-E24 -> 25508.718 | F25: =F23-F24 -> 25866.904 | G25: =G23-G24 -> 26114.711
B26: Arbejdsgiverbidrag | C26: =C23*$D$6 -> 2898.7506 | D26: =D23*$D$6 -> 2940.4223 | E26: =E23*$D$6 -> 2969.2688 | F26: =F23*$D$6 -> 3010.9624 | G26: =G23*$D$6 -> 3039.8076 | I26: Slagelse | L26: Herlev
A27: HK | I27: Sønderborg | L27: Høje-Tåstrup
A28: 26 | B28: Bruttoløn | C28: ='Løntabel april 2016'!C28*(1+$D$4) -> 26779.889 | D28: ='Løntabel april 2016'!D28*(1+$D$4) -> 27145.798 | E28: ='Løntabel april 2016'!E28*(1+$D$4) -> 27398.989 | F28: ='Løntabel april 2016'!F28*(1+$D$4) -> 27764.819 | G28: ='Løntabel april 2016'!G28*(1+$D$4) -> 28018.019 | L28: Ishøj
B29: Egetbidrag | C29: =C28*$D$5 -> 1472.8939 | D29: =D28*$D$5 -> 1493.0189 | E29: =E28*$D$5 -> 1506.9444 | F29: =F28*$D$5 -> 1527.065 | G29: =G28*$D$5 -> 1540.991 | L29: København
B30: Nettoløn | C30: =C28-C29 -> 25306.995 | D30: =D28-D29 -> 25652.779 | E30: =E28-E29 -> 25892.045 | F30: =F28-F29 -> 26237.754 | G30: =G28-G29 -> 26477.028 | L30: Lyngby-Tårbæk
B31: Arbejdsgiverbidrag | C31: =C28*$D$6 -> 2945.7878 | D31: =D28*$D$6 -> 2986.0378 | E31: =E28*$D$6 -> 3013.8888 | F31: =F28*$D$6 -> 3054.1301 | G31: =G28*$D$6 -> 3081.9821 | L31: Rudersdal Rødovre
A32: HK | L32: Tårnby
A33: 28 | B33: Bruttoløn | C33: ='Løntabel april 2016'!C33*(1+$D$4) -> 27664.351 | D33: ='Løntabel april 2016'!D33*(1+$D$4) -> 28001.208 | E33: ='Løntabel april 2016'!E33*(1+$D$4) -> 28234.396 | F33: ='Løntabel april 2016'!F33*(1+$D$4) -> 28571.253 | G33: ='Løntabel april 2016'!G33*(1+$D$4) -> 28804.353 | L33: Vallensbæk
B34: Egetbidrag | C34: =C33*$D$5 -> 1521.5393 | D34: =D33*$D$5 -> 1540.0664 | E34: =E33*$D$5 -> 1552.8918 | F34: =F33*$D$5 -> 1571.4189 | G34: =G33*$D$5 -> 1584.2394 | L34: Furesø
B35: Nettoløn | C35: =C33-C34 -> 26142.812 | D35: =D33-D34 -> 26461.142 | E35: =E33-E34 -> 26681.505 | F35: =F33-F34 -> 26999.835 | G35: =G33-G34 -> 27220.114 | L35: Hvidovre
B36: Arbejdsgiverbidrag | C36: =C33*$D$6 -> 3043.0786 | D36: =D33*$D$6 -> 3080.1329 | E36: =E33*$D$6 -> 3105.7836 | F36: =F33*$D$6 -> 3142.8379 | G36: =G33*$D$6 -> 3168.4789
A37: 29 | B37: Bruttoløn | C37: ='Løntabel april 2016'!C37*(1+$D$4) -> 28121.5 | D37: ='Løntabel april 2016'!D37*(1+$D$4) -> 28442.418 | E37: ='Løntabel april 2016'!E37*(1+$D$4) -> 28664.535 | F37: ='Løntabel april 2016'!F37*(1+$D$4) -> 28985.365 | G37: ='Løntabel april 2016'!G37*(1+$D$4) -> 29207.571
B38: Egetbidrag | C38: =C37*$D$5 -> 1546.6825 | D38: =D37*$D$5 -> 1564.333 | E38: =E37*$D$5 -> 1576.5494 | F38: =F37*$D$5 -> 1594.1951 | G38: =G37*$D$5 -> 1606.4164
B39: Nettoløn | C39: =C37-C38 -> 26574.818 | D39: =D37-D38 -> 26878.085 | E39: =E37-E38 -> 27087.986 | F39: =F37-F38 -> 27391.17 | G39: =G37-G38 -> 27601.154
B40: Arbejdsgiverbidrag | C40: =C37*$D$6 -> 3093.365 | D40: =D37*$D$6 -> 3128.666 | E40: =E37*$D$6 -> 3153.0989 | F40: =F37*$D$6 -> 3188.3902 | G40: =G37*$D$6 -> 3212.8328
A41: 30 | B41: Bruttoløn | C41: ='Løntabel april 2016'!C41*(1+$D$4) -> 28588.556 | D41: ='Løntabel april 2016'!D41*(1+$D$4) -> 28892.381 | E41: ='Løntabel april 2016'!E41*(1+$D$4) -> 29102.831 | F41: ='Løntabel april 2016'!F41*(1+$D$4) -> 29406.652 | G41: ='Løntabel april 2016'!G41*(1+$D$4) -> 29617.014
B42: Egetbidrag | C42: =C41*$D$5 -> 1572.3706 | D42: =D41*$D$5 -> 1589.081 | E42: =E41*$D$5 -> 1600.6557 | F42: =F41*$D$5 -> 1617.3658 | G42: =G41*$D$5 -> 1628.9357
B43: Nettoløn | C43: =C41-C42 -> 27016.185 | D43: =D41-D42 -> 27303.3 | E43: =E41-E42 -> 27502.176 | F43: =F41-F42 -> 27789.286 | G43: =G41-G42 -> 27988.078
B44: Arbejdsgiverbidrag | C44: =C41*$D$6 -> 3144.7412 | D44: =D41*$D$6 -> 3178.162 | E44: =E41*$D$6 -> 3201.3115 | F44: =F41*$D$6 -> 3234.7317 | G44: =G41*$D$6 -> 3257.8715
A45: HK
A46: 31 | B46: Bruttoløn | C46: ='Løntabel april 2016'!C46*(1+$D$4) -> 29066.196 | D46: ='Løntabel april 2016'!D46*(1+$D$4) -> 29352.047 | E46: ='Løntabel april 2016'!E46*(1+$D$4) -> 29549.87 | F46: ='Løntabel april 2016'!F46*(1+$D$4) -> 29835.72 | G46: ='Løntabel april 2016'!G46*(1+$D$4) -> 30033.543
B47: Egetbidrag | C47: =C46*$D$5 -> 1598.6408 | D47: =D46*$D$5 -> 1614.3626 | E47: =E46*$D$5 -> 1625.2428 | F47: =F46*$D$5 -> 1640.9646 | G47: =G46*$D$5 -> 1651.8448
B48: Nettoløn | C48: =C46-C47 -> 27467.556 | D48: =D46-D47 -> 27737.684 | E48: =E46-E47 -> 27924.627 | F48: =F46-F47 -> 28194.755 | G48: =G46-G47 -> 28381.698
B49: Arbejdsgiverbidrag | C49: =C46*$D$6 -> 3197.2816 | D49: =D46*$D$6 -> 3228.7252 | E49: =E46*$D$6 -> 3250.4857 | F49: =F46*$D$6 -> 3281.9292 | G49: =G46*$D$6 -> 3303.6897
B51: Ledende
A52: 39 | B52: Bruttoløn | C52: ='Løntabel april 2016'!C52*(1+$D$4) -> 33321.403 | D52: ='Løntabel april 2016'!D52*(1+$D$4) -> 33419.144 | E52: ='Løntabel april 2016'!E52*(1+$D$4) -> 33486.766 | F52: ='Løntabel april 2016'!F52*(1+$D$4) -> 33584.515 | G52: ='Løntabel april 2016'!G52*(1+$D$4) -> 33652.244
B53: Egetbidrag | C53: =C52*$D$5 -> 1832.6772 | D53: =D52*$D$5 -> 1838.0529 | E53: =E52*$D$5 -> 1841.7722 | F53: =F52*$D$5 -> 1847.1483 | G53: =G52*$D$5 -> 1850.8734
B54: Nettoløn | C54: =C52-C53 -> 31488.726 | D54: =D52-D53 -> 31581.091 | E54: =E52-E53 -> 31644.994 | F54: =F52-F53 -> 31737.367 | G54: =G52-G53 -> 31801.371
B55: Arbejdsgiverbidrag | C55: =C52*$D$6 -> 3665.3543 | D55: =D52*$D$6 -> 3676.1059 | E55: =E52*$D$6 -> 3683.5443 | F55: =F52*$D$6 -> 3694.2967 | G55: =G52*$D$6 -> 3701.7469
A56: HK

Sheet Deltid januar 2017
A1: Interaktiv løntabel med fuld kittelkompensation til deltidsansatte
A2: Løn gældende pr. 1. januar 2017
N3: Kitteltillæg okt 2015 | Q3: 242.75
A4: Eventuelle personlige løntillæg reguleres med: | D4: 0.012 | I4: INDTAST ANTAL TIMER PR: UGE: | K4: 32 | N4: Kitteltillæg april 2016 | Q4: 246.39125
A5: Egetbidrag pension: | D5: 0.055 | N5: Kitteltillæg jan 2017 | Q5: =+Q4*(1+D4) -> 249.34794
A6: Arbejdsgiverbidrag pension: | D6: 0.11
A9: Løntrin | C9: Grundsats | D9: Område 1 | E9: Område 2 | F9: Område 3 | G9: Område 4
B11: Ikke-uddannede
A12: 19 | B12: Bruttoløn | C12: =(('Løntabel januar 2017'!C12/37*$K$4))+($Q$5*((37-$K$4)/37)) -> 20815.232 | D12: =(('Løntabel januar 2017'!D12/37*$K$4))+($Q$5*((37-$K$4)/37)) -> 21155.555 | E12: =(('Løntabel januar 2017'!E12/37*$K$4))+($Q$5*((37-$K$4)/37)) -> 21391.178 | F12: =(('Løntabel januar 2017'!F12/37*$K$4))+($Q$5*((37-$K$4)/37)) -> 21731.51 | G12: =(('Løntabel januar 2017'!G12/37*$K$4))+($Q$5*((37-$K$4)/37)) -> 21967.143 | I12: Område 1 | J12: Område 2 | K12: Område 3 | L12: Område 4 | M12: Grundsats
B13: Egetbidrag | C13: =C12*$D$5 -> 1144.8377 | D13: =D12*$D$5 -> 1163.5555 | E13: =E12*$D$5 -> 1176.5148 | F13: =F12*$D$5 -> 1195.2331 | G13: =G12*$D$5 -> 1208.1929 | I13: Aalborg | J13: Køge | K13: Allerød | L13: Albertslund | M13: Alle andre kommuner
B14: Nettoløn | C14: =C12-C13 -> 19670.394 | D14: =D12-D13 -> 19991.999 | E14: =E12-E13 -> 20214.663 | F14: =F12-F13 -> 20536.277 | G14: =G12-G13 -> 20758.95 | I14: Esbjerg | J14: Lejre | K14: Fredensborg | L14: Ballerup
B15: Arbejdsgiverbidrag | C15: =C12*$D$6 -> 2289.6755 | D15: =D12*$D$6 -> 2327.111 | E15: =E12*$D$6 -> 2353.0295 | F15: =F12*$D$6 -> 2390.4661 | G15: =G12*$D$6 -> 2416.3857
A16: HK | I16: Faaborg-Midtfyn | J16: Roskilde | K16: Frederikssund | L16: Brøndby
B17: Uddannede | I17: Frederikshavn | J17: Solrød | K17: Gribskov | L17: Dragør
A18: 24 | B18: Bruttoløn | C18: =(('Løntabel januar 2017'!C18/37)*$K$4)+($Q$5*((37-$K$4)/37)) -> 22463.344 | D18: =(('Løntabel januar 2017'!D18/37)*$K$4)+($Q$5*((37-$K$4)/37)) -> 22801.571 | E18: =(('Løntabel januar 2017'!E18/37)*$K$4)+($Q$5*((37-$K$4)/37)) -> 23035.772 | F18: =(('Løntabel januar 2017'!F18/37)*$K$4)+($Q$5*((37-$K$4)/37)) -> 23374 | G18: =(('Løntabel januar 2017'!G18/37)*$K$4)+($Q$5*((37-$K$4)/37)) -> 23608.11 | I18: Kalundborg | J18: Århus | K18: Halsnæs | L18: Egedal
B19: Egetbidrag | C19: =C18*$D$5 -> 1235.4839 | D19: =D18*$D$5 -> 1254.0864 | E19: =E18*$D$5 -> 1266.9675 | F19: =F18*$D$5 -> 1285.57 | G19: =G18*$D$5 -> 1298.446 | I19: Kerteminde | K19: Helsingør | L19: Frederiksberg
B20: Nettoløn | C20: =C18-C19 -> 21227.86 | D20: =D18-D19 -> 21547.485 | E20: =E18-E19 -> 21768.805 | F20: =F18-F19 -> 22088.43 | G20: =G18-G19 -> 22309.664
B21: Arbejdsgiverbidrag | C21: =C18*$D$6 -> 2470.9678 | D21: =D18*$D$6 -> 2508.1728 | E21: =E18*$D$6 -> 2533.9349 | F21: =F18*$D$6 -> 2571.14 | G21: =G18*$D$6 -> 2596.8921 | I21: Nyborg | K21: Hillerød | L21: Gentofte
A22: HK | I22: Næstved | K22: Hørsholm | L22: Gladsaxe
A23: 25 | B23: Bruttoløn | C23: =(('Løntabel januar 2017'!C23/37)*$K$4)+($Q$5*((37-$K$4)/37)) -> 22824.855 | D23: =(('Løntabel januar 2017'!D23/37)*$K$4)+($Q$5*((37-$K$4)/37)) -> 23152.495 | E23: =(('Løntabel januar 2017'!E23/37)*$K$4)+($Q$5*((37-$K$4)/37)) -> 23379.298 | F23: =(('Løntabel januar 2017'!F23/37)*$K$4)+($Q$5*((37-$K$4)/37)) -> 23707.11 | G23: =(('Løntabel januar 2017'!G23/37)*$K$4)+($Q$5*((37-$K$4)/37)) -> 23933.903 | I23: Odense | L23: Glostrup
B24: Egetbidrag | C24: =C23*$D$5 -> 1255.367 | D24: =D23*$D$5 -> 1273.3872 | E24: =E23*$D$5 -> 1285.8614 | F24: =F23*$D$5 -> 1303.891 | G24: =G23*$D$5 -> 1316.3647 | I24: Skanderborg | L24: Greve
B25: Nettoløn | C25: =C23-C24 -> 21569.488 | D25: =D23-D24 -> 21879.108 | E25: =E23-E24 -> 22093.436 | F25: =F23-F24 -> 22403.219 | G25: =G23-G24 -> 22617.538
B26: Arbejdsgiverbidrag | C26: =C23*$D$6 -> 2510.734 | D26: =D23*$D$6 -> 2546.7745 | E26: =E23*$D$6 -> 2571.7228 | F26: =F23*$D$6 -> 2607.7821 | G26: =G23*$D$6 -> 2632.7293 | I26: Slagelse | L26: Herlev
A27: HK | I27: Sønderborg | L27: Høje-Tåstrup
A28: 26 | B28: Bruttoløn | C28: =(('Løntabel januar 2017'!C28/37)*$K$4)+($Q$5*((37-$K$4)/37)) -> 23194.681 | D28: =(('Løntabel januar 2017'!D28/37)*$K$4)+($Q$5*((37-$K$4)/37)) -> 23511.143 | E28: =(('Løntabel januar 2017'!E28/37)*$K$4)+($Q$5*((37-$K$4)/37)) -> 23730.119 | F28: =(('Løntabel januar 2017'!F28/37)*$K$4)+($Q$5*((37-$K$4)/37)) -> 24046.512 | G28: =(('Løntabel januar 2017'!G28/37)*$K$4)+($Q$5*((37-$K$4)/37)) -> 24265.496 | L28: Ishøj
B29: Egetbidrag | C29: =C28*$D$5 -> 1275.7074 | D29: =D28*$D$5 -> 1293.1128 | E29: =E28*$D$5 -> 1305.1565 | F29: =F28*$D$5 -> 1322.5582 | G29: =G28*$D$5 -> 1334.6023 | L29: København
B30: Nettoløn | C30: =C28-C29 -> 21918.973 | D30: =D28-D29 -> 22218.03 | E30: =E28-E29 -> 22424.962 | F30: =F28-F29 -> 22723.954 | G30: =G28-G29 -> 22930.894 | L30: Lyngby-Tårbæk
B31: Arbejdsgiverbidrag | C31: =C28*$D$6 -> 2551.4149 | D31: =D28*$D$6 -> 2586.2257 | E31: =E28*$D$6 -> 2610.313 | F31: =F28*$D$6 -> 2645.1163 | G31: =G28*$D$6 -> 2669.2045 | L31: Rudersdal Rødovre
A32: HK | L32: Tårnby
A33: 28 | B33: Bruttoløn | C33: =(('Løntabel januar 2017'!C33/37)*$K$4)+($Q$5*((37-$K$4)/37)) -> 23959.621 | D33: =(('Løntabel januar 2017'!D33/37)*$K$4)+($Q$5*((37-$K$4)/37)) -> 24250.957 | E33: =(('Løntabel januar 2017'!E33/37)*$K$4)+($Q$5*((37-$K$4)/37)) -> 24452.633 | F33: =(('Løntabel januar 2017'!F33/37)*$K$4)+($Q$5*((37-$K$4)/37)) -> 24743.969 | G33: =(('Løntabel januar 2017'!G33/37)*$K$4)+($Q$5*((37-$K$4)/37)) -> 24945.569 | L33: Vallensbæk
B34: Egetbidrag | C34: =C33*$D$5 -> 1317.7792 | D34: =D33*$D$5 -> 1333.8026 | E34: =E33*$D$5 -> 1344.8948 | F34: =F33*$D$5 -> 1360.9183 | G34: =G33*$D$5 -> 1372.0063 | L34: Furesø
B35: Nettoløn | C35: =C33-C34 -> 22641.842 | D35: =D33-D34 -> 22917.154 | E35: =E33-E34 -> 23107.738 | F35: =F33-F34 -> 23383.051 | G35: =G33-G34 -> 23573.563 | L35: Hvidovre
B36: Arbejdsgiverbidrag | C36: =C33*$D$6 -> 2635.5583 | D36: =D33*$D$6 -> 2667.6052 | E36: =E33*$D$6 -> 2689.7896 | F36: =F33*$D$6 -> 2721.8366 | G36: =G33*$D$6 -> 2744.0126
A37: 29 | B37: Bruttoløn | C37: =(('Løntabel januar 2017'!C37/37)*$K$4)+($Q$5*((37-$K$4)/37)) -> 24354.993 | D37: =(('Løntabel januar 2017'!D37/37)*$K$4)+($Q$5*((37-$K$4)/37)) -> 24632.544 | E37: =(('Løntabel januar 2017'!E37/37)*$K$4)+($Q$5*((37-$K$4)/37)) -> 24824.645 | F37: =(('Løntabel januar 2017'!F37/37)*$K$4)+($Q$5*((37-$K$4)/37)) -> 25102.12 | G37: =(('Løntabel januar 2017'!G37/37)*$K$4)+($Q$5*((37-$K$4)/37)) -> 25294.297
B38: Egetbidrag | C38: =C37*$D$5 -> 1339.5246 | D38: =D37*$D$5 -> 1354.7899 | E38: =E37*$D$5 -> 1365.3555 | F38: =F37*$D$5 -> 1380.6166 | G38: =G37*$D$5 -> 1391.1864
B39: Nettoløn | C39: =C37-C38 -> 23015.468 | D39: =D37-D38 -> 23277.754 | E39: =E37-E38 -> 23459.29 | F39: =F37-F38 -> 23721.503 | G39: =G37-G38 -> 23903.111
B40: Arbejdsgiverbidrag | C40: =C37*$D$6 -> 2679.0492 | D40: =D37*$D$6 -> 2709.5798 | E40: =E37*$D$6 -> 2730.711 | F40: =F37*$D$6 -> 2761.2332 | G40: =G37*$D$6 -> 2782.3727
A41: 30 | B41: Bruttoløn | C41: =(('Løntabel januar 2017'!C41/37)*$K$4)+($Q$5*((37-$K$4)/37)) -> 24758.933 | D41: =(('Løntabel januar 2017'!D41/37)*$K$4)+($Q$5*((37-$K$4)/37)) -> 25021.701 | E41: =(('Løntabel januar 2017'!E41/37)*$K$4)+($Q$5*((37-$K$4)/37)) -> 25203.712 | F41: =(('Løntabel januar 2017'!F41/37)*$K$4)+($Q$5*((37-$K$4)/37)) -> 25466.476 | G41: =(('Løntabel januar 2017'!G41/37)*$K$4)+($Q$5*((37-$K$4)/37)) -> 25648.41
B42: Egetbidrag | C42: =C41*$D$5 -> 1361.7413 | D42: =D41*$D$5 -> 1376.1936 | E42: =E41*$D$5 -> 1386.2042 | F42: =F41*$D$5 -> 1400.6562 | G42: =G41*$D$5 -> 1410.6626
B43: Nettoløn | C43: =C41-C42 -> 23397.192 | D43: =D41-D42 -> 23645.508 | E43: =E41-E42 -> 23817.508 | F43: =F41-F42 -> 24065.819 | G43: =G41-G42 -> 24237.748
B44: Arbejdsgiverbidrag | C44: =C41*$D$6 -> 2723.4827 | D44: =D41*$D$6 -> 2752.3871 | E44: =E41*$D$6 -> 2772.4083 | F44: =F41*$D$6 -> 2801.3123 | G44: =G41*$D$6 -> 2821.3251
A45: HK
A46: 31 | B46: Bruttoløn | C46: =(('Løntabel januar 2017'!C46/37)*$K$4)+($Q$5*((37-$K$4)/37)) -> 25172.028 | D46: =(('Løntabel januar 2017'!D46/37)*$K$4)+($Q$5*((37-$K$4)/37)) -> 25419.25 | E46: =(('Løntabel januar 2017'!E46/37)*$K$4)+($Q$5*((37-$K$4)/37)) -> 25590.34 | F46: =(('Løntabel januar 2017'!F46/37)*$K$4)+($Q$5*((37-$K$4)/37)) -> 25837.562 | G46: =(('Løntabel januar 2017'!G46/37)*$K$4)+($Q$5*((37-$K$4)/37)) -> 26008.652
B47: Egetbidrag | C47: =C46*$D$5 -> 1384.4615 | D47: =D46*$D$5 -> 1398.0587 | E47: =E46*$D$5 -> 1407.4687 | F47: =F46*$D$5 -> 1421.0659 | G47: =G46*$D$5 -> 1430.4758
B48: Nettoløn | C48: =C46-C47 -> 23787.566 | D48: =D46-D47 -> 24021.191 | E48: =E46-E47 -> 24182.871 | F48: =F46-F47 -> 24416.496 | G48: =G46-G47 -> 24578.176
B49: Arbejdsgiverbidrag | C49: =C46*$D$6 -> 2768.923 | D49: =D46*$D$6 -> 2796.1175 | E49: =E46*$D$6 -> 2814.9374 | F49: =F46*$D$6 -> 2842.1318 | G49: =G46*$D$6 -> 2860.9517
B51: Ledende
A52: 39 | B52: Bruttoløn | C52: =(('Løntabel januar 2017'!C52/37)*$K$4)+($Q$5*((37-$K$4)/37)) -> 28852.206 | D52: =(('Løntabel januar 2017'!D52/37)*$K$4)+($Q$5*((37-$K$4)/37)) -> 28936.739 | E52: =(('Løntabel januar 2017'!E52/37)*$K$4)+($Q$5*((37-$K$4)/37)) -> 28995.223 | F52: =(('Løntabel januar 2017'!F52/37)*$K$4)+($Q$5*((37-$K$4)/37)) -> 29079.763 | G52: =(('Løntabel januar 2017'!G52/37)*$K$4)+($Q$5*((37-$K$4)/37)) -> 29138.339
B53: Egetbidrag | C53: =C52*$D$5 -> 1586.8714 | D53: =D52*$D$5 -> 1591.5207 | E53: =E52*$D$5 -> 1594.7373 | F53: =F52*$D$5 -> 1599.387 | G53: =G52*$D$5 -> 1602.6087
B54: Nettoløn | C54: =C52-C53 -> 27265.335 | D54: =D52-D53 -> 27345.219 | E54: =E52-E53 -> 27400.486 | F54: =F52-F53 -> 27480.376 | G54: =G52-G53 -> 27535.731
B55: Arbejdsgiverbidrag | C55: =C52*$D$6 -> 3173.7427 | D55: =D52*$D$6 -> 3183.0413 | E55: =E52*$D$6 -> 3189.4746 | F55: =F52*$D$6 -> 3198.7739 | G55: =G52*$D$6 -> 3205.2173
A56: HK

Sheet Timelønnede januar 2017
A1: Interaktiv løntabel med fuld kittelkompensation til fuldtidsansatte
A2: Løn gældende pr. 1. januar 2017
A4: Eventuelle personlige løntillæg reguleres med: | D4: 0.012
A5: Egetbidrag pension: | D5: 0.055
A6: Arbejdsgiverbidrag pension: | D6: 0.11
A9: Løntrin | C9: Grundsats | D9: Område 1 | E9: Område 2 | F9: Område 3 | G9: Område 4
B11: Ikke-uddannede
A12: 19 | B12: Bruttoløn | C12: ='Løntabel januar 2017'!C12/160.33 -> 149.86996 | D12: ='Løntabel januar 2017'!D12/160.33 -> 152.32427 | E12: ='Løntabel januar 2017'!E12/160.33 -> 154.0235 | F12: ='Løntabel januar 2017'!F12/160.33 -> 156.47788 | G12: ='Løntabel januar 2017'!G12/160.33 -> 158.17719
B13: Egetbidrag | C13: =C12*$D$5 -> 8.2428479 | D13: =D12*$D$5 -> 8.3778346 | E13: =E12*$D$5 -> 8.4712927 | F13: =F12*$D$5 -> 8.6062833 | G13: =G12*$D$5 -> 8.6997454
B14: Nettoløn | C14: =C12-C13 -> 141.62711 | D14: =D12-D13 -> 143.94643 | E14: =E12-E13 -> 145.55221 | F14: =F12-F13 -> 147.87159 | G14: =G12-G13 -> 149.47744
B15: Arbejdsgiverbidrag | C15: =C12*$D$6 -> 16.485696 | D15: =D12*$D$6 -> 16.755669 | E15: =E12*$D$6 -> 16.942585 | F15: =F12*$D$6 -> 17.212567 | G15: =G12*$D$6 -> 17.399491
B17: Uddannede
A18: 24 | B18: Bruttoløn | C18: ='Løntabel januar 2017'!C18/160.33 -> 161.75563 | D18: ='Løntabel januar 2017'!D18/160.33 -> 164.19482 | E18: ='Løntabel januar 2017'!E18/160.33 -> 165.88381 | F18: ='Løntabel januar 2017'!F18/160.33 -> 168.323 | G18: ='Løntabel januar 2017'!G18/160.33 -> 170.01133
B19: Egetbidrag | C19: =C18*$D$5 -> 8.8965598 | D19: =D18*$D$5 -> 9.0307153 | E19: =E18*$D$5 -> 9.1236094 | F19: =F18*$D$5 -> 9.2577649 | G19: =G18*$D$5 -> 9.350623 | L19: Område 1 | M19: Område 2 | N19: Område 3 | O19: Område 4 | P19: Grundsats
B20: Nettoløn | C20: =C18-C19 -> 152.85907 | D20: =D18-D19 -> 155.16411 | E20: =E18-E19 -> 156.7602 | F20: =F18-F19 -> 159.06523 | G20: =G18-G19 -> 160.6607 | L20: Aalborg | M20: Køge | N20: Allerød | O20: Albertslund | P20: Alle andre kommuner
B21: Arbejdsgiverbidrag | C21: =C18*$D$6 -> 17.79312 | D21: =D18*$D$6 -> 18.061431 | E21: =E18*$D$6 -> 18.247219 | F21: =F18*$D$6 -> 18.51553 | G21: =G18*$D$6 -> 18.701246 | L21: Esbjerg | M21: Lejre | N21: Fredensborg | O21: Ballerup
A22: 25 | B22: Bruttoløn | C22: ='Løntabel januar 2017'!C23/160.33 -> 164.36274 | D22: ='Løntabel januar 2017'!D23/160.33 -> 166.72558 | E22: ='Løntabel januar 2017'!E23/160.33 -> 168.36121 | F22: ='Løntabel januar 2017'!F23/160.33 -> 170.72529 | G22: ='Løntabel januar 2017'!G23/160.33 -> 172.36085 | L22: Faaborg-Midtfyn | M22: Roskilde | N22: Frederikssund | O22: Brøndby
B23: Egetbidrag | C23: =C22*$D$5 -> 9.0399506 | D23: =D22*$D$5 -> 9.1699069 | E23: =E22*$D$5 -> 9.2598664 | F23: =F22*$D$5 -> 9.3898907 | G23: =G22*$D$5 -> 9.4798467 | L23: Frederikshavn | M23: Solrød | N23: Gribskov | O23: Dragør
B24: Nettoløn | C24: =C22-C23 -> 155.32279 | D24: =D22-D23 -> 157.55567 | E24: =E22-E23 -> 159.10134 | F24: =F22-F23 -> 161.3354 | G24: =G22-G23 -> 162.881 | L24: Kalundborg | M24: Århus | N24: Halsnæs | O24: Egedal
B25: Arbejdsgiverbidrag | C25: =C22*$D$6 -> 18.079901 | D25: =D22*$D$6 -> 18.339814 | E25: =E22*$D$6 -> 18.519733 | F25: =F22*$D$6 -> 18.779781 | G25: =G22*$D$6 -> 18.959693 | L25: Kerteminde | N25: Helsingør | O25: Frederiksberg
A26: 26 | B26: Bruttoløn | C26: ='Løntabel januar 2017'!C28/160.33 -> 167.02981 | D26: ='Løntabel januar 2017'!D28/160.33 -> 169.31203 | E26: ='Løntabel januar 2017'!E28/160.33 -> 170.89122 | F26: ='Løntabel januar 2017'!F28/160.33 -> 173.17295 | G26: ='Løntabel januar 2017'!G28/160.33 -> 174.75219 | L26: Nyborg | N26: Hillerød | O26: Gentofte
B27: Egetbidrag | C27: =C26*$D$5 -> 9.1866394 | D27: =D26*$D$5 -> 9.3121617 | E27: =E26*$D$5 -> 9.399017 | F27: =F26*$D$5 -> 9.5245122 | G27: =G26*$D$5 -> 9.6113706 | L27: Næstved | N27: Hørsholm | O27: Gladsaxe
B28: Nettoløn | C28: =C26-C27 -> 157.84317 | D28: =D26-D27 -> 159.99987 | E28: =E26-E27 -> 161.4922 | F28: =F26-F27 -> 163.64844 | G28: =G26-G27 -> 165.14082 | L28: Odense | O28: Glostrup
B29: Arbejdsgiverbidrag | C29: =C26*$D$6 -> 18.373279 | D29: =D26*$D$6 -> 18.624323 | E29: =E26*$D$6 -> 18.798034 | F29: =F26*$D$6 -> 19.049024 | G29: =G26*$D$6 -> 19.222741 | L29: Skanderborg | O29: Greve
A30: 28 | B30: Bruttoløn | C30: ='Løntabel januar 2017'!C33/160.33 -> 172.54632 | D30: ='Løntabel januar 2017'!D33/160.33 -> 174.64734 | E30: ='Løntabel januar 2017'!E33/160.33 -> 176.10177 | F30: ='Løntabel januar 2017'!F33/160.33 -> 178.20279 | G30: ='Løntabel januar 2017'!G33/160.33 -> 179.65667 | L30: Slagelse | O30: Herlev
B31: Egetbidrag | C31: =C30*$D$5 -> 9.4900475 | D31: =D30*$D$5 -> 9.6056037 | E31: =E30*$D$5 -> 9.6855972 | F31: =F30*$D$5 -> 9.8011535 | G31: =G30*$D$5 -> 9.8811167 | L31: Sønderborg | O31: Høje-Tåstrup
B32: Nettoløn | C32: =C30-C31 -> 163.05627 | D32: =D30-D31 -> 165.04174 | E32: =E30-E31 -> 166.41617 | F32: =F30-F31 -> 168.40164 | G32: =G30-G31 -> 169.77555 | O32: Ishøj
B33: Arbejdsgiverbidrag | C33: =C30*$D$6 -> 18.980095 | D33: =D30*$D$6 -> 19.211207 | E33: =E30*$D$6 -> 19.371194 | F33: =F30*$D$6 -> 19.602307 | G33: =G30*$D$6 -> 19.762233 | O33: København
A34: 29 | B34: Bruttoløn | C34: ='Løntabel januar 2017'!C37/160.33 -> 175.39762 | D34: ='Løntabel januar 2017'!D37/160.33 -> 177.39923 | E34: ='Løntabel januar 2017'!E37/160.33 -> 178.7846 | F34: ='Løntabel januar 2017'!F37/160.33 -> 180.78566 | G34: ='Løntabel januar 2017'!G37/160.33 -> 182.17159 | O34: Lyngby-Tårbæk
B35: Egetbidrag | C35: =C34*$D$5 -> 9.646869 | D35: =D34*$D$5 -> 9.7569575 | E35: =E34*$D$5 -> 9.8331532 | F35: =F34*$D$5 -> 9.9432114 | G35: =G34*$D$5 -> 10.019437 | O35: Rudersdal Rødovre
B36: Nettoløn | C36: =C34-C35 -> 165.75075 | D36: =D34-D35 -> 167.64227 | E36: =E34-E35 -> 168.95145 | F36: =F34-F35 -> 170.84245 | G36: =G34-G35 -> 172.15215 | O36: Tårnby
B37: Arbejdsgiverbidrag | C37: =C34*$D$6 -> 19.293738 | D37: =D34*$D$6 -> 19.513915 | E37: =E34*$D$6 -> 19.666306 | F37: =F34*$D$6 -> 19.886423 | G37: =G34*$D$6 -> 20.038875 | O37: Vallensbæk
A38: 30 | B38: Bruttoløn | C38: ='Løntabel januar 2017'!C41/160.33 -> 178.31071 | D38: ='Løntabel januar 2017'!D41/160.33 -> 180.20571 | E38: ='Løntabel januar 2017'!E41/160.33 -> 181.51832 | F38: ='Løntabel januar 2017'!F41/160.33 -> 183.41328 | G38: ='Løntabel januar 2017'!G41/160.33 -> 184.72534 | O38: Furesø
B39: Egetbidrag | C39: =C38*$D$5 -> 9.807089 | D39: =D38*$D$5 -> 9.911314 | E39: =E38*$D$5 -> 9.9835073 | F39: =F38*$D$5 -> 10.087731 | G39: =G38*$D$5 -> 10.159894 | O39: Hvidovre
B40: Nettoløn | C40: =C38-C39 -> 168.50362 | D40: =D38-D39 -> 170.2944 | E40: =E38-E39 -> 171.53481 | F40: =F38-F39 -> 173.32555 | G40: =G38-G39 -> 174.56545
B41: Arbejdsgiverbidrag | C41: =C38*$D$6 -> 19.614178 | D41: =D38*$D$6 -> 19.822628 | E41: =E38*$D$6 -> 19.967015 | F41: =F38*$D$6 -> 20.175461 | G41: =G38*$D$6 -> 20.319787
A42: 31 | B42: Bruttoløn | C42: ='Løntabel januar 2017'!C46/160.33 -> 181.28982 | D42: ='Løntabel januar 2017'!D46/160.33 -> 183.07271 | E42: ='Løntabel januar 2017'!E46/160.33 -> 184.30655 | F42: ='Løntabel januar 2017'!F46/160.33 -> 186.08944 | G42: ='Løntabel januar 2017'!G46/160.33 -> 187.32329
B43: Egetbidrag | C43: =C42*$D$5 -> 9.9709399 | D43: =D42*$D$5 -> 10.068999 | E43: =E42*$D$5 -> 10.13686 | F43: =F42*$D$5 -> 10.234919 | G43: =G42*$D$5 -> 10.302781
B44: Nettoløn | C44: =C42-C43 -> 171.31888 | D44: =D42-D43 -> 173.00371 | E44: =E42-E43 -> 174.16969 | F44: =F42-F43 -> 175.85452 | G44: =G42-G43 -> 177.02051
B45: Arbejdsgiverbidrag | C45: =C42*$D$6 -> 19.94188 | D45: =D42*$D$6 -> 20.137998 | E45: =E42*$D$6 -> 20.273721 | F45: =F42*$D$6 -> 20.469838 | G45: =G42*$D$6 -> 20.605562
B47: Ledende
A48: 39 | B48: Bruttoløn | C48: ='Løntabel januar 2017'!C52/160.33 -> 207.83012 | D48: ='Løntabel januar 2017'!D52/160.33 -> 208.43975 | E48: ='Løntabel januar 2017'!E52/160.33 -> 208.86151 | F48: ='Løntabel januar 2017'!F52/160.33 -> 209.47119 | G48: ='Løntabel januar 2017'!G52/160.33 -> 209.89362
B49: Egetbidrag | C49: =C48*$D$5 -> 11.430657 | D49: =D48*$D$5 -> 11.464186 | E49: =E48*$D$5 -> 11.487383 | F49: =F48*$D$5 -> 11.520915 | G49: =G48*$D$5 -> 11.544149
B50: Nettoløn | C50: =C48-C49 -> 196.39946 | D50: =D48-D49 -> 196.97556 | E50: =E48-E49 -> 197.37413 | F50: =F48-F49 -> 197.95027 | G50: =G48-G49 -> 198.34947
B51: Arbejdsgiverbidrag | C51: =C48*$D$6 -> 22.861313 | D51: =D48*$D$6 -> 22.928372 | E51: =E48*$D$6 -> 22.974767 | F51: =F48*$D$6 -> 23.041831 | G51: =G48*$D$6 -> 23.088298

Sheet Løntabel oktober 2017
A1: Løntabel for fuldtidsansatte
A2: Løn gældende pr. 1. oktober 2017
A4: Eventuelle personlige løntillæg reguleres med: | D4: 0.00288456
A5: Egetbidrag pension: | D5: 0.055
A6: Arbejdsgiverbidrag pension: | D6: 0.11
A9: Løntrin | C9: Grundsats | D9: Område 1 | E9: Område 2 | F9: Område 3 | G9: Område 4
B11: Ikke-uddannede
A12: 19 | B12: Bruttoløn | C12: ='Løntabel januar 2017'!C12*(1+$D$4) -> 24097.963 | D12: ='Løntabel januar 2017'!D12*(1+$D$4) -> 24492.597 | E12: ='Løntabel januar 2017'!E12*(1+$D$4) -> 24765.821 | F12: ='Løntabel januar 2017'!F12*(1+$D$4) -> 25160.466 | G12: ='Løntabel januar 2017'!G12*(1+$D$4) -> 25433.703 | I12: Område 1 | J12: Område 2 | K12: Område 3 | L12: Område 4 | M12: Grundsats
B13: Egetbidrag | C13: =C12*$D$5 -> 1325.388 | D13: =D12*$D$5 -> 1347.0928 | E13: =E12*$D$5 -> 1362.1202 | F13: =F12*$D$5 -> 1383.8256 | G13: =G12*$D$5 -> 1398.8536 | I13: Aalborg | J13: Køge | K13: Allerød | L13: Albertslund | M13: Alle andre kommuner
B14: Nettoløn | C14: =C12-C13 -> 22772.575 | D14: =D12-D13 -> 23145.504 | E14: =E12-E13 -> 23403.701 | F14: =F12-F13 -> 23776.641 | G14: =G12-G13 -> 24034.849 | I14: Esbjerg | J14: Lejre | K14: Fredensborg | L14: Ballerup
B15: Arbejdsgiverbidrag | C15: =C12*$D$6 -> 2650.7759 | D15: =D12*$D$6 -> 2694.1856 | E15: =E12*$D$6 -> 2724.2404 | F15: =F12*$D$6 -> 2767.6513 | G15: =G12*$D$6 -> 2797.7073
A16: HK | I16: Faaborg-Midtfyn | J16: Roskilde | K16: Frederikssund | L16: Brøndby
B17: Uddannede | I17: Frederikshavn | J17: Solrød | K17: Gribskov | L17: Dragør
A18: 24 | B18: Bruttoløn | C18: ='Løntabel januar 2017'!C18*(1+$D$4) -> 26009.09 | D18: ='Løntabel januar 2017'!D18*(1+$D$4) -> 26401.293 | E18: ='Løntabel januar 2017'!E18*(1+$D$4) -> 26672.869 | F18: ='Løntabel januar 2017'!F18*(1+$D$4) -> 27065.073 | G18: ='Løntabel januar 2017'!G18*(1+$D$4) -> 27336.543 | I18: Kalundborg | J18: Århus | K18: Halsnæs | L18: Egedal
B19: Egetbidrag | C19: =C18*$D$5 -> 1430.4999 | D19: =D18*$D$5 -> 1452.0711 | E19: =E18*$D$5 -> 1467.0078 | F19: =F18*$D$5 -> 1488.579 | G19: =G18*$D$5 -> 1503.5099 | I19: Kerteminde | K19: Helsingør | L19: Frederiksberg
B20: Nettoløn | C20: =C18-C19 -> 24578.59 | D20: =D18-D19 -> 24949.222 | E20: =E18-E19 -> 25205.861 | F20: =F18-F19 -> 25576.494 | G20: =G18-G19 -> 25833.033
B21: Arbejdsgiverbidrag | C21: =C18*$D$6 -> 2860.9999 | D21: =D18*$D$6 -> 2904.1423 | E21: =E18*$D$6 -> 2934.0156 | F21: =F18*$D$6 -> 2977.158 | G21: =G18*$D$6 -> 3007.0198 | I21: Nyborg | K21: Hillerød | L21: Gentofte
A22: HK | I22: Næstved | K22: Hørsholm | L22: Gladsaxe
A23: 25 | B23: Bruttoløn | C23: ='Løntabel januar 2017'!C23*(1+$D$4) -> 26428.293 | D23: ='Løntabel januar 2017'!D23*(1+$D$4) -> 26808.22 | E23: ='Løntabel januar 2017'!E23*(1+$D$4) -> 27071.216 | F23: ='Løntabel januar 2017'!F23*(1+$D$4) -> 27451.342 | G23: ='Løntabel januar 2017'!G23*(1+$D$4) -> 27714.329 | I23: Odense | L23: Glostrup
B24: Egetbidrag | C24: =C23*$D$5 -> 1453.5561 | D24: =D23*$D$5 -> 1474.4521 | E24: =E23*$D$5 -> 1488.9169 | F24: =F23*$D$5 -> 1509.8238 | G24: =G23*$D$5 -> 1524.2881 | I24: Skanderborg | L24: Greve
B25: Nettoløn | C25: =C23-C24 -> 24974.736 | D25: =D23-D24 -> 25333.768 | E25: =E23-E24 -> 25582.3 | F25: =F23-F24 -> 25941.519 | G25: =G23-G24 -> 26190.04
B26: Arbejdsgiverbidrag | C26: =C23*$D$6 -> 2907.1122 | D26: =D23*$D$6 -> 2948.9042 | E26: =E23*$D$6 -> 2977.8338 | F26: =F23*$D$6 -> 3019.6477 | G26: =G23*$D$6 -> 3048.5761 | I26: Slagelse | L26: Herlev
A27: HK | I27: Sønderborg | L27: Høje-Tåstrup
A28: 26 | B28: Bruttoløn | C28: ='Løntabel januar 2017'!C28*(1+$D$4) -> 26857.137 | D28: ='Løntabel januar 2017'!D28*(1+$D$4) -> 27224.102 | E28: ='Løntabel januar 2017'!E28*(1+$D$4) -> 27478.023 | F28: ='Løntabel januar 2017'!F28*(1+$D$4) -> 27844.908 | G28: ='Løntabel januar 2017'!G28*(1+$D$4) -> 28098.839 | L28: Ishøj
B29: Egetbidrag | C29: =C28*$D$5 -> 1477.1425 | D29: =D28*$D$5 -> 1497.3256 | E29: =E28*$D$5 -> 1511.2913 | F29: =F28*$D$5 -> 1531.4699 | G29: =G28*$D$5 -> 1545.4361 | L29: København
B30: Nettoløn | C30: =C28-C29 -> 25379.995 | D30: =D28-D29 -> 25726.776 | E30: =E28-E29 -> 25966.732 | F30: =F28-F29 -> 26313.438 | G30: =G28-G29 -> 26553.403 | L30: Lyngby-Tårbæk
B31: Arbejdsgiverbidrag | C31: =C28*$D$6 -> 2954.2851 | D31: =D28*$D$6 -> 2994.6512 | E31: =E28*$D$6 -> 3022.5825 | F31: =F28*$D$6 -> 3062.9399 | G31: =G28*$D$6 -> 3090.8723 | L31: Rudersdal Rødovre
A32: HK | L32: Tårnby
A33: 28 | B33: Bruttoløn | C33: ='Løntabel januar 2017'!C33*(1+$D$4) -> 27744.151 | D33: ='Løntabel januar 2017'!D33*(1+$D$4) -> 28081.979 | E33: ='Løntabel januar 2017'!E33*(1+$D$4) -> 28315.84 | F33: ='Løntabel januar 2017'!F33*(1+$D$4) -> 28653.669 | G33: ='Løntabel januar 2017'!G33*(1+$D$4) -> 28887.441 | L33: Vallensbæk
B34: Egetbidrag | C34: =C33*$D$5 -> 1525.9283 | D34: =D33*$D$5 -> 1544.5089 | E34: =E33*$D$5 -> 1557.3712 | F34: =F33*$D$5 -> 1575.9518 | G34: =G33*$D$5 -> 1588.8093 | L34: Furesø
B35: Nettoløn | C35: =C33-C34 -> 26218.222 | D35: =D33-D34 -> 26537.47 | E35: =E33-E34 -> 26758.469 | F35: =F33-F34 -> 27077.717 | G35: =G33-G34 -> 27298.632 | L35: Hvidovre
B36: Arbejdsgiverbidrag | C36: =C33*$D$6 -> 3051.8566 | D36: =D33*$D$6 -> 3089.0177 | E36: =E33*$D$6 -> 3114.7424 | F36: =F33*$D$6 -> 3151.9036 | G36: =G33*$D$6 -> 3177.6186
A37: 29 | B37: Bruttoløn | C37: ='Løntabel januar 2017'!C37*(1+$D$4) -> 28202.618 | D37: ='Løntabel januar 2017'!D37*(1+$D$4) -> 28524.462 | E37: ='Løntabel januar 2017'!E37*(1+$D$4) -> 28747.22 | F37: ='Løntabel januar 2017'!F37*(1+$D$4) -> 29068.975 | G37: ='Løntabel januar 2017'!G37*(1+$D$4) -> 29291.822
B38: Egetbidrag | C38: =C37*$D$5 -> 1551.144 | D38: =D37*$D$5 -> 1568.8454 | E38: =E37*$D$5 -> 1581.0971 | F38: =F37*$D$5 -> 1598.7936 | G38: =G37*$D$5 -> 1611.0502
B39: Nettoløn | C39: =C37-C38 -> 26651.474 | D39: =D37-D38 -> 26955.617 | E39: =E37-E38 -> 27166.123 | F39: =F37-F38 -> 27470.182 | G39: =G37-G38 -> 27680.772
B40: Arbejdsgiverbidrag | C40: =C37*$D$6 -> 3102.288 | D40: =D37*$D$6 -> 3137.6908 | E40: =E37*$D$6 -> 3162.1942 | F40: =F37*$D$6 -> 3197.5873 | G40: =G37*$D$6 -> 3222.1004
A41: 30 | B41: Bruttoløn | C41: ='Løntabel januar 2017'!C41*(1+$D$4) -> 28671.021 | D41: ='Løntabel januar 2017'!D41*(1+$D$4) -> 28975.723 | E41: ='Løntabel januar 2017'!E41*(1+$D$4) -> 29186.78 | F41: ='Løntabel januar 2017'!F41*(1+$D$4) -> 29491.477 | G41: ='Løntabel januar 2017'!G41*(1+$D$4) -> 29702.446
B42: Egetbidrag | C42: =C41*$D$5 -> 1576.9062 | D42: =D41*$D$5 -> 1593.6648 | E42: =E41*$D$5 -> 1605.2729 | F42: =F41*$D$5 -> 1622.0312 | G42: =G41*$D$5 -> 1633.6345
B43: Nettoløn | C43: =C41-C42 -> 27094.115 | D43: =D41-D42 -> 27382.058 | E43: =E41-E42 -> 27581.507 | F43: =F41-F42 -> 27869.446 | G43: =G41-G42 -> 28068.811
B44: Arbejdsgiverbidrag | C44: =C41*$D$6 -> 3153.8123 | D44: =D41*$D$6 -> 3187.3295 | E44: =E41*$D$6 -> 3210.5458 | F44: =F41*$D$6 -> 3244.0625 | G44: =G41*$D$6 -> 3267.269
A45: HK
A46: 31 | B46: Bruttoløn | C46: ='Løntabel januar 2017'!C46*(1+$D$4) -> 29150.04 | D46: ='Løntabel januar 2017'!D46*(1+$D$4) -> 29436.715 | E46: ='Løntabel januar 2017'!E46*(1+$D$4) -> 29635.108 | F46: ='Løntabel januar 2017'!F46*(1+$D$4) -> 29921.783 | G46: ='Løntabel januar 2017'!G46*(1+$D$4) -> 30120.176
B47: Egetbidrag | C47: =C46*$D$5 -> 1603.2522 | D47: =D46*$D$5 -> 1619.0193 | E47: =E46*$D$5 -> 1629.9309 | F47: =F46*$D$5 -> 1645.6981 | G47: =G46*$D$5 -> 1656.6097
B48: Nettoløn | C48: =C46-C47 -> 27546.787 | D48: =D46-D47 -> 27817.695 | E48: =E46-E47 -> 28005.177 | F48: =F46-F47 -> 28276.085 | G48: =G46-G47 -> 28463.567
B49: Arbejdsgiverbidrag | C49: =C46*$D$6 -> 3206.5044 | D49: =D46*$D$6 -> 3238.0386 | E49: =E46*$D$6 -> 3259.8619 | F49: =F46*$D$6 -> 3291.3961 | G49: =G46*$D$6 -> 3313.2194
B51: Ledende
A52: 39 | B52: Bruttoløn | C52: ='Løntabel januar 2017'!C52*(1+$D$4) -> 33417.521 | D52: ='Løntabel januar 2017'!D52*(1+$D$4) -> 33515.544 | E52: ='Løntabel januar 2017'!E52*(1+$D$4) -> 33583.361 | F52: ='Løntabel januar 2017'!F52*(1+$D$4) -> 33681.392 | G52: ='Løntabel januar 2017'!G52*(1+$D$4) -> 33749.316
B53: Egetbidrag | C53: =C52*$D$5 -> 1837.9636 | D53: =D52*$D$5 -> 1843.3549 | E53: =E52*$D$5 -> 1847.0849 | F53: =F52*$D$5 -> 1852.4766 | G53: =G52*$D$5 -> 1856.2124
B54: Nettoløn | C54: =C52-C53 -> 31579.557 | D54: =D52-D53 -> 31672.189 | E54: =E52-E53 -> 31736.276 | F54: =F52-F53 -> 31828.915 | G54: =G52-G53 -> 31893.104
B55: Arbejdsgiverbidrag | C55: =C52*$D$6 -> 3675.9273 | D55: =D52*$D$6 -> 3686.7098 | E55: =E52*$D$6 -> 3694.1697 | F55: =F52*$D$6 -> 3704.9531 | G55: =G52*$D$6 -> 3712.4248
A56: HK

Sheet Deltid oktober 2017
A1: Interaktiv løntabel med fuld kittelkompensation til deltidsansatte
A2: Løn gældende pr. 1. januar 2017
N3: Kitteltillæg okt 2015 | Q3: 242.75
A4: Eventuelle personlige løntillæg reguleres med: | D4: 0.00288456 | I4: INDTAST ANTAL TIMER PR: UGE: | K4: 32 | N4: Kitteltillæg april 2016 | Q4: 246.39125
A5: Egetbidrag pension: | D5: 0.055 | N5: Kitteltillæg jan 2017 | Q5: =+Q4*(1+'Deltid januar 2017'!$D$4) -> 249.34794
A6: Arbejdsgiverbidrag pension: | D6: 0.11 | N6: Kitteltillæg okt 2017 | Q6: =+Q5*(1+$D$4) -> 250.0672
A9: Løntrin | C9: Grundsats | D9: Område 1 | E9: Område 2 | F9: Område 3 | G9: Område 4
B11: Ikke-uddannede
A12: 19 | B12: Bruttoløn | C12: =(('Løntabel oktober 2017'!C12/37*$K$4))+($Q$6*((37-$K$4)/37)) -> 20875.274 | D12: =(('Løntabel oktober 2017'!D12/37*$K$4))+($Q$6*((37-$K$4)/37)) -> 21216.579 | E12: =(('Løntabel oktober 2017'!E12/37*$K$4))+($Q$6*((37-$K$4)/37)) -> 21452.882 | F12: =(('Løntabel oktober 2017'!F12/37*$K$4))+($Q$6*((37-$K$4)/37)) -> 21794.196 | G12: =(('Løntabel oktober 2017'!G12/37*$K$4))+($Q$6*((37-$K$4)/37)) -> 22030.509 | I12: Område 1 | J12: Område 2 | K12: Område 3 | L12: Område 4 | M12: Grundsats
B13: Egetbidrag | C13: =C12*$D$5 -> 1148.1401 | D13: =D12*$D$5 -> 1166.9119 | E13: =E12*$D$5 -> 1179.9085 | F13: =F12*$D$5 -> 1198.6808 | G13: =G12*$D$5 -> 1211.678 | I13: Aalborg | J13: Køge | K13: Allerød | L13: Albertslund | M13: Alle andre kommuner
B14: Nettoløn | C14: =C12-C13 -> 19727.134 | D14: =D12-D13 -> 20049.667 | E14: =E12-E13 -> 20272.973 | F14: =F12-F13 -> 20595.515 | G14: =G12-G13 -> 20818.831 | I14: Esbjerg | J14: Lejre | K14: Fredensborg | L14: Ballerup
B15: Arbejdsgiverbidrag | C15: =C12*$D$6 -> 2296.2802 | D15: =D12*$D$6 -> 2333.8237 | E15: =E12*$D$6 -> 2359.817 | F15: =F12*$D$6 -> 2397.3616 | G15: =G12*$D$6 -> 2423.356
A16: HK | I16: Faaborg-Midtfyn | J16: Roskilde | K16: Frederikssund | L16: Brøndby
B17: Uddannede | I17: Frederikshavn | J17: Solrød | K17: Gribskov | L17: Dragør
A18: 24 | B18: Bruttoløn | C18: =(('Løntabel oktober 2017'!C18/37)*$K$4)+($Q$6*((37-$K$4)/37)) -> 22528.141 | D18: =(('Løntabel oktober 2017'!D18/37)*$K$4)+($Q$6*((37-$K$4)/37)) -> 22867.344 | E18: =(('Løntabel oktober 2017'!E18/37)*$K$4)+($Q$6*((37-$K$4)/37)) -> 23102.22 | F18: =(('Løntabel oktober 2017'!F18/37)*$K$4)+($Q$6*((37-$K$4)/37)) -> 23441.423 | G18: =(('Løntabel oktober 2017'!G18/37)*$K$4)+($Q$6*((37-$K$4)/37)) -> 23676.209 | I18: Kalundborg | J18: Århus | K18: Halsnæs | L18: Egedal
B19: Egetbidrag | C19: =C18*$D$5 -> 1239.0477 | D19: =D18*$D$5 -> 1257.7039 | E19: =E18*$D$5 -> 1270.6221 | F19: =F18*$D$5 -> 1289.2783 | G19: =G18*$D$5 -> 1302.1915 | I19: Kerteminde | K19: Helsingør | L19: Frederiksberg
B20: Nettoløn | C20: =C18-C19 -> 21289.093 | D20: =D18-D19 -> 21609.64 | E20: =E18-E19 -> 21831.598 | F20: =F18-F19 -> 22152.145 | G20: =G18-G19 -> 22374.017
B21: Arbejdsgiverbidrag | C21: =C18*$D$6 -> 2478.0955 | D21: =D18*$D$6 -> 2515.4078 | E21: =E18*$D$6 -> 2541.2442 | F21: =F18*$D$6 -> 2578.5566 | G21: =G18*$D$6 -> 2604.383 | I21: Nyborg | K21: Hillerød | L21: Gentofte
A22: HK | I22: Næstved | K22: Hørsholm | L22: Gladsaxe
A23: 25 | B23: Bruttoløn | C23: =(('Løntabel oktober 2017'!C23/37)*$K$4)+($Q$6*((37-$K$4)/37)) -> 22890.694 | D23: =(('Løntabel oktober 2017'!D23/37)*$K$4)+($Q$6*((37-$K$4)/37)) -> 23219.28 | E23: =(('Løntabel oktober 2017'!E23/37)*$K$4)+($Q$6*((37-$K$4)/37)) -> 23446.737 | F23: =(('Løntabel oktober 2017'!F23/37)*$K$4)+($Q$6*((37-$K$4)/37)) -> 23775.494 | G23: =(('Løntabel oktober 2017'!G23/37)*$K$4)+($Q$6*((37-$K$4)/37)) -> 24002.942 | I23: Odense | L23: Glostrup
B24: Egetbidrag | C24: =C23*$D$5 -> 1258.9882 | D24: =D23*$D$5 -> 1277.0604 | E24: =E23*$D$5 -> 1289.5705 | F24: =F23*$D$5 -> 1307.6522 | G24: =G23*$D$5 -> 1320.1618 | I24: Skanderborg | L24: Greve
B25: Nettoløn | C25: =C23-C24 -> 21631.706 | D25: =D23-D24 -> 21942.22 | E25: =E23-E24 -> 22157.166 | F25: =F23-F24 -> 22467.842 | G25: =G23-G24 -> 22682.78
B26: Arbejdsgiverbidrag | C26: =C23*$D$6 -> 2517.9764 | D26: =D23*$D$6 -> 2554.1208 | E26: =E23*$D$6 -> 2579.141 | F26: =F23*$D$6 -> 2615.3044 | G26: =G23*$D$6 -> 2640.3236 | I26: Slagelse | L26: Herlev
A27: HK | I27: Sønderborg | L27: Høje-Tåstrup
A28: 26 | B28: Bruttoløn | C28: =(('Løntabel oktober 2017'!C28/37)*$K$4)+($Q$6*((37-$K$4)/37)) -> 23261.587 | D28: =(('Løntabel oktober 2017'!D28/37)*$K$4)+($Q$6*((37-$K$4)/37)) -> 23578.962 | E28: =(('Løntabel oktober 2017'!E28/37)*$K$4)+($Q$6*((37-$K$4)/37)) -> 23798.57 | F28: =(('Løntabel oktober 2017'!F28/37)*$K$4)+($Q$6*((37-$K$4)/37)) -> 24115.876 | G28: =(('Løntabel oktober 2017'!G28/37)*$K$4)+($Q$6*((37-$K$4)/37)) -> 24335.491 | L28: Ishøj
B29: Egetbidrag | C29: =C28*$D$5 -> 1279.3873 | D29: =D28*$D$5 -> 1296.8429 | E29: =E28*$D$5 -> 1308.9213 | F29: =F28*$D$5 -> 1326.3732 | G29: =G28*$D$5 -> 1338.452 | L29: København
B30: Nettoløn | C30: =C28-C29 -> 21982.2 | D30: =D28-D29 -> 22282.119 | E30: =E28-E29 -> 22489.648 | F30: =F28-F29 -> 22789.502 | G30: =G28-G29 -> 22997.039 | L30: Lyngby-Tårbæk
B31: Arbejdsgiverbidrag | C31: =C28*$D$6 -> 2558.7746 | D31: =D28*$D$6 -> 2593.6858 | E31: =E28*$D$6 -> 2617.8427 | F31: =F28*$D$6 -> 2652.7463 | G31: =G28*$D$6 -> 2676.904 | L31: Rudersdal Rødovre
A32: HK | L32: Tårnby
A33: 28 | B33: Bruttoløn | C33: =(('Løntabel oktober 2017'!C33/37)*$K$4)+($Q$6*((37-$K$4)/37)) -> 24028.734 | D33: =(('Løntabel oktober 2017'!D33/37)*$K$4)+($Q$6*((37-$K$4)/37)) -> 24320.91 | E33: =(('Løntabel oktober 2017'!E33/37)*$K$4)+($Q$6*((37-$K$4)/37)) -> 24523.168 | F33: =(('Løntabel oktober 2017'!F33/37)*$K$4)+($Q$6*((37-$K$4)/37)) -> 24815.344 | G33: =(('Løntabel oktober 2017'!G33/37)*$K$4)+($Q$6*((37-$K$4)/37)) -> 25017.526 | L33: Vallensbæk
B34: Egetbidrag | C34: =C33*$D$5 -> 1321.5804 | D34: =D33*$D$5 -> 1337.6501 | E34: =E33*$D$5 -> 1348.7743 | F34: =F33*$D$5 -> 1364.8439 | G34: =G33*$D$5 -> 1375.9639 | L34: Furesø
B35: Nettoløn | C35: =C33-C34 -> 22707.154 | D35: =D33-D34 -> 22983.26 | E35: =E33-E34 -> 23174.394 | F35: =F33-F34 -> 23450.5 | G35: =G33-G34 -> 23641.562 | L35: Hvidovre
B36: Arbejdsgiverbidrag | C36: =C33*$D$6 -> 2643.1607 | D36: =D33*$D$6 -> 2675.3001 | E36: =E33*$D$6 -> 2697.5485 | F36: =F33*$D$6 -> 2729.6879 | G36: =G33*$D$6 -> 2751.9279
A37: 29 | B37: Bruttoløn | C37: =(('Løntabel oktober 2017'!C37/37)*$K$4)+($Q$6*((37-$K$4)/37)) -> 24425.246 | D37: =(('Løntabel oktober 2017'!D37/37)*$K$4)+($Q$6*((37-$K$4)/37)) -> 24703.598 | E37: =(('Løntabel oktober 2017'!E37/37)*$K$4)+($Q$6*((37-$K$4)/37)) -> 24896.253 | F37: =(('Løntabel oktober 2017'!F37/37)*$K$4)+($Q$6*((37-$K$4)/37)) -> 25174.528 | G37: =(('Løntabel oktober 2017'!G37/37)*$K$4)+($Q$6*((37-$K$4)/37)) -> 25367.26
B38: Egetbidrag | C38: =C37*$D$5 -> 1343.3886 | D38: =D37*$D$5 -> 1358.6979 | E38: =E37*$D$5 -> 1369.2939 | F38: =F37*$D$5 -> 1384.5991 | G38: =G37*$D$5 -> 1395.1993
B39: Nettoløn | C39: =C37-C38 -> 23081.858 | D39: =D37-D38 -> 23344.9 | E39: =E37-E38 -> 23526.959 | F39: =F37-F38 -> 23789.929 | G39: =G37-G38 -> 23972.061
B40: Arbejdsgiverbidrag | C40: =C37*$D$6 -> 2686.7771 | D40: =D37*$D$6 -> 2717.3958 | E40: =E37*$D$6 -> 2738.5879 | F40: =F37*$D$6 -> 2769.1981 | G40: =G37*$D$6 -> 2790.3986
A41: 30 | B41: Bruttoløn | C41: =(('Løntabel oktober 2017'!C41/37)*$K$4)+($Q$6*((37-$K$4)/37)) -> 24830.352 | D41: =(('Løntabel oktober 2017'!D41/37)*$K$4)+($Q$6*((37-$K$4)/37)) -> 25093.878 | E41: =(('Løntabel oktober 2017'!E41/37)*$K$4)+($Q$6*((37-$K$4)/37)) -> 25276.414 | F41: =(('Løntabel oktober 2017'!F41/37)*$K$4)+($Q$6*((37-$K$4)/37)) -> 25539.935 | G41: =(('Løntabel oktober 2017'!G41/37)*$K$4)+($Q$6*((37-$K$4)/37)) -> 25722.394
B42: Egetbidrag | C42: =C41*$D$5 -> 1365.6694 | D42: =D41*$D$5 -> 1380.1633 | E42: =E41*$D$5 -> 1390.2028 | F42: =F41*$D$5 -> 1404.6964 | G42: =G41*$D$5 -> 1414.7317
B43: Nettoløn | C43: =C41-C42 -> 23464.683 | D43: =D41-D42 -> 23713.714 | E43: =E41-E42 -> 23886.211 | F43: =F41-F42 -> 24135.239 | G43: =G41-G42 -> 24307.663
B44: Arbejdsgiverbidrag | C44: =C41*$D$6 -> 2731.3387 | D44: =D41*$D$6 -> 2760.3266 | E44: =E41*$D$6 -> 2780.4055 | F44: =F41*$D$6 -> 2809.3929 | G44: =G41*$D$6 -> 2829.4634
A45: HK
A46: 31 | B46: Bruttoløn | C46: =(('Løntabel oktober 2017'!C46/37)*$K$4)+($Q$6*((37-$K$4)/37)) -> 25244.638 | D46: =(('Løntabel oktober 2017'!D46/37)*$K$4)+($Q$6*((37-$K$4)/37)) -> 25492.573 | E46: =(('Løntabel oktober 2017'!E46/37)*$K$4)+($Q$6*((37-$K$4)/37)) -> 25664.156 | F46: =(('Løntabel oktober 2017'!F46/37)*$K$4)+($Q$6*((37-$K$4)/37)) -> 25912.092 | G46: =(('Løntabel oktober 2017'!G46/37)*$K$4)+($Q$6*((37-$K$4)/37)) -> 26083.675
B47: Egetbidrag | C47: =C46*$D$5 -> 1388.4551 | D47: =D46*$D$5 -> 1402.0915 | E47: =E46*$D$5 -> 1411.5286 | F47: =F46*$D$5 -> 1425.165 | G47: =G46*$D$5 -> 1434.6021
B48: Nettoløn | C48: =C46-C47 -> 23856.183 | D48: =D46-D47 -> 24090.482 | E48: =E46-E47 -> 24252.628 | F48: =F46-F47 -> 24486.927 | G48: =G46-G47 -> 24649.073
B49: Arbejdsgiverbidrag | C49: =C46*$D$6 -> 2776.9102 | D49: =D46*$D$6 -> 2804.183 | E49: =E46*$D$6 -> 2823.0572 | F49: =F46*$D$6 -> 2850.3301 | G49: =G46*$D$6 -> 2869.2043
B51: Ledende
A52: 39 | B52: Bruttoløn | C52: =(('Løntabel oktober 2017'!C52/37)*$K$4)+($Q$6*((37-$K$4)/37)) -> 28935.432 | D52: =(('Løntabel oktober 2017'!D52/37)*$K$4)+($Q$6*((37-$K$4)/37)) -> 29020.209 | E52: =(('Løntabel oktober 2017'!E52/37)*$K$4)+($Q$6*((37-$K$4)/37)) -> 29078.862 | F52: =(('Løntabel oktober 2017'!F52/37)*$K$4)+($Q$6*((37-$K$4)/37)) -> 29163.645 | G52: =(('Løntabel oktober 2017'!G52/37)*$K$4)+($Q$6*((37-$K$4)/37)) -> 29222.391
B53: Egetbidrag | C53: =C52*$D$5 -> 1591.4488 | D53: =D52*$D$5 -> 1596.1115 | E53: =E52*$D$5 -> 1599.3374 | F53: =F52*$D$5 -> 1604.0005 | G53: =G52*$D$5 -> 1607.2315
B54: Nettoløn | C54: =C52-C53 -> 27343.984 | D54: =D52-D53 -> 27424.098 | E54: =E52-E53 -> 27479.524 | F54: =F52-F53 -> 27559.645 | G54: =G52-G53 -> 27615.159
B55: Arbejdsgiverbidrag | C55: =C52*$D$6 -> 3182.8976 | D55: =D52*$D$6 -> 3192.223 | E55: =E52*$D$6 -> 3198.6748 | F55: =F52*$D$6 -> 3208.001 | G55: =G52*$D$6 -> 3214.463
A56: HK

Sheet Timelønnede oktober 2017
A1: Løntabel for timelønnende (medarbejdere ansat i indtil 8 timer pr. uge eller højst 1 måned)
A2: Løn gældende pr. 1. oktober
A4: Eventuelle personlige løntillæg reguleres med: | D4: 0.00288456
A5: Egetbidrag pension: | D5: 0.055
A6: Arbejdsgiverbidrag pension: | D6: 0.11
A9: Løntrin | C9: Grundsats | D9: Område 1 | E9: Område 2 | F9: Område 3 | G9: Område 4
B11: Ikke-uddannede
A12: 19 | B12: Bruttoløn | C12: ='Løntabel oktober 2017'!C12/160.33 -> 150.30227 | D12: ='Løntabel oktober 2017'!D12/160.33 -> 152.76365 | E12: ='Løntabel oktober 2017'!E12/160.33 -> 154.46779 | F12: ='Løntabel oktober 2017'!F12/160.33 -> 156.92925 | G12: ='Løntabel oktober 2017'!G12/160.33 -> 158.63346
B13: Egetbidrag | C13: =C12*$D$5 -> 8.2666249 | D13: =D12*$D$5 -> 8.402001 | E13: =E12*$D$5 -> 8.4957287 | F13: =F12*$D$5 -> 8.6311086 | G13: =G12*$D$5 -> 8.7248403
B14: Nettoløn | C14: =C12-C13 -> 142.03565 | D14: =D12-D13 -> 144.36165 | E14: =E12-E13 -> 145.97207 | F14: =F12-F13 -> 148.29814 | G14: =G12-G13 -> 149.90862
B15: Arbejdsgiverbidrag | C15: =C12*$D$6 -> 16.53325 | D15: =D12*$D$6 -> 16.804002 | E15: =E12*$D$6 -> 16.991457 | F15: =F12*$D$6 -> 17.262217 | G15: =G12*$D$6 -> 17.449681
B17: Uddannede
A18: 24 | B18: Bruttoløn | C18: ='Løntabel oktober 2017'!C18/160.33 -> 162.22223 | D18: ='Løntabel oktober 2017'!D18/160.33 -> 164.66845 | E18: ='Løntabel oktober 2017'!E18/160.33 -> 166.36231 | F18: ='Løntabel oktober 2017'!F18/160.33 -> 168.80854 | G18: ='Løntabel oktober 2017'!G18/160.33 -> 170.50174
B19: Egetbidrag | C19: =C18*$D$5 -> 8.9222225 | D19: =D18*$D$5 -> 9.056765 | E19: =E18*$D$5 -> 9.149927 | F19: =F18*$D$5 -> 9.2844695 | G19: =G18*$D$5 -> 9.3775954 | L19: Område 1 | M19: Område 2 | N19: Område 3 | O19: Område 4 | P19: Grundsats
B20: Nettoløn | C20: =C18-C19 -> 153.3 | D20: =D18-D19 -> 155.61169 | E20: =E18-E19 -> 157.21238 | F20: =F18-F19 -> 159.52407 | G20: =G18-G19 -> 161.12414 | L20: Aalborg | M20: Køge | N20: Allerød | O20: Albertslund | P20: Alle andre kommuner
B21: Arbejdsgiverbidrag | C21: =C18*$D$6 -> 17.844445 | D21: =D18*$D$6 -> 18.11353 | E21: =E18*$D$6 -> 18.299854 | F21: =F18*$D$6 -> 18.568939 | G21: =G18*$D$6 -> 18.755191 | L21: Esbjerg | M21: Lejre | N21: Fredensborg | O21: Ballerup
A22: 25 | B22: Bruttoløn | C22: ='Løntabel oktober 2017'!C23/160.33 -> 164.83685 | D22: ='Løntabel oktober 2017'!D23/160.33 -> 167.20651 | E22: ='Løntabel oktober 2017'!E23/160.33 -> 168.84686 | F22: ='Løntabel oktober 2017'!F23/160.33 -> 171.21775 | G22: ='Løntabel oktober 2017'!G23/160.33 -> 172.85803 | L22: Faaborg-Midtfyn | M22: Roskilde | N22: Frederikssund | O22: Brøndby
B23: Egetbidrag | C23: =C22*$D$5 -> 9.0660269 | D23: =D22*$D$5 -> 9.196358 | E23: =E22*$D$5 -> 9.2865771 | F23: =F22*$D$5 -> 9.4169764 | G23: =G22*$D$5 -> 9.5071919 | L23: Frederikshavn | M23: Solrød | N23: Gribskov | O23: Dragør
B24: Nettoløn | C24: =C22-C23 -> 155.77083 | D24: =D22-D23 -> 158.01015 | E24: =E22-E23 -> 159.56028 | F24: =F22-F23 -> 161.80078 | G24: =G22-G23 -> 163.35084 | L24: Kalundborg | M24: Århus | N24: Halsnæs | O24: Egedal
B25: Arbejdsgiverbidrag | C25: =C22*$D$6 -> 18.132054 | D25: =D22*$D$6 -> 18.392716 | E25: =E22*$D$6 -> 18.573154 | F25: =F22*$D$6 -> 18.833953 | G25: =G22*$D$6 -> 19.014384 | L25: Kerteminde | N25: Helsingør | O25: Frederiksberg
A26: 26 | B26: Bruttoløn | C26: ='Løntabel oktober 2017'!C28/160.33 -> 167.51161 | D26: ='Løntabel oktober 2017'!D28/160.33 -> 169.80042 | E26: ='Løntabel oktober 2017'!E28/160.33 -> 171.38416 | F26: ='Løntabel oktober 2017'!F28/160.33 -> 173.67248 | G26: ='Løntabel oktober 2017'!G28/160.33 -> 175.25628 | L26: Nyborg | N26: Hillerød | O26: Gentofte
B27: Egetbidrag | C27: =C26*$D$5 -> 9.2131388 | D27: =D26*$D$5 -> 9.3390232 | E27: =E26*$D$5 -> 9.426129 | F27: =F26*$D$5 -> 9.5519862 | G27: =G26*$D$5 -> 9.6390952 | L27: Næstved | N27: Hørsholm | O27: Gladsaxe
B28: Nettoløn | C28: =C26-C27 -> 158.29848 | D28: =D26-D27 -> 160.4614 | E28: =E26-E27 -> 161.95804 | F28: =F26-F27 -> 164.12049 | G28: =G26-G27 -> 165.61718 | L28: Odense | O28: Glostrup
B29: Arbejdsgiverbidrag | C29: =C26*$D$6 -> 18.426278 | D29: =D26*$D$6 -> 18.678046 | E29: =E26*$D$6 -> 18.852258 | F29: =F26*$D$6 -> 19.103972 | G29: =G26*$D$6 -> 19.27819 | L29: Skanderborg | O29: Greve
A30: 28 | B30: Bruttoløn | C30: ='Løntabel oktober 2017'!C33/160.33 -> 173.04404 | D30: ='Løntabel oktober 2017'!D33/160.33 -> 175.15112 | E30: ='Løntabel oktober 2017'!E33/160.33 -> 176.60974 | F30: ='Løntabel oktober 2017'!F33/160.33 -> 178.71683 | G30: ='Løntabel oktober 2017'!G33/160.33 -> 180.1749 | L30: Slagelse | O30: Herlev
B31: Egetbidrag | C31: =C30*$D$5 -> 9.5174221 | D31: =D30*$D$5 -> 9.6333117 | E31: =E30*$D$5 -> 9.7135359 | F31: =F30*$D$5 -> 9.8294255 | G31: =G30*$D$5 -> 9.9096194 | L31: Sønderborg | O31: Høje-Tåstrup
B32: Nettoløn | C32: =C30-C31 -> 163.52662 | D32: =D30-D31 -> 165.51781 | E32: =E30-E31 -> 166.89621 | F32: =F30-F31 -> 168.8874 | G32: =G30-G31 -> 170.26528 | O32: Ishøj
B33: Arbejdsgiverbidrag | C33: =C30*$D$6 -> 19.034844 | D33: =D30*$D$6 -> 19.266623 | E33: =E30*$D$6 -> 19.427072 | F33: =F30*$D$6 -> 19.658851 | G33: =G30*$D$6 -> 19.819239 | O33: København
A34: 29 | B34: Bruttoløn | C34: ='Løntabel oktober 2017'!C37/160.33 -> 175.90356 | D34: ='Løntabel oktober 2017'!D37/160.33 -> 177.91095 | E34: ='Løntabel oktober 2017'!E37/160.33 -> 179.30032 | F34: ='Løntabel oktober 2017'!F37/160.33 -> 181.30715 | G34: ='Løntabel oktober 2017'!G37/160.33 -> 182.69707 | O34: Lyngby-Tårbæk
B35: Egetbidrag | C35: =C34*$D$5 -> 9.6746959 | D35: =D34*$D$5 -> 9.7851021 | E35: =E34*$D$5 -> 9.8615175 | F35: =F34*$D$5 -> 9.9718932 | G35: =G34*$D$5 -> 10.048339 | O35: Rudersdal Rødovre
B36: Nettoløn | C36: =C34-C35 -> 166.22887 | D36: =D34-D35 -> 168.12584 | E36: =E34-E35 -> 169.4388 | F36: =F34-F35 -> 171.33526 | G36: =G34-G35 -> 172.64873 | O36: Tårnby
B37: Arbejdsgiverbidrag | C37: =C34*$D$6 -> 19.349392 | D37: =D34*$D$6 -> 19.570204 | E37: =E34*$D$6 -> 19.723035 | F37: =F34*$D$6 -> 19.943786 | G37: =G34*$D$6 -> 20.096678 | O37: Vallensbæk
A38: 30 | B38: Bruttoløn | C38: ='Løntabel oktober 2017'!C41/160.33 -> 178.82506 | D38: ='Løntabel oktober 2017'!D41/160.33 -> 180.72552 | E38: ='Løntabel oktober 2017'!E41/160.33 -> 182.04192 | F38: ='Løntabel oktober 2017'!F41/160.33 -> 183.94235 | G38: ='Løntabel oktober 2017'!G41/160.33 -> 185.25819 | O38: Furesø
B39: Egetbidrag | C39: =C38*$D$5 -> 9.8353781 | D39: =D38*$D$5 -> 9.9399038 | E39: =E38*$D$5 -> 10.012305 | F39: =F38*$D$5 -> 10.116829 | G39: =G38*$D$5 -> 10.1892 | O39: Hvidovre
B40: Nettoløn | C40: =C38-C39 -> 168.98968 | D40: =D38-D39 -> 170.78562 | E40: =E38-E39 -> 172.02961 | F40: =F38-F39 -> 173.82552 | G40: =G38-G39 -> 175.06899
B41: Arbejdsgiverbidrag | C41: =C38*$D$6 -> 19.670756 | D41: =D38*$D$6 -> 19.879808 | E41: =E38*$D$6 -> 20.024611 | F41: =F38*$D$6 -> 20.233659 | G41: =G38*$D$6 -> 20.378401
A42: 31 | B42: Bruttoløn | C42: ='Løntabel oktober 2017'!C46/160.33 -> 181.81276 | D42: ='Løntabel oktober 2017'!D46/160.33 -> 183.60079 | E42: ='Løntabel oktober 2017'!E46/160.33 -> 184.8382 | F42: ='Løntabel oktober 2017'!F46/160.33 -> 186.62623 | G42: ='Løntabel oktober 2017'!G46/160.33 -> 187.86363
B43: Egetbidrag | C43: =C42*$D$5 -> 9.9997017 | D43: =D42*$D$5 -> 10.098043 | E43: =E42*$D$5 -> 10.166101 | F43: =F42*$D$5 -> 10.264442 | G43: =G42*$D$5 -> 10.3325
B44: Nettoløn | C44: =C42-C43 -> 171.81306 | D44: =D42-D43 -> 173.50275 | E44: =E42-E43 -> 174.67209 | F44: =F42-F43 -> 176.36178 | G44: =G42-G43 -> 177.53113
B45: Arbejdsgiverbidrag | C45: =C42*$D$6 -> 19.999403 | D45: =D42*$D$6 -> 20.196087 | E45: =E42*$D$6 -> 20.332202 | F45: =F42*$D$6 -> 20.528885 | G45: =G42*$D$6 -> 20.665
B47: Ledende
A48: 39 | B48: Bruttoløn | C48: ='Løntabel oktober 2017'!C52/160.33 -> 208.42962 | D48: ='Løntabel oktober 2017'!D52/160.33 -> 209.041 | E48: ='Løntabel oktober 2017'!E52/160.33 -> 209.46399 | F48: ='Løntabel oktober 2017'!F52/160.33 -> 210.07542 | G48: ='Løntabel oktober 2017'!G52/160.33 -> 210.49907
B49: Egetbidrag | C49: =C48*$D$5 -> 11.463629 | D49: =D48*$D$5 -> 11.497255 | E49: =E48*$D$5 -> 11.520519 | F49: =F48*$D$5 -> 11.554148 | G49: =G48*$D$5 -> 11.577449
B50: Nettoløn | C50: =C48-C49 -> 196.96599 | D50: =D48-D49 -> 197.54375 | E50: =E48-E49 -> 197.94347 | F50: =F48-F49 -> 198.52127 | G50: =G48-G49 -> 198.92162
B51: Arbejdsgiverbidrag | C51: =C48*$D$6 -> 22.927258 | D51: =D48*$D$6 -> 22.99451 | E51: =E48*$D$6 -> 23.041039 | F51: =F48*$D$6 -> 23.108296 | G51: =G48*$D$6 -> 23.154898
