Workbook
Name Kommune: #REF!
Name Løntabel: #REF!
Name Løntrin: #REF!

Sheet Løntabel 1 okt. 2012
A1: Løntrin | C1: Grundsats | D1: Område 1 | E1: Område 2 | F1: Område 3 | G1: Område 4
C2: 0 | D2: 1 | E2: 2 | F2: 3 | G2: 4
B3: Ikke-uddannede
A4: 19 | B4: Bruttoløn | C4: 22256.889 | D4: 22621.377 | E4: 22873.728 | F4: 23238.217 | G4: 23490.578
B5: Egetbidrag | C5: 1186.2922 | D5: 1205.7194 | E5: 1219.1697 | F5: 1238.597 | G5: 1252.0478
B6: Nettoløn | C6: 21070.597 | D6: 21415.658 | E6: 21654.559 | F6: 21999.62 | G6: 22238.53
B7: Arbejdsgiverbidrag | C7: 2374.81 | D7: 2413.701 | E7: 2440.6268 | F7: 2479.5178 | G7: 2506.4447
B9: Uddannede
A10: 24 | B10: Bruttoløn | C10: 24022.006 | D10: 24384.245 | E10: 24635.073 | F10: 24997.312 | G10: 25248.048
B11: Egetbidrag | C11: 1280.3729 | D11: 1299.6803 | E11: 1313.0494 | F11: 1332.3568 | G11: 1345.721
B12: Nettoløn | C12: 22741.633 | D12: 23084.565 | E12: 23322.024 | F12: 23664.956 | G12: 23902.327
B13: Arbejdsgiverbidrag | C13: 2563.148 | D13: 2601.799 | E13: 2628.5623 | F13: 2667.2132 | G13: 2693.9667
A14: 25 | B14: Bruttoløn | C14: 24409.182 | D14: 24760.083 | E14: 25002.987 | F14: 25354.061 | G14: 25596.965
B15: Egetbidrag | C15: 1301.0094 | D15: 1319.7124 | E15: 1332.6592 | F15: 1351.3715 | G15: 1364.3183
B16: Nettoløn | C16: 23108.173 | D16: 23440.37 | E16: 23670.328 | F16: 24002.69 | G16: 24232.647
B17: Arbejdsgiverbidrag | C17: 2604.4597 | D17: 2641.9008 | E17: 2667.8187 | F17: 2705.2784 | G17: 2731.1962
A18: 26 | B18: Bruttoløn | C18: 24805.263 | D18: 25144.192 | E18: 25378.722 | F18: 25717.569 | G18: 25952.099
B19: Egetbidrag | C19: 1322.1205 | D19: 1340.1854 | E19: 1352.6859 | F19: 1370.7464 | G19: 1383.2469
B20: Nettoløn | C20: 23483.143 | D20: 23804.006 | E20: 24026.036 | F20: 24346.822 | G20: 24568.852
B21: Arbejdsgiverbidrag | C21: 2646.7216 | D21: 2682.8852 | E21: 2707.9096 | F21: 2744.0646 | G21: 2769.089
A22: 27 | B22: Bruttoløn | C22: 25210.423 | D22: 25536.306 | E22: 25761.839 | F22: 26087.722 | G22: 26313.255
B23: Egetbidrag | C23: 1343.7156 | D23: 1361.0851 | E23: 1373.106 | F23: 1390.4756 | G23: 1402.4965
B24: Nettoløn | C24: 23866.708 | D24: 24175.221 | E24: 24388.733 | F24: 24697.246 | G24: 24910.758
B25: Arbejdsgiverbidrag | C25: 2689.9522 | D25: 2724.7238 | E25: 2748.7882 | F25: 2783.5599 | G25: 2807.6243
A26: 28 | B26: Bruttoløn | C26: 25624.509 | D26: 25936.528 | E26: 26152.522 | F26: 26464.541 | G26: 26680.453
B27: Egetbidrag | C27: 1365.7863 | D27: 1382.4169 | E27: 1393.9294 | F27: 1410.56 | G27: 1422.0681
B28: Nettoløn | C28: 24258.723 | D28: 24554.111 | E28: 24758.592 | F28: 25053.981 | G28: 25258.385
B29: Arbejdsgiverbidrag | C29: 2734.1351 | D29: 2767.4275 | E29: 2790.4741 | F29: 2823.7665 | G29: 2846.8043
A30: 29 | B30: Bruttoløn | C30: 26047.95 | D30: 26345.205 | E30: 26550.944 | F30: 26848.118 | G30: 27053.939
B31: Egetbidrag | C31: 1388.3557 | D31: 1404.1994 | E31: 1415.1653 | F31: 1431.0047 | G31: 1441.9749
B32: Nettoløn | C32: 24659.594 | D32: 24941.006 | E32: 25135.779 | F32: 25417.113 | G32: 25611.964
B33: Arbejdsgiverbidrag | C33: 2779.3163 | D33: 2811.0334 | E33: 2832.9858 | F33: 2864.6942 | G33: 2886.6553
A34: 30 | B34: Bruttoløn | C34: 26480.562 | D34: 26761.99 | E34: 26956.922 | F34: 27238.34 | G34: 27433.191
B35: Egetbidrag | C35: 1411.4139 | D35: 1426.4141 | E35: 1436.804 | F35: 1451.8035 | G35: 1462.1891
B36: Nettoløn | C36: 25069.148 | D36: 25335.576 | E36: 25520.118 | F36: 25786.537 | G36: 25971.002
B37: Arbejdsgiverbidrag | C37: 2825.4759 | D37: 2855.5043 | E37: 2876.3036 | F37: 2906.3309 | G37: 2927.1215
A38: 31 | B38: Bruttoløn | C38: 26922.989 | D38: 27187.762 | E38: 27370.998 | F38: 27635.771 | G38: 27819.007
B39: Egetbidrag | C39: 1434.9953 | D39: 1449.1077 | E39: 1458.8742 | F39: 1472.9866 | G39: 1482.7531
B40: Nettoløn | C40: 25487.993 | D40: 25738.654 | E40: 25912.124 | F40: 26162.785 | G40: 26336.254
B41: Arbejdsgiverbidrag | C41: 2872.6829 | D41: 2900.9342 | E41: 2920.4855 | F41: 2948.7368 | G41: 2968.2881
...

Sheet Løntabel 1 okt. 2013
A1: Løntrin | C1: Grundsats | D1: Område 1 | E1: Område 2 | F1: Område 3 | G1: Område 4
B3: Ikke-uddannede | I3: Indtast timetal: | J3: ='Løntabel 1 aug. 2014'!J11 -> 37
A4: 19 | B4: Bruttoløn | C4: =((('Løntabel 1 okt. 2012'!C4*1.0064)/37)*$J$3)+(((225.9*1.022*1.0004*1.0064)/37)*(37-$J$3)) -> 22399.333 | D4: =((('Løntabel 1 okt. 2012'!D4*1.0064)/37)*$J$3)+(((225.9*1.022*1.0004*1.0064)/37)*(37-$J$3)) -> 22766.154 | E4: =((('Løntabel 1 okt. 2012'!E4*1.0064)/37)*$J$3)+(((225.9*1.022*1.0004*1.0064)/37)*(37-$J$3)) -> 23020.12 | F4: =((('Løntabel 1 okt. 2012'!F4*1.0064)/37)*$J$3)+(((225.9*1.022*1.0004*1.0064)/37)*(37-$J$3)) -> 23386.942 | G4: =((('Løntabel 1 okt. 2012'!G4*1.0064)/37)*$J$3)+(((225.9*1.022*1.0004*1.0064)/37)*(37-$J$3)) -> 23640.918
B5: Egetbidrag | C5: =C4*0.0533 -> 1193.8844 | D5: =D4*0.0533 -> 1213.436 | E5: =E4*0.0533 -> 1226.9724 | F5: =F4*0.0533 -> 1246.524 | G5: =G4*0.0533 -> 1260.0609
B6: Nettoløn | C6: =C4-C5 -> 21205.448 | D6: =D4-D5 -> 21552.718 | E6: =E4-E5 -> 21793.148 | F6: =F4-F5 -> 22140.418 | G6: =G4-G5 -> 22380.857
B7: Arbejdsgiverbidrag | C7: =C4*0.1067 -> 2390.0088 | D7: =D4*0.1067 -> 2429.1487 | E7: =E4*0.1067 -> 2456.2468 | F7: =F4*0.1067 -> 2495.3867 | G7: =G4*0.1067 -> 2522.486
B9: Uddannede
A10: 24 | B10: Bruttoløn | C10: =((('Løntabel 1 okt. 2012'!C10*1.0064)/37)*$J$3)+(((225.9*1.022*1.0004*1.0064)/37)*(37-$J$3)) -> 24175.747 | D10: =((('Løntabel 1 okt. 2012'!D10*1.0064)/37)*$J$3)+(((225.9*1.022*1.0004*1.0064)/37)*(37-$J$3)) -> 24540.305 | E10: =((('Løntabel 1 okt. 2012'!E10*1.0064)/37)*$J$3)+(((225.9*1.022*1.0004*1.0064)/37)*(37-$J$3)) -> 24792.737 | F10: =((('Løntabel 1 okt. 2012'!F10*1.0064)/37)*$J$3)+(((225.9*1.022*1.0004*1.0064)/37)*(37-$J$3)) -> 25157.295 | G10: =((('Løntabel 1 okt. 2012'!G10*1.0064)/37)*$J$3)+(((225.9*1.022*1.0004*1.0064)/37)*(37-$J$3)) -> 25409.635
B11: Egetbidrag | C11: =C10*0.0533 -> 1288.5673 | D11: =D10*0.0533 -> 1307.9982 | E11: =E10*0.0533 -> 1321.4529 | F11: =F10*0.0533 -> 1340.8838 | G11: =G10*0.0533 -> 1354.3336
B12: Nettoløn | C12: =C10-C11 -> 22887.179 | D12: =D10-D11 -> 23232.306 | E12: =E10-E11 -> 23471.285 | F12: =F10-F11 -> 23816.411 | G12: =G10-G11 -> 24055.302
B13: Arbejdsgiverbidrag | C13: =C10*0.1067 -> 2579.5522 | D13: =D10*0.1067 -> 2618.4505 | E13: =E10*0.1067 -> 2645.3851 | F13: =F10*0.1067 -> 2684.2834 | G13: =G10*0.1067 -> 2711.2081
A14: 25 | B14: Bruttoløn | C14: =((('Løntabel 1 okt. 2012'!C14*1.0064)/37)*$J$3)+(((225.9*1.022*1.0004*1.0064)/37)*(37-$J$3)) -> 24565.401 | D14: =((('Løntabel 1 okt. 2012'!D14*1.0064)/37)*$J$3)+(((225.9*1.022*1.0004*1.0064)/37)*(37-$J$3)) -> 24918.547 | E14: =((('Løntabel 1 okt. 2012'!E14*1.0064)/37)*$J$3)+(((225.9*1.022*1.0004*1.0064)/37)*(37-$J$3)) -> 25163.006 | F14: =((('Løntabel 1 okt. 2012'!F14*1.0064)/37)*$J$3)+(((225.9*1.022*1.0004*1.0064)/37)*(37-$J$3)) -> 25516.327 | G14: =((('Løntabel 1 okt. 2012'!G14*1.0064)/37)*$J$3)+(((225.9*1.022*1.0004*1.0064)/37)*(37-$J$3)) -> 25760.786
B15: Egetbidrag | C15: =C14*0.0533 -> 1309.3359 | D15: =D14*0.0533 -> 1328.1586 | E15: =E14*0.0533 -> 1341.1882 | F15: =F14*0.0533 -> 1360.0203 | G15: =G14*0.0533 -> 1373.0499
B16: Nettoløn | C16: =C14-C15 -> 23256.065 | D16: =D14-D15 -> 23590.389 | E16: =E14-E15 -> 23821.818 | F16: =F14-F15 -> 24156.307 | G16: =G14-G15 -> 24387.736
B17: Arbejdsgiverbidrag | C17: =C14*0.1067 -> 2621.1283 | D17: =D14*0.1067 -> 2658.809 | E17: =E14*0.1067 -> 2684.8927 | F17: =F14*0.1067 -> 2722.5921 | G17: =G14*0.1067 -> 2748.6759
A18: 26 | B18: Bruttoløn | C18: =((('Løntabel 1 okt. 2012'!C18*1.0064)/37)*$J$3)+(((225.9*1.022*1.0004*1.0064)/37)*(37-$J$3)) -> 24964.017 | D18: =((('Løntabel 1 okt. 2012'!D18*1.0064)/37)*$J$3)+(((225.9*1.022*1.0004*1.0064)/37)*(37-$J$3)) -> 25305.114 | E18: =((('Løntabel 1 okt. 2012'!E18*1.0064)/37)*$J$3)+(((225.9*1.022*1.0004*1.0064)/37)*(37-$J$3)) -> 25541.146 | F18: =((('Løntabel 1 okt. 2012'!F18*1.0064)/37)*$J$3)+(((225.9*1.022*1.0004*1.0064)/37)*(37-$J$3)) -> 25882.161 | G18: =((('Løntabel 1 okt. 2012'!G18*1.0064)/37)*$J$3)+(((225.9*1.022*1.0004*1.0064)/37)*(37-$J$3)) -> 26118.193
B19: Egetbidrag | C19: =C18*0.0533 -> 1330.5821 | D19: =D18*0.0533 -> 1348.7626 | E19: =E18*0.0533 -> 1361.3431 | F19: =F18*0.0533 -> 1379.5192 | G19: =G18*0.0533 -> 1392.0997
B20: Nettoløn | C20: =C18-C19 -> 23633.435 | D20: =D18-D19 -> 23956.352 | E20: =E18-E19 -> 24179.803 | F20: =F18-F19 -> 24502.642 | G20: =G18-G19 -> 24726.093
B21: Arbejdsgiverbidrag | C21: =C18*0.1067 -> 2663.6606 | D21: =D18*0.1067 -> 2700.0557 | E21: =E18*0.1067 -> 2725.2403 | F21: =F18*0.1067 -> 2761.6266 | G21: =G18*0.1067 -> 2786.8111
A22: 27 | B22: Bruttoløn | C22: =((('Løntabel 1 okt. 2012'!C22*1.0064)/37)*$J$3)+(((225.9*1.022*1.0004*1.0064)/37)*(37-$J$3)) -> 25371.77 | D22: =((('Løntabel 1 okt. 2012'!D22*1.0064)/37)*$J$3)+(((225.9*1.022*1.0004*1.0064)/37)*(37-$J$3)) -> 25699.738 | E22: =((('Løntabel 1 okt. 2012'!E22*1.0064)/37)*$J$3)+(((225.9*1.022*1.0004*1.0064)/37)*(37-$J$3)) -> 25926.715 | F22: =((('Løntabel 1 okt. 2012'!F22*1.0064)/37)*$J$3)+(((225.9*1.022*1.0004*1.0064)/37)*(37-$J$3)) -> 26254.683 | G22: =((('Løntabel 1 okt. 2012'!G22*1.0064)/37)*$J$3)+(((225.9*1.022*1.0004*1.0064)/37)*(37-$J$3)) -> 26481.66
B23: Egetbidrag | C23: =C22*0.0533 -> 1352.3153 | D23: =D22*0.0533 -> 1369.796 | E23: =E22*0.0533 -> 1381.8939 | F23: =F22*0.0533 -> 1399.3746 | G23: =G22*0.0533 -> 1411.4725
B24: Nettoløn | C24: =C22-C23 -> 24019.455 | D24: =D22-D23 -> 24329.942 | E24: =E22-E23 -> 24544.821 | F24: =F22-F23 -> 24855.308 | G24: =G22-G23 -> 25070.187
B25: Arbejdsgiverbidrag | C25: =C22*0.1067 -> 2707.1679 | D25: =D22*0.1067 -> 2742.1621 | E25: =E22*0.1067 -> 2766.3805 | F25: =F22*0.1067 -> 2801.3747 | G25: =G22*0.1067 -> 2825.5931
A26: 28 | B26: Bruttoløn | C26: =((('Løntabel 1 okt. 2012'!C26*1.0064)/37)*$J$3)+(((225.9*1.022*1.0004*1.0064)/37)*(37-$J$3)) -> 25788.506 | D26: =((('Løntabel 1 okt. 2012'!D26*1.0064)/37)*$J$3)+(((225.9*1.022*1.0004*1.0064)/37)*(37-$J$3)) -> 26102.522 | E26: =((('Løntabel 1 okt. 2012'!E26*1.0064)/37)*$J$3)+(((225.9*1.022*1.0004*1.0064)/37)*(37-$J$3)) -> 26319.898 | F26: =((('Løntabel 1 okt. 2012'!F26*1.0064)/37)*$J$3)+(((225.9*1.022*1.0004*1.0064)/37)*(37-$J$3)) -> 26633.914 | G26: =((('Løntabel 1 okt. 2012'!G26*1.0064)/37)*$J$3)+(((225.9*1.022*1.0004*1.0064)/37)*(37-$J$3)) -> 26851.208
B27: Egetbidrag | C27: =C26*0.0533 -> 1374.5274 | D27: =D26*0.0533 -> 1391.2644 | E27: =E26*0.0533 -> 1402.8506 | F27: =F26*0.0533 -> 1419.5876 | G27: =G26*0.0533 -> 1431.1694
B28: Nettoløn | C28: =C26-C27 -> 24413.979 | D28: =D26-D27 -> 24711.257 | E28: =E26-E27 -> 24917.047 | F28: =F26-F27 -> 25214.326 | G28: =G26-G27 -> 25420.038
B29: Arbejdsgiverbidrag | C29: =C26*0.1067 -> 2751.6336 | D29: =D26*0.1067 -> 2785.1391 | E29: =E26*0.1067 -> 2808.3331 | F29: =F26*0.1067 -> 2841.8386 | G29: =G26*0.1067 -> 2865.0239
A30: 29 | B30: Bruttoløn | C30: =((('Løntabel 1 okt. 2012'!C30*1.0064)/37)*$J$3)+(((225.9*1.022*1.0004*1.0064)/37)*(37-$J$3)) -> 26214.657 | D30: =((('Løntabel 1 okt. 2012'!D30*1.0064)/37)*$J$3)+(((225.9*1.022*1.0004*1.0064)/37)*(37-$J$3)) -> 26513.814 | E30: =((('Løntabel 1 okt. 2012'!E30*1.0064)/37)*$J$3)+(((225.9*1.022*1.0004*1.0064)/37)*(37-$J$3)) -> 26720.87 | F30: =((('Løntabel 1 okt. 2012'!F30*1.0064)/37)*$J$3)+(((225.9*1.022*1.0004*1.0064)/37)*(37-$J$3)) -> 27019.946 | G30: =((('Løntabel 1 okt. 2012'!G30*1.0064)/37)*$J$3)+(((225.9*1.022*1.0004*1.0064)/37)*(37-$J$3)) -> 27227.084
B31: Egetbidrag | C31: =C30*0.0533 -> 1397.2412 | D31: =D30*0.0533 -> 1413.1863 | E31: =E30*0.0533 -> 1424.2224 | F31: =F30*0.0533 -> 1440.1631 | G31: =G30*0.0533 -> 1451.2036
B32: Nettoløn | C32: =C30-C31 -> 24817.416 | D32: =D30-D31 -> 25100.628 | E32: =E30-E31 -> 25296.648 | F32: =F30-F31 -> 25579.783 | G32: =G30-G31 -> 25775.88
B33: Arbejdsgiverbidrag | C33: =C30*0.1067 -> 2797.1039 | D33: =D30*0.1067 -> 2829.024 | E33: =E30*0.1067 -> 2851.1169 | F33: =F30*0.1067 -> 2883.0282 | G33: =G30*0.1067 -> 2905.1299
A34: 30 | B34: Bruttoløn | C34: =((('Løntabel 1 okt. 2012'!C34*1.0064)/37)*$J$3)+(((225.9*1.022*1.0004*1.0064)/37)*(37-$J$3)) -> 26650.037 | D34: =((('Løntabel 1 okt. 2012'!D34*1.0064)/37)*$J$3)+(((225.9*1.022*1.0004*1.0064)/37)*(37-$J$3)) -> 26933.267 | E34: =((('Løntabel 1 okt. 2012'!E34*1.0064)/37)*$J$3)+(((225.9*1.022*1.0004*1.0064)/37)*(37-$J$3)) -> 27129.447 | F34: =((('Løntabel 1 okt. 2012'!F34*1.0064)/37)*$J$3)+(((225.9*1.022*1.0004*1.0064)/37)*(37-$J$3)) -> 27412.666 | G34: =((('Løntabel 1 okt. 2012'!G34*1.0064)/37)*$J$3)+(((225.9*1.022*1.0004*1.0064)/37)*(37-$J$3)) -> 27608.764
B35: Egetbidrag | C35: =C34*0.0533 -> 1420.447 | D35: =D34*0.0533 -> 1435.5431 | E35: =E34*0.0533 -> 1445.9995 | F35: =F34*0.0533 -> 1461.0951 | G35: =G34*0.0533 -> 1471.5471
B36: Nettoløn | C36: =C34-C35 -> 25229.59 | D36: =D34-D35 -> 25497.724 | E36: =E34-E35 -> 25683.447 | F36: =F34-F35 -> 25951.571 | G36: =G34-G35 -> 26137.216
B37: Arbejdsgiverbidrag | C37: =C34*0.1067 -> 2843.559 | D37: =D34*0.1067 -> 2873.7796 | E37: =E34*0.1067 -> 2894.712 | F37: =F34*0.1067 -> 2924.9314 | G37: =G34*0.1067 -> 2945.8551
A38: 31 | B38: Bruttoløn | C38: =((('Løntabel 1 okt. 2012'!C38*1.0064)/37)*$J$3)+(((225.9*1.022*1.0004*1.0064)/37)*(37-$J$3)) -> 27095.296 | D38: =((('Løntabel 1 okt. 2012'!D38*1.0064)/37)*$J$3)+(((225.9*1.022*1.0004*1.0064)/37)*(37-$J$3)) -> 27361.764 | E38: =((('Løntabel 1 okt. 2012'!E38*1.0064)/37)*$J$3)+(((225.9*1.022*1.0004*1.0064)/37)*(37-$J$3)) -> 27546.172 | F38: =((('Løntabel 1 okt. 2012'!F38*1.0064)/37)*$J$3)+(((225.9*1.022*1.0004*1.0064)/37)*(37-$J$3)) -> 27812.64 | G38: =((('Løntabel 1 okt. 2012'!G38*1.0064)/37)*$J$3)+(((225.9*1.022*1.0004*1.0064)/37)*(37-$J$3)) -> 27997.049
B39: Egetbidrag | C39: =C38*0.0533 -> 1444.1793 | D39: =D38*0.0533 -> 1458.382 | E39: =E38*0.0533 -> 1468.211 | F39: =F38*0.0533 -> 1482.4137 | G39: =G38*0.0533 -> 1492.2427
B40: Nettoløn | C40: =C38-C39 -> 25651.117 | D40: =D38-D39 -> 25903.382 | E40: =E38-E39 -> 26077.961 | F40: =F38-F39 -> 26330.226 | G40: =G38-G39 -> 26504.806
B41: Arbejdsgiverbidrag | C41: =C38*0.1067 -> 2891.0681 | D41: =D38*0.1067 -> 2919.5002 | E41: =E38*0.1067 -> 2939.1766 | F41: =F38*0.1067 -> 2967.6087 | G41: =G38*0.1067 -> 2987.2851
B43: Ledende
...

Sheet Løntabel 1 aug. 2014
A1: Interaktiv løntabel med fuld kittelkompensation til fuldtidsansatte
A2: Løn gældende pr. 1. juli 2014
A4: Eventuelle personlige løntillæg reguleres med 1,47%
A6: Eget bidrag (brutto) til pension på 5,33%. Arbejdsgiverbidrag til pension på 10,67
A9: Løntrin | C9: Grundsats | D9: Område 1 | E9: Område 2 | F9: Område 3 | G9: Område 4
B11: Ikke-uddannede | I11: Indtast timetal: | J11: 37
A12: 19 | B12: Bruttoløn | C12: =((('Løntabel 1 okt. 2013'!C4*1.0172*1.0147))) -> 23119.535 | D12: =((('Løntabel 1 okt. 2013'!D4*1.0172*1.0147))) -> 23498.151 | E12: =((('Løntabel 1 okt. 2013'!E4*1.0172*1.0147))) -> 23760.283 | F12: =((('Løntabel 1 okt. 2013'!F4*1.0172*1.0147))) -> 24138.898 | G12: =((('Løntabel 1 okt. 2013'!G4*1.0172*1.0147))) -> 24401.041
B13: Egetbidrag | C13: =C12*0.0533 -> 1232.2712 | D13: =D12*0.0533 -> 1252.4514 | E13: =E12*0.0533 -> 1266.4231 | F13: =F12*0.0533 -> 1286.6033 | G13: =G12*0.0533 -> 1300.5755
B14: Nettoløn | C14: =C12-C13 -> 21887.264 | D14: =D12-D13 -> 22245.699 | E14: =E12-E13 -> 22493.859 | F14: =F12-F13 -> 22852.295 | G14: =G12-G13 -> 23100.465
B15: Arbejdsgiverbidrag | C15: =C12*0.1067 -> 2466.8544 | D15: =D12*0.1067 -> 2507.2527 | E15: =E12*0.1067 -> 2535.2221 | F15: =F12*0.1067 -> 2575.6205 | G15: =G12*0.1067 -> 2603.591
B17: Uddannede
A18: 24 | B18: Bruttoløn | C18: =((('Løntabel 1 okt. 2013'!C10*1.0172*1.0147))) -> 24953.066 | D18: =((('Løntabel 1 okt. 2013'!D10*1.0172*1.0147))) -> 25329.345 | E18: =((('Løntabel 1 okt. 2013'!E10*1.0172*1.0147))) -> 25589.894 | F18: =((('Løntabel 1 okt. 2013'!F10*1.0172*1.0147))) -> 25966.174 | G18: =((('Løntabel 1 okt. 2013'!G10*1.0172*1.0147))) -> 26226.627
B19: Egetbidrag | C19: =C18*0.0533 -> 1329.9984 | D19: =D18*0.0533 -> 1350.0541 | E19: =E18*0.0533 -> 1363.9414 | F19: =F18*0.0533 -> 1383.9971 | G19: =G18*0.0533 -> 1397.8792 | L19: Område 1 | M19: Område 2 | N19: Område 3 | O19: Område 4 | P19: Grundsats
B20: Nettoløn | C20: =C18-C19 -> 23623.067 | D20: =D18-D19 -> 23979.291 | E20: =E18-E19 -> 24225.953 | F20: =F18-F19 -> 24582.177 | G20: =G18-G19 -> 24828.748 | L20: Aalborg | M20: Køge | N20: Allerød | O20: Albertslund | P20: Alle andre kommuner
B21: Arbejdsgiverbidrag | C21: =C18*0.1067 -> 2662.4921 | D21: =D18*0.1067 -> 2702.6411 | E21: =E18*0.1067 -> 2730.4417 | F21: =F18*0.1067 -> 2770.5907 | G21: =G18*0.1067 -> 2798.3811 | L21: Esbjerg | M21: Lejre | N21: Fredensborg | O21: Ballerup
A22: 25 | B22: Bruttoløn | C22: =((('Løntabel 1 okt. 2013'!C14*1.0172*1.0147))) -> 25355.248 | D22: =((('Løntabel 1 okt. 2013'!D14*1.0172*1.0147))) -> 25719.749 | E22: =((('Løntabel 1 okt. 2013'!E14*1.0172*1.0147))) -> 25972.068 | F22: =((('Løntabel 1 okt. 2013'!F14*1.0172*1.0147))) -> 26336.75 | G22: =((('Løntabel 1 okt. 2013'!G14*1.0172*1.0147))) -> 26589.068 | L22: Faaborg-Midtfyn | M22: Roskilde | N22: Frederikssund | O22: Brøndby
B23: Egetbidrag | C23: =C22*0.0533 -> 1351.4347 | D23: =D22*0.0533 -> 1370.8626 | E23: =E22*0.0533 -> 1384.3112 | F23: =F22*0.0533 -> 1403.7488 | G23: =G22*0.0533 -> 1417.1973 | L23: Frederikshavn | M23: Solrød | N23: Gribskov | O23: Dragør
B24: Nettoløn | C24: =C22-C23 -> 24003.813 | D24: =D22-D23 -> 24348.887 | E24: =E22-E23 -> 24587.757 | F24: =F22-F23 -> 24933.001 | G24: =G22-G23 -> 25171.871 | L24: Kalundborg | M24: Århus | N24: Halsnæs | O24: Egedal
B25: Arbejdsgiverbidrag | C25: =C22*0.1067 -> 2705.405 | D25: =D22*0.1067 -> 2744.2973 | E25: =E22*0.1067 -> 2771.2197 | F25: =F22*0.1067 -> 2810.1312 | G25: =G22*0.1067 -> 2837.0536 | L25: Kerteminde | N25: Helsingør | O25: Frederiksberg
A26: 26 | B26: Bruttoløn | C26: =((('Løntabel 1 okt. 2013'!C18*1.0172*1.0147))) -> 25766.681 | D26: =((('Løntabel 1 okt. 2013'!D18*1.0172*1.0147))) -> 26118.746 | E26: =((('Løntabel 1 okt. 2013'!E18*1.0172*1.0147))) -> 26362.366 | F26: =((('Løntabel 1 okt. 2013'!F18*1.0172*1.0147))) -> 26714.346 | G26: =((('Løntabel 1 okt. 2013'!G18*1.0172*1.0147))) -> 26957.967 | L26: Nyborg | N26: Hillerød | O26: Gentofte
B27: Egetbidrag | C27: =C26*0.0533 -> 1373.3641 | D27: =D26*0.0533 -> 1392.1291 | E27: =E26*0.0533 -> 1405.1141 | F27: =F26*0.0533 -> 1423.8746 | G27: =G26*0.0533 -> 1436.8596 | L27: Næstved | N27: Hørsholm | O27: Gladsaxe
B28: Nettoløn | C28: =C26-C27 -> 24393.317 | D28: =D26-D27 -> 24726.617 | E28: =E26-E27 -> 24957.252 | F28: =F26-F27 -> 25290.471 | G28: =G26-G27 -> 25521.107 | L28: Odense | O28: Glostrup
B29: Arbejdsgiverbidrag | C29: =C26*0.1067 -> 2749.3048 | D29: =D26*0.1067 -> 2786.8702 | E29: =E26*0.1067 -> 2812.8645 | F29: =F26*0.1067 -> 2850.4207 | G29: =G26*0.1067 -> 2876.415 | L29: Skanderborg | O29: Greve
A30: 28 | B30: Bruttoløn | C30: =((('Løntabel 1 okt. 2013'!C26*1.0172*1.0147))) -> 26617.68 | D30: =((('Løntabel 1 okt. 2013'!D26*1.0172*1.0147))) -> 26941.792 | E30: =((('Løntabel 1 okt. 2013'!E26*1.0172*1.0147))) -> 27166.157 | F30: =((('Løntabel 1 okt. 2013'!F26*1.0172*1.0147))) -> 27490.27 | G30: =((('Løntabel 1 okt. 2013'!G26*1.0172*1.0147))) -> 27714.55 | L30: Slagelse | O30: Herlev
B31: Egetbidrag | C31: =C30*0.0533 -> 1418.7223 | D31: =D30*0.0533 -> 1435.9975 | E31: =E30*0.0533 -> 1447.9562 | F31: =F30*0.0533 -> 1465.2314 | G31: =G30*0.0533 -> 1477.1855 | L31: Sønderborg | O31: Høje-Tåstrup
B32: Nettoløn | C32: =C30-C31 -> 25198.957 | D32: =D30-D31 -> 25505.794 | E32: =E30-E31 -> 25718.201 | F32: =F30-F31 -> 26025.038 | G32: =G30-G31 -> 26237.365 | O32: Ishøj
B33: Arbejdsgiverbidrag | C33: =C30*0.1067 -> 2840.1064 | D33: =D30*0.1067 -> 2874.6892 | E33: =E30*0.1067 -> 2898.629 | F33: =F30*0.1067 -> 2933.2118 | G33: =G30*0.1067 -> 2957.1425 | O33: København
A34: 29 | B34: Bruttoløn | C34: =((('Løntabel 1 okt. 2013'!C30*1.0172*1.0147))) -> 27057.532 | D34: =((('Løntabel 1 okt. 2013'!D30*1.0172*1.0147))) -> 27366.309 | E34: =((('Løntabel 1 okt. 2013'!E30*1.0172*1.0147))) -> 27580.022 | F34: =((('Løntabel 1 okt. 2013'!F30*1.0172*1.0147))) -> 27888.714 | G34: =((('Løntabel 1 okt. 2013'!G30*1.0172*1.0147))) -> 28102.512 | O34: Lyngby-Tårbæk
B35: Egetbidrag | C35: =C34*0.0533 -> 1442.1665 | D35: =D34*0.0533 -> 1458.6243 | E35: =E34*0.0533 -> 1470.0152 | F35: =F34*0.0533 -> 1486.4684 | G35: =G34*0.0533 -> 1497.8639 | O35: Rudersdal Rødovre
B36: Nettoløn | C36: =C34-C35 -> 25615.366 | D36: =D34-D35 -> 25907.685 | E36: =E34-E35 -> 26110.007 | F36: =F34-F35 -> 26402.245 | G36: =G34-G35 -> 26604.648 | O36: Tårnby
B37: Arbejdsgiverbidrag | C37: =C34*0.1067 -> 2887.0387 | D37: =D34*0.1067 -> 2919.9851 | E37: =E34*0.1067 -> 2942.7884 | F37: =F34*0.1067 -> 2975.7257 | G37: =G34*0.1067 -> 2998.538 | O37: Vallensbæk
A38: 30 | B38: Bruttoløn | C38: =((('Løntabel 1 okt. 2013'!C34*1.0172*1.0147))) -> 27506.912 | D38: =((('Løntabel 1 okt. 2013'!D34*1.0172*1.0147))) -> 27799.248 | E38: =((('Løntabel 1 okt. 2013'!E34*1.0172*1.0147))) -> 28001.736 | F38: =((('Løntabel 1 okt. 2013'!F34*1.0172*1.0147))) -> 28294.061 | G38: =((('Løntabel 1 okt. 2013'!G34*1.0172*1.0147))) -> 28496.464 | O38: Furesø
B39: Egetbidrag | C39: =C38*0.0533 -> 1466.1184 | D39: =D38*0.0533 -> 1481.6999 | E39: =E38*0.0533 -> 1492.4925 | F39: =F38*0.0533 -> 1508.0734 | G39: =G38*0.0533 -> 1518.8615 | O39: Hvidovre
B40: Nettoløn | C40: =C38-C39 -> 26040.793 | D40: =D38-D39 -> 26317.548 | E40: =E38-E39 -> 26509.243 | F40: =F38-F39 -> 26785.987 | G40: =G38-G39 -> 26977.602
B41: Arbejdsgiverbidrag | C41: =C38*0.1067 -> 2934.9875 | D41: =D38*0.1067 -> 2966.1797 | E41: =E38*0.1067 -> 2987.7852 | F41: =F38*0.1067 -> 3018.9763 | G41: =G38*0.1067 -> 3040.5727
A42: 31 | B42: Bruttoløn | C42: =((('Løntabel 1 okt. 2013'!C38*1.0172*1.0147))) -> 27966.487 | D42: =((('Løntabel 1 okt. 2013'!D38*1.0172*1.0147))) -> 28241.522 | E42: =((('Løntabel 1 okt. 2013'!E38*1.0172*1.0147))) -> 28431.86 | F42: =((('Løntabel 1 okt. 2013'!F38*1.0172*1.0147))) -> 28706.896 | G42: =((('Løntabel 1 okt. 2013'!G38*1.0172*1.0147))) -> 28897.234
B43: Egetbidrag | C43: =C42*0.0533 -> 1490.6137 | D43: =D42*0.0533 -> 1505.2731 | E43: =E42*0.0533 -> 1515.4181 | F43: =F42*0.0533 -> 1530.0775 | G43: =G42*0.0533 -> 1540.2226
B44: Nettoløn | C44: =C42-C43 -> 26475.873 | D44: =D42-D43 -> 26736.249 | E44: =E42-E43 -> 26916.442 | F44: =F42-F43 -> 27176.818 | G44: =G42-G43 -> 27357.011
B45: Arbejdsgiverbidrag | C45: =C42*0.1067 -> 2984.0241 | D45: =D42*0.1067 -> 3013.3704 | E45: =E42*0.1067 -> 3033.6795 | F45: =F42*0.1067 -> 3063.0258 | G45: =G42*0.1067 -> 3083.3348
B47: Ledende
...

Sheet Ark1
A1: Interaktiv løntabel med fuld kittelkompensation til fuldtidsansatte
A2: Løn gældende pr. 1. juni 2015
A4: Eventuelle personlige løntillæg reguleres med 0,96%
A6: Eget bidrag (brutto) til pension på 5,33%. Arbejdsgiverbidrag til pension på 10,67
A9: Løntrin | C9: Grundsats | D9: Område 1 | E9: Område 2 | F9: Område 3 | G9: Område 4
B11: Ikke-uddannede | I11: Indtast timetal: | J11: 37
A12: 19 | B12: Bruttoløn | C12: 23341.483 | D12: 23723.733 | E12: 23988.381 | F12: 24370.632 | G12: 24635.291
B13: Egetbidrag | C13: 1244.101 | D13: 1264.475 | E13: 1278.5807 | F13: 1298.9547 | G13: 1313.061
B14: Nettoløn | C14: 22097.382 | D14: 22459.258 | E14: 22709.801 | F14: 23071.677 | G14: 23322.23
B15: Arbejdsgiverbidrag | C15: 2490.5362 | D15: 2531.3223 | E15: 2559.5603 | F15: 2600.3464 | G15: 2628.5855
B17: Uddannede
A18: 24 | B18: Bruttoløn | C18: 25192.615 | D18: 25572.507 | E18: 25835.557 | F18: 26215.449 | G18: 26478.403
B19: Egetbidrag | C19: 1342.7664 | D19: 1363.0146 | E19: 1377.0352 | F19: 1397.2834 | G19: 1411.2989 | L19: Område 1 | M19: Område 2 | N19: Område 3 | O19: Område 4 | P19: Grundsats
B20: Nettoløn | C20: 23849.849 | D20: 24209.492 | E20: 24458.522 | F20: 24818.166 | G20: 25067.104 | L20: Aalborg | M20: Køge | N20: Allerød | O20: Albertslund | P20: Alle andre kommuner
B21: Arbejdsgiverbidrag | C21: 2688.052 | D21: 2728.5865 | E21: 2756.654 | F21: 2797.1884 | G21: 2825.2456 | L21: Esbjerg | M21: Lejre | N21: Fredensborg | O21: Ballerup
A22: 25 | B22: Bruttoløn | C22: 25598.658 | D22: 25966.659 | E22: 26221.4 | F22: 26589.583 | G22: 26844.323 | L22: Faaborg-Midtfyn | M22: Roskilde | N22: Frederikssund | O22: Brøndby
B23: Egetbidrag | C23: 1364.4085 | D23: 1384.0229 | E23: 1397.6006 | F23: 1417.2248 | G23: 1430.8024 | L23: Frederikshavn | M23: Solrød | N23: Gribskov | O23: Dragør
B24: Nettoløn | C24: 24234.25 | D24: 24582.636 | E24: 24823.799 | F24: 25172.358 | G24: 25413.521 | L24: Kalundborg | M24: Århus | N24: Halsnæs | O24: Egedal
B25: Arbejdsgiverbidrag | C25: 2731.3769 | D25: 2770.6425 | E25: 2797.8234 | F25: 2837.1085 | G25: 2864.2893 | L25: Kerteminde | N25: Helsingør | O25: Frederiksberg
A26: 26 | B26: Bruttoløn | C26: 26014.041 | D26: 26369.486 | E26: 26615.445 | F26: 26970.804 | G26: 27216.763 | L26: Nyborg | N26: Hillerød | O26: Gentofte
B27: Egetbidrag | C27: 1386.5484 | D27: 1405.4936 | E27: 1418.6032 | F27: 1437.5438 | G27: 1450.6535 | L27: Næstved | N27: Hørsholm | O27: Gladsaxe
B28: Nettoløn | C28: 24627.493 | D28: 24963.992 | E28: 25196.842 | F28: 25533.26 | G28: 25766.11 | L28: Odense | O28: Glostrup
B29: Arbejdsgiverbidrag | C29: 2775.6982 | D29: 2813.6241 | E29: 2839.868 | F29: 2877.7848 | G29: 2904.0286 | L29: Skanderborg | O29: Greve
A30: 28 | B30: Bruttoløn | C30: 26873.209 | D30: 27200.433 | E30: 27426.953 | F30: 27754.176 | G30: 27980.61 | L30: Slagelse | O30: Herlev
B31: Egetbidrag | C31: 1432.3421 | D31: 1449.7831 | E31: 1461.8566 | F31: 1479.2976 | G31: 1491.3665 | L31: Sønderborg | O31: Høje-Tåstrup
B32: Nettoløn | C32: 25440.867 | D32: 25750.65 | E32: 25965.096 | F32: 26274.879 | G32: 26489.244 | O32: Ishøj
B33: Arbejdsgiverbidrag | C33: 2867.3714 | D33: 2902.2862 | E33: 2926.4558 | F33: 2961.3706 | G33: 2985.5311 | O33: København
A34: 29 | B34: Bruttoløn | C34: 27317.285 | D34: 27629.025 | E34: 27844.79 | F34: 28156.445 | G34: 28372.296 | O34: Lyngby-Tårbæk
B35: Egetbidrag | C35: 1456.0113 | D35: 1472.6271 | E35: 1484.1273 | F35: 1500.7385 | G35: 1512.2434 | O35: Rudersdal Rødovre
B36: Nettoløn | C36: 25861.273 | D36: 26156.398 | E36: 26360.663 | F36: 26655.707 | G36: 26860.053 | O36: Tårnby
B37: Arbejdsgiverbidrag | C37: 2914.7543 | D37: 2948.017 | E37: 2971.0391 | F37: 3004.2927 | G37: 3027.324 | O37: Vallensbæk
A38: 30 | B38: Bruttoløn | C38: 27770.978 | D38: 28066.121 | E38: 28270.552 | F38: 28565.684 | G38: 28770.03 | O38: Furesø
B39: Egetbidrag | C39: 1480.1931 | D39: 1495.9242 | E39: 1506.8204 | F39: 1522.551 | G39: 1533.4426 | O39: Hvidovre
B40: Nettoløn | C40: 26290.785 | D40: 26570.196 | E40: 26763.732 | F40: 27043.133 | G40: 27236.587
B41: Arbejdsgiverbidrag | C41: 2963.1634 | D41: 2994.6551 | E41: 3016.4679 | F41: 3047.9585 | G41: 3069.7622
A42: 31 | B42: Bruttoløn | C42: 28234.965 | D42: 28512.641 | E42: 28704.806 | F42: 28982.482 | G42: 29174.647
B43: Egetbidrag | C43: 1504.9236 | D43: 1519.7237 | E43: 1529.9662 | F43: 1544.7663 | G43: 1555.0087
B44: Nettoløn | C44: 26730.041 | D44: 26992.917 | E44: 27174.84 | F44: 27437.715 | G44: 27619.638
B45: Arbejdsgiverbidrag | C45: 3012.6707 | D45: 3042.2988 | E45: 3062.8028 | F45: 3092.4308 | G45: 3112.9348
B47: Ledende
...

Sheet Løntabel oktober 2015 
A1: Interaktiv løntabel med fuld kittelkompensation til fuldtidsansatte
A2: Løn gældende pr. 1. oktober 2015
A4: Eventuelle personlige løntillæg reguleres med 1,18%
A6: Eget bidrag (brutto) til pension på 5,33%. Arbejdsgiverbidrag til pension på 10,67
K7: 23341.483 | L7: 23723.733 | M7: 23988.381 | N7: 24370.632 | O7: 24635.291
K8: =(C12-K7)/K7*100 -> 0.22 | L8: =(D12-L7)/L7*100 -> 0.2199778 | M8: =(E12-M7)/M7*100 -> 0.21997636 | N8: =(F12-N7)/N7*100 -> 0.22 | O8: =(G12-O7)/O7*100 -> 0.22
A9: Løntrin | C9: Grundsats | D9: Område 1 | E9: Område 2 | F9: Område 3 | G9: Område 4
B11: Ikke-uddannede
A12: 19 | B12: Bruttoløn | C12: 23392.834 | D12: 23775.92 | E12: 24041.15 | F12: 24424.247 | G12: 24689.488 | I12: Område 1 | J12: Område 2 | K12: Område 3 | L12: Område 4 | M12: Grundsats
B13: Egetbidrag | C13: =C12*0.0533 -> 1246.838 | D13: =D12*0.0533 -> 1267.2565 | E13: =E12*0.0533 -> 1281.3933 | F13: =F12*0.0533 -> 1301.8124 | G13: =G12*0.0533 -> 1315.9497 | I13: Aalborg | J13: Køge | K13: Allerød | L13: Albertslund | M13: Alle andre kommuner
B14: Nettoløn | C14: =C12-C13 -> 22145.996 | D14: =D12-D13 -> 22508.663 | E14: =E12-E13 -> 22759.757 | F14: =F12-F13 -> 23122.435 | G14: =G12-G13 -> 23373.539 | I14: Esbjerg | J14: Lejre | K14: Fredensborg | L14: Ballerup
B15: Arbejdsgiverbidrag | C15: =C12*0.1067 -> 2496.0154 | D15: =D12*0.1067 -> 2536.8907 | E15: =E12*0.1067 -> 2565.1907 | F15: =F12*0.1067 -> 2606.0672 | G15: =G12*0.1067 -> 2634.3684 | O15: =C12/37 -> 632.23875
A16: HK | I16: Faaborg-Midtfyn | J16: Roskilde | K16: Frederikssund | L16: Brøndby
B17: Uddannede | I17: Frederikshavn | J17: Solrød | K17: Gribskov | L17: Dragør
A18: 24 | B18: Bruttoløn | C18: 25248.039 | D18: 25628.766 | E18: 25892.396 | F18: 26273.123 | G18: 26536.65 | I18: Kalundborg | J18: Århus | K18: Halsnæs | L18: Egedal
B19: Egetbidrag | C19: =C18*0.0533 -> 1345.7205 | D19: =D18*0.0533 -> 1366.0132 | E19: =E18*0.0533 -> 1380.0647 | F19: =F18*0.0533 -> 1400.3575 | G19: =G18*0.0533 -> 1414.4034 | I19: Kerteminde | K19: Helsingør | L19: Frederiksberg
B20: Nettoløn | C20: =C18-C19 -> 23902.318 | D20: =D18-D19 -> 24262.753 | E20: =E18-E19 -> 24512.331 | F20: =F18-F19 -> 24872.765 | G20: =G18-G19 -> 25122.247
B21: Arbejdsgiverbidrag | C21: =C18*0.1067 -> 2693.9658 | D21: =D18*0.1067 -> 2734.5894 | E21: =E18*0.1067 -> 2762.7186 | F21: =F18*0.1067 -> 2803.3422 | G21: =G18*0.1067 -> 2831.4606 | I21: Nyborg | K21: Hillerød | L21: Gentofte
A22: HK | I22: Næstved | K22: Hørsholm | L22: Gladsaxe
A23: 25 | B23: Bruttoløn | C23: 25654.976 | D23: 26023.786 | E23: 26279.087 | F23: 26648.09 | G23: 26903.381 | I23: Odense | L23: Glostrup
B24: Egetbidrag | C24: =C23*0.0533 -> 1367.4102 | D24: =D23*0.0533 -> 1387.0678 | E24: =E23*0.0533 -> 1400.6753 | F24: =F23*0.0533 -> 1420.3432 | G24: =G23*0.0533 -> 1433.9502 | I24: Skanderborg | L24: Greve
B25: Nettoløn | C25: =C23-C24 -> 24287.565 | D25: =D23-D24 -> 24636.718 | E25: =E23-E24 -> 24878.412 | F25: =F23-F24 -> 25227.747 | G25: =G23-G24 -> 25469.431
B26: Arbejdsgiverbidrag | C26: =C23*0.1067 -> 2737.3859 | D26: =D23*0.1067 -> 2776.7379 | E26: =E23*0.1067 -> 2803.9786 | F26: =F23*0.1067 -> 2843.3512 | G26: =G23*0.1067 -> 2870.5907 | I26: Slagelse | L26: Herlev
A27: HK | I27: Sønderborg | L27: Høje-Tåstrup
A28: 26 | B28: Bruttoløn | C28: 26071.272 | D28: 26427.499 | E28: 26673.99 | F28: 27030.14 | G28: 27276.64 | L28: Ishøj
B29: Egetbidrag | C29: =C28*0.0533 -> 1389.5988 | D29: =D28*0.0533 -> 1408.5857 | E29: =E28*0.0533 -> 1421.7237 | F29: =F28*0.0533 -> 1440.7064 | G29: =G28*0.0533 -> 1453.8449 | L29: København
B30: Nettoløn | C30: =C28-C29 -> 24681.673 | D30: =D28-D29 -> 25018.913 | E30: =E28-E29 -> 25252.266 | F30: =F28-F29 -> 25589.433 | G30: =G28-G29 -> 25822.795 | L30: Lyngby-Tårbæk
B31: Arbejdsgiverbidrag | C31: =C28*0.1067 -> 2781.8047 | D31: =D28*0.1067 -> 2819.8141 | E31: =E28*0.1067 -> 2846.1147 | F31: =F28*0.1067 -> 2884.1159 | G31: =G28*0.1067 -> 2910.4175 | L31: Rudersdal Rødovre
A32: HK | L32: Tårnby
A33: 28 | B33: Bruttoløn | C33: 26932.33 | D33: 27260.274 | E33: 27487.292 | F33: 27815.235 | G33: 28042.167 | L33: Vallensbæk
B34: Egetbidrag | C34: =C33*0.0533 -> 1435.4932 | D34: =D33*0.0533 -> 1452.9726 | E34: =E33*0.0533 -> 1465.0727 | F34: =F33*0.0533 -> 1482.552 | G34: =G33*0.0533 -> 1494.6475 | L34: Furesø
B35: Nettoløn | C35: =C33-C34 -> 25496.837 | D35: =D33-D34 -> 25807.301 | E35: =E33-E34 -> 26022.219 | F35: =F33-F34 -> 26332.683 | G35: =G33-G34 -> 26547.52 | L35: Hvidovre
B36: Arbejdsgiverbidrag | C36: =C33*0.1067 -> 2873.6797 | D36: =D33*0.1067 -> 2908.6712 | E36: =E33*0.1067 -> 2932.894 | F36: =F33*0.1067 -> 2967.8856 | G36: =G33*0.1067 -> 2992.0993
A37: 29 | B37: Bruttoløn | C37: 27377.383 | D37: 27689.809 | E37: 27906.049 | F37: 28218.389 | G37: 28434.715
B38: Egetbidrag | C38: =C37*0.0533 -> 1459.2145 | D38: =D37*0.0533 -> 1475.8668 | E38: =E37*0.0533 -> 1487.3924 | F38: =F37*0.0533 -> 1504.0402 | G38: =G37*0.0533 -> 1515.5703
B39: Nettoløn | C39: =C37-C38 -> 25918.168 | D39: =D37-D38 -> 26213.942 | E39: =E37-E38 -> 26418.657 | F39: =F37-F38 -> 26714.349 | G39: =G37-G38 -> 26919.145
B40: Arbejdsgiverbidrag | C40: =C37*0.1067 -> 2921.1667 | D40: =D37*0.1067 -> 2954.5026 | E40: =E37*0.1067 -> 2977.5754 | F40: =F37*0.1067 -> 3010.9022 | G40: =G37*0.1067 -> 3033.9841
A41: 30 | B41: Bruttoløn | C41: 27832.08 | D41: 28127.866 | E41: 28332.747 | F41: 28628.528 | G41: 28833.324
B42: Egetbidrag | C42: =C41*0.0533 -> 1483.4499 | D42: =D41*0.0533 -> 1499.2153 | E42: =E41*0.0533 -> 1510.1354 | F42: =F41*0.0533 -> 1525.9006 | G42: =G41*0.0533 -> 1536.8162
B43: Nettoløn | C43: =C41-C42 -> 26348.63 | D43: =D41-D42 -> 26628.651 | E43: =E41-E42 -> 26822.612 | F43: =F41-F42 -> 27102.628 | G43: =G41-G42 -> 27296.508
...

Sheet Deltid oktober 2015
A1: Interaktiv løntabel med fuld kittelkompensation til deltidsansatte
A2: Løn gældende pr. 1. oktober 2015
A4: Eventuelle personlige løntillæg reguleres med 1,18% | I4: INDTAST ANTAL TIMER PR: UGE: | K4: 20
A6: Eget bidrag (brutto) til pension på 5,33%. Arbejdsgiverbidrag til pension på 10,67
A9: Løntrin | C9: Grundsats | D9: Område 1 | E9: Område 2 | F9: Område 3 | G9: Område 4
B11: Ikke-uddannede
A12: 19 | B12: Bruttoløn | C12: =(('[1]Løntabel 1 oktober 2015 '!C12/37)*$K$4)+(242.75*((37-$K$4)/37)) -> 12756.309 | D12: =(('[1]Løntabel 1 oktober 2015 '!D12/37)*$K$4)+(242.75*((37-$K$4)/37)) -> 12963.382 | E12: =(('[1]Løntabel 1 oktober 2015 '!E12/37)*$K$4)+(242.75*((37-$K$4)/37)) -> 13106.75 | F12: =(('[1]Løntabel 1 oktober 2015 '!F12/37)*$K$4)+(242.75*((37-$K$4)/37)) -> 13313.83 | G12: =(('[1]Løntabel 1 oktober 2015 '!G12/37)*$K$4)+(242.75*((37-$K$4)/37)) -> 13457.203 | I12: Område 1 | J12: Område 2 | K12: Område 3 | L12: Område 4 | M12: Grundsats
B13: Egetbidrag | C13: =C12*0.0533 -> 679.91126 | D13: =D12*0.0533 -> 690.94828 | E13: =E12*0.0533 -> 698.58978 | F13: =F12*0.0533 -> 709.62711 | G13: =G12*0.0533 -> 717.26893 | I13: Aalborg | J13: Køge | K13: Allerød | L13: Albertslund | M13: Alle andre kommuner
B14: Nettoløn | C14: =C12-C13 -> 12076.398 | D14: =D12-D13 -> 12272.434 | E14: =E12-E13 -> 12408.16 | F14: =F12-F13 -> 12604.202 | G14: =G12-G13 -> 12739.934 | I14: Esbjerg | J14: Lejre | K14: Fredensborg | L14: Ballerup
B15: Arbejdsgiverbidrag | C15: =C12*0.1067 -> 1361.0981 | D15: =D12*0.1067 -> 1383.1929 | E15: =E12*0.1067 -> 1398.4902 | F15: =F12*0.1067 -> 1420.5856 | G15: =G12*0.1067 -> 1435.8836
A16: HK | I16: Faaborg-Midtfyn | J16: Roskilde | K16: Frederikssund | L16: Brøndby
B17: Uddannede | I17: Frederikshavn | J17: Solrød | K17: Gribskov | L17: Dragør
A18: 24 | B18: Bruttoløn | C18: =(('[1]Løntabel 1 oktober 2015 '!C18/37)*$K$4)+(242.75*((37-$K$4)/37)) -> 13759.122 | D18: =(('[1]Løntabel 1 oktober 2015 '!D18/37)*$K$4)+(242.75*((37-$K$4)/37)) -> 13964.921 | E18: =(('[1]Løntabel 1 oktober 2015 '!E18/37)*$K$4)+(242.75*((37-$K$4)/37)) -> 14107.423 | F18: =(('[1]Løntabel 1 oktober 2015 '!F18/37)*$K$4)+(242.75*((37-$K$4)/37)) -> 14313.222 | G18: =(('[1]Løntabel 1 oktober 2015 '!G18/37)*$K$4)+(242.75*((37-$K$4)/37)) -> 14455.669 | I18: Kalundborg | J18: Århus | K18: Halsnæs | L18: Egedal
B19: Egetbidrag | C19: =C18*0.0533 -> 733.36122 | D19: =D18*0.0533 -> 744.33029 | E19: =E18*0.0533 -> 751.92566 | F19: =F18*0.0533 -> 762.89472 | G19: =G18*0.0533 -> 770.48715 | I19: Kerteminde | K19: Helsingør | L19: Frederiksberg
B20: Nettoløn | C20: =C18-C19 -> 13025.761 | D20: =D18-D19 -> 13220.591 | E20: =E18-E19 -> 13355.498 | F20: =F18-F19 -> 13550.327 | G20: =G18-G19 -> 13685.182
B21: Arbejdsgiverbidrag | C21: =C18*0.1067 -> 1468.0984 | D21: =D18*0.1067 -> 1490.0571 | E21: =E18*0.1067 -> 1505.2621 | F21: =F18*0.1067 -> 1527.2208 | G21: =G18*0.1067 -> 1542.4199 | I21: Nyborg | K21: Hillerød | L21: Gentofte
A22: HK | I22: Næstved | K22: Hørsholm | L22: Gladsaxe
A23: 25 | B23: Bruttoløn | C23: =(('[1]Løntabel 1 oktober 2015 '!C23/37)*$K$4)+(242.75*((37-$K$4)/37)) -> 13979.088 | D23: =(('[1]Løntabel 1 oktober 2015 '!D23/37)*$K$4)+(242.75*((37-$K$4)/37)) -> 14178.445 | E23: =(('[1]Løntabel 1 oktober 2015 '!E23/37)*$K$4)+(242.75*((37-$K$4)/37)) -> 14316.446 | F23: =(('[1]Løntabel 1 oktober 2015 '!F23/37)*$K$4)+(242.75*((37-$K$4)/37)) -> 14515.907 | G23: =(('[1]Løntabel 1 oktober 2015 '!G23/37)*$K$4)+(242.75*((37-$K$4)/37)) -> 14653.902 | I23: Odense | L23: Glostrup
B24: Egetbidrag | C24: =C23*0.0533 -> 745.0854 | D24: =D23*0.0533 -> 755.71112 | E24: =E23*0.0533 -> 763.06655 | F24: =F23*0.0533 -> 773.69783 | G24: =G23*0.0533 -> 781.05297 | I24: Skanderborg | L24: Greve
B25: Nettoløn | C25: =C23-C24 -> 13234.003 | D25: =D23-D24 -> 13422.734 | E25: =E23-E24 -> 13553.379 | F25: =F23-F24 -> 13742.209 | G25: =G23-G24 -> 13872.849
B26: Arbejdsgiverbidrag | C26: =C23*0.1067 -> 1491.5687 | D26: =D23*0.1067 -> 1512.8401 | E26: =E23*0.1067 -> 1527.5647 | F26: =F23*0.1067 -> 1548.8473 | G26: =G23*0.1067 -> 1563.5713 | I26: Slagelse | L26: Herlev
A27: HK | I27: Sønderborg | L27: Høje-Tåstrup
A28: 26 | B28: Bruttoløn | C28: =(('[1]Løntabel 1 oktober 2015 '!C28/37)*$K$4)+(242.75*((37-$K$4)/37)) -> 14204.113 | D28: =(('[1]Løntabel 1 oktober 2015 '!D28/37)*$K$4)+(242.75*((37-$K$4)/37)) -> 14396.668 | E28: =(('[1]Løntabel 1 oktober 2015 '!E28/37)*$K$4)+(242.75*((37-$K$4)/37)) -> 14529.907 | F28: =(('[1]Løntabel 1 oktober 2015 '!F28/37)*$K$4)+(242.75*((37-$K$4)/37)) -> 14722.42 | G28: =(('[1]Løntabel 1 oktober 2015 '!G28/37)*$K$4)+(242.75*((37-$K$4)/37)) -> 14855.663 | L28: Ishøj
B29: Egetbidrag | C29: =C28*0.0533 -> 757.07923 | D29: =D28*0.0533 -> 767.34241 | E29: =E28*0.0533 -> 774.44403 | F29: =F28*0.0533 -> 784.70499 | G29: =G28*0.0533 -> 791.80686 | L29: København
B30: Nettoløn | C30: =C28-C29 -> 13447.034 | D30: =D28-D29 -> 13629.326 | E30: =E28-E29 -> 13755.463 | F30: =F28-F29 -> 13937.715 | G30: =G28-G29 -> 14063.857 | L30: Lyngby-Tårbæk
B31: Arbejdsgiverbidrag | C31: =C28*0.1067 -> 1515.5789 | D31: =D28*0.1067 -> 1536.1245 | E31: =E28*0.1067 -> 1550.3411 | F31: =F28*0.1067 -> 1570.8822 | G31: =G28*0.1067 -> 1585.0993 | L31: Rudersdal Rødovre
A32: HK | L32: Tårnby
A33: 28 | B33: Bruttoløn | C33: =(('[1]Løntabel 1 oktober 2015 '!C33/37)*$K$4)+(242.75*((37-$K$4)/37)) -> 14669.55 | D33: =(('[1]Løntabel 1 oktober 2015 '!D33/37)*$K$4)+(242.75*((37-$K$4)/37)) -> 14846.817 | E33: =(('[1]Løntabel 1 oktober 2015 '!E33/37)*$K$4)+(242.75*((37-$K$4)/37)) -> 14969.529 | F33: =(('[1]Løntabel 1 oktober 2015 '!F33/37)*$K$4)+(242.75*((37-$K$4)/37)) -> 15146.796 | G33: =(('[1]Løntabel 1 oktober 2015 '!G33/37)*$K$4)+(242.75*((37-$K$4)/37)) -> 15269.462 | L33: Vallensbæk
B34: Egetbidrag | C34: =C33*0.0533 -> 781.88703 | D34: =D33*0.0533 -> 791.33535 | E34: =E33*0.0533 -> 797.87592 | F34: =F33*0.0533 -> 807.32423 | G34: =G33*0.0533 -> 813.86233 | L34: Furesø
B35: Nettoløn | C35: =C33-C34 -> 13887.663 | D35: =D33-D34 -> 14055.482 | E35: =E33-E34 -> 14171.653 | F35: =F33-F34 -> 14339.472 | G35: =G33-G34 -> 14455.6 | L35: Hvidovre
B36: Arbejdsgiverbidrag | C36: =C33*0.1067 -> 1565.241 | D36: =D33*0.1067 -> 1584.1554 | E36: =E33*0.1067 -> 1597.2488 | F36: =F33*0.1067 -> 1616.1631 | G36: =G33*0.1067 -> 1629.2516
A37: 29 | B37: Bruttoløn | C37: =(('[1]Løntabel 1 oktober 2015 '!C37/37)*$K$4)+(242.75*((37-$K$4)/37)) -> 14910.119 | D37: =(('[1]Løntabel 1 oktober 2015 '!D37/37)*$K$4)+(242.75*((37-$K$4)/37)) -> 15078.998 | E37: =(('[1]Løntabel 1 oktober 2015 '!E37/37)*$K$4)+(242.75*((37-$K$4)/37)) -> 15195.885 | F37: =(('[1]Løntabel 1 oktober 2015 '!F37/37)*$K$4)+(242.75*((37-$K$4)/37)) -> 15364.717 | G37: =(('[1]Løntabel 1 oktober 2015 '!G37/37)*$K$4)+(242.75*((37-$K$4)/37)) -> 15481.65
B38: Egetbidrag | C38: =C37*0.0533 -> 794.70935 | D38: =D37*0.0533 -> 803.7106 | E38: =E37*0.0533 -> 809.94065 | F38: =F37*0.0533 -> 818.93943 | G38: =G37*0.0533 -> 825.17195
B39: Nettoløn | C39: =C37-C38 -> 14115.41 | D39: =D37-D38 -> 14275.288 | E39: =E37-E38 -> 14385.944 | F39: =F37-F38 -> 14545.778 | G39: =G37-G38 -> 14656.478
B40: Arbejdsgiverbidrag | C40: =C37*0.1067 -> 1590.9097 | D40: =D37*0.1067 -> 1608.9291 | E40: =E37*0.1067 -> 1621.4009 | F40: =F37*0.1067 -> 1639.4153 | G40: =G37*0.1067 -> 1651.8921
A41: 30 | B41: Bruttoløn | C41: =(('[1]Løntabel 1 oktober 2015 '!C41/37)*$K$4)+(242.75*((37-$K$4)/37)) -> 15155.901 | D41: =(('[1]Løntabel 1 oktober 2015 '!D41/37)*$K$4)+(242.75*((37-$K$4)/37)) -> 15315.786 | E41: =(('[1]Løntabel 1 oktober 2015 '!E41/37)*$K$4)+(242.75*((37-$K$4)/37)) -> 15426.532 | F41: =(('[1]Løntabel 1 oktober 2015 '!F41/37)*$K$4)+(242.75*((37-$K$4)/37)) -> 15586.414 | G41: =(('[1]Løntabel 1 oktober 2015 '!G41/37)*$K$4)+(242.75*((37-$K$4)/37)) -> 15697.114
B42: Egetbidrag | C42: =C41*0.0533 -> 807.80954 | D42: =D41*0.0533 -> 816.33138 | E42: =E41*0.0533 -> 822.23418 | F42: =F41*0.0533 -> 830.75587 | G42: =G41*0.0533 -> 836.65619
B43: Nettoløn | C43: =C41-C42 -> 14348.092 | D43: =D41-D42 -> 14499.454 | E43: =E41-E42 -> 14604.298 | F43: =F41-F42 -> 14755.658 | G43: =G41-G42 -> 14860.458
B44: Arbejdsgiverbidrag | C44: =C41*0.1067 -> 1617.1347 | D44: =D41*0.1067 -> 1634.1943 | E44: =E41*0.1067 -> 1646.011 | F44: =F41*0.1067 -> 1663.0704 | G44: =G41*0.1067 -> 1674.8821
A45: HK
...

Sheet Timelønnede oktober 2015
A1: Interaktiv løntabel med fuld kittelkompensation til fuldtidsansatte
A2: Løn gældende pr. 1. oktober 2015
A4: Eventuelle personlige løntillæg reguleres med 1,18%
A6: Eget bidrag (brutto) til pension på 5,33%. Arbejdsgiverbidrag til pension på 10,67
A9: Løntrin | C9: Grundsats | D9: Område 1 | E9: Område 2 | F9: Område 3 | G9: Område 4
B11: Ikke-uddannede | J11: =IF(#REF!>=8.1,0,#REF!) -> #REF!
A12: 19 | B12: Bruttoløn | C12: ='[2]Løntabel 1.10.2015'!C12/160.33 -> 145.90428 | D12: ='[2]Løntabel 1.10.2015'!D12/160.33 -> 148.29364 | E12: ='[2]Løntabel 1.10.2015'!E12/160.33 -> 149.94792 | F12: ='[2]Løntabel 1.10.2015'!F12/160.33 -> 152.33735 | G12: ='[2]Løntabel 1.10.2015'!G12/160.33 -> 153.99169
B13: Egetbidrag | C13: =C12*0.0533 -> 7.7766983 | D13: =D12*0.0533 -> 7.9040512 | E13: =E12*0.0533 -> 7.9922241 | F13: =F12*0.0533 -> 8.1195807 | G13: =G12*0.0533 -> 8.2077573
B14: Nettoløn | C14: =C12-C13 -> 138.12759 | D14: =D12-D13 -> 140.38959 | E14: =E12-E13 -> 141.9557 | F14: =F12-F13 -> 144.21777 | G14: =G12-G13 -> 145.78394
B15: Arbejdsgiverbidrag | C15: =C12*0.1067 -> 15.567987 | D15: =D12*0.1067 -> 15.822932 | E15: =E12*0.1067 -> 15.999443 | F15: =F12*0.1067 -> 16.254395 | G15: =G12*0.1067 -> 16.430914
B17: Uddannede
A18: 24 | B18: Bruttoløn | C18: ='[2]Løntabel 1.10.2015'!C17/160.33 -> 157.47545 | D18: ='[2]Løntabel 1.10.2015'!D17/160.33 -> 159.8501 | E18: ='[2]Løntabel 1.10.2015'!E17/160.33 -> 161.49439 | F18: ='[2]Løntabel 1.10.2015'!F17/160.33 -> 163.86904 | G18: ='[2]Løntabel 1.10.2015'!G17/160.33 -> 165.51269
B19: Egetbidrag | C19: =C18*0.0533 -> 8.3934415 | D19: =D18*0.0533 -> 8.5200102 | E19: =E18*0.0533 -> 8.607651 | F19: =F18*0.0533 -> 8.7342197 | G19: =G18*0.0533 -> 8.8218265 | L19: Område 1 | M19: Område 2 | N19: Område 3 | O19: Område 4 | P19: Grundsats
B20: Nettoløn | C20: =C18-C19 -> 149.08201 | D20: =D18-D19 -> 151.33009 | E20: =E18-E19 -> 152.88674 | F20: =F18-F19 -> 155.13482 | G20: =G18-G19 -> 156.69087 | L20: Aalborg | M20: Køge | N20: Allerød | O20: Albertslund | P20: Alle andre kommuner
B21: Arbejdsgiverbidrag | C21: =C18*0.1067 -> 16.802631 | D21: =D18*0.1067 -> 17.056006 | E21: =E18*0.1067 -> 17.231451 | F21: =F18*0.1067 -> 17.484826 | G21: =G18*0.1067 -> 17.660204 | L21: Esbjerg | M21: Lejre | N21: Fredensborg | O21: Ballerup
A22: 25 | B22: Bruttoløn | C22: ='[2]Løntabel 1.10.2015'!C21/160.33 -> 160.01357 | D22: ='[2]Løntabel 1.10.2015'!D21/160.33 -> 162.31389 | E22: ='[2]Løntabel 1.10.2015'!E21/160.33 -> 163.90624 | F22: ='[2]Løntabel 1.10.2015'!F21/160.33 -> 166.20776 | G22: ='[2]Løntabel 1.10.2015'!G21/160.33 -> 167.80004 | L22: Faaborg-Midtfyn | M22: Roskilde | N22: Frederikssund | O22: Brøndby
B23: Egetbidrag | C23: =C22*0.0533 -> 8.5287232 | D23: =D22*0.0533 -> 8.6513302 | E23: =E22*0.0533 -> 8.7362024 | F23: =F22*0.0533 -> 8.8588736 | G23: =G22*0.0533 -> 8.9437423 | L23: Frederikshavn | M23: Solrød | N23: Gribskov | O23: Dragør
B24: Nettoløn | C24: =C22-C23 -> 151.48485 | D24: =D22-D23 -> 153.66256 | E24: =E22-E23 -> 155.17003 | F24: =F22-F23 -> 157.34889 | G24: =G22-G23 -> 158.8563 | L24: Kalundborg | M24: Århus | N24: Halsnæs | O24: Egedal
B25: Arbejdsgiverbidrag | C25: =C22*0.1067 -> 17.073448 | D25: =D22*0.1067 -> 17.318892 | E25: =E22*0.1067 -> 17.488795 | F25: =F22*0.1067 -> 17.734368 | G25: =G22*0.1067 -> 17.904265 | L25: Kerteminde | N25: Helsingør | O25: Frederiksberg
A26: 26 | B26: Bruttoløn | C26: ='[2]Løntabel 1.10.2015'!C25/160.33 -> 162.61007 | D26: ='[2]Løntabel 1.10.2015'!D25/160.33 -> 164.8319 | E26: ='[2]Løntabel 1.10.2015'!E25/160.33 -> 166.3693 | F26: ='[2]Løntabel 1.10.2015'!F25/160.33 -> 168.59065 | G26: ='[2]Løntabel 1.10.2015'!G25/160.33 -> 170.12811 | L26: Nyborg | N26: Hillerød | O26: Gentofte
B27: Egetbidrag | C27: =C26*0.0533 -> 8.6671165 | D27: =D26*0.0533 -> 8.7855403 | E27: =E26*0.0533 -> 8.8674837 | F27: =F26*0.0533 -> 8.9858819 | G27: =G26*0.0533 -> 9.0678283 | L27: Næstved | N27: Hørsholm | O27: Gladsaxe
B28: Nettoløn | C28: =C26-C27 -> 153.94295 | D28: =D26-D27 -> 156.04636 | E28: =E26-E27 -> 157.50182 | F28: =F26-F27 -> 159.60477 | G28: =G26-G27 -> 161.06028 | L28: Odense | O28: Glostrup
B29: Arbejdsgiverbidrag | C29: =C26*0.1067 -> 17.350494 | D29: =D26*0.1067 -> 17.587564 | E29: =E26*0.1067 -> 17.751604 | F29: =F26*0.1067 -> 17.988623 | G29: =G26*0.1067 -> 18.152669 | L29: Skanderborg | O29: Greve
A30: 28 | B30: Bruttoløn | C30: ='[2]Løntabel 1.10.2015'!C29/160.33 -> 167.98061 | D30: ='[2]Løntabel 1.10.2015'!D29/160.33 -> 170.02603 | E30: ='[2]Løntabel 1.10.2015'!E29/160.33 -> 171.44198 | F30: ='[2]Løntabel 1.10.2015'!F29/160.33 -> 173.4874 | G30: ='[2]Løntabel 1.10.2015'!G29/160.33 -> 174.90281 | L30: Slagelse | O30: Herlev
B31: Egetbidrag | C31: =C30*0.0533 -> 8.9533663 | D31: =D30*0.0533 -> 9.0623876 | E31: =E30*0.0533 -> 9.1378573 | F31: =F30*0.0533 -> 9.2468786 | G31: =G30*0.0533 -> 9.3223197 | L31: Sønderborg | O31: Høje-Tåstrup
B32: Nettoløn | C32: =C30-C31 -> 159.02724 | D32: =D30-D31 -> 160.96365 | E32: =E30-E31 -> 162.30412 | F32: =F30-F31 -> 164.24052 | G32: =G30-G31 -> 165.58049 | O32: Ishøj
B33: Arbejdsgiverbidrag | C33: =C30*0.1067 -> 17.923531 | D33: =D30*0.1067 -> 18.141778 | E33: =E30*0.1067 -> 18.292859 | F33: =F30*0.1067 -> 18.511106 | G33: =G30*0.1067 -> 18.66213 | O33: København
A34: 29 | B34: Bruttoløn | C34: ='[2]Løntabel 1.10.2015'!C33/160.33 -> 170.75646 | D34: ='[2]Løntabel 1.10.2015'!D33/160.33 -> 172.7051 | E34: ='[2]Løntabel 1.10.2015'!E33/160.33 -> 174.05382 | F34: ='[2]Løntabel 1.10.2015'!F33/160.33 -> 176.00193 | G34: ='[2]Løntabel 1.10.2015'!G33/160.33 -> 177.35118 | O34: Lyngby-Tårbæk
B35: Egetbidrag | C35: =C34*0.0533 -> 9.1013192 | D35: =D34*0.0533 -> 9.205182 | E35: =E34*0.0533 -> 9.2770686 | F35: =F34*0.0533 -> 9.3809029 | G35: =G34*0.0533 -> 9.4528181 | O35: Rudersdal Rødovre
B36: Nettoløn | C36: =C34-C35 -> 161.65514 | D36: =D34-D35 -> 163.49992 | E36: =E34-E35 -> 164.77675 | F36: =F34-F35 -> 166.62103 | G36: =G34-G35 -> 167.89837 | O36: Tårnby
B37: Arbejdsgiverbidrag | C37: =C34*0.1067 -> 18.219714 | D37: =D34*0.1067 -> 18.427635 | E37: =E34*0.1067 -> 18.571543 | F37: =F34*0.1067 -> 18.779406 | G37: =G34*0.1067 -> 18.923371 | O37: Vallensbæk
A38: 30 | B38: Bruttoløn | C38: ='[2]Løntabel 1.10.2015'!C37/160.33 -> 173.59247 | D38: ='[2]Løntabel 1.10.2015'!D37/160.33 -> 175.43732 | E38: ='[2]Løntabel 1.10.2015'!E37/160.33 -> 176.7152 | F38: ='[2]Løntabel 1.10.2015'!F37/160.33 -> 178.56002 | G38: ='[2]Løntabel 1.10.2015'!G37/160.33 -> 179.83736 | O38: Furesø
B39: Egetbidrag | C39: =C38*0.0533 -> 9.2524784 | D39: =D38*0.0533 -> 9.3508093 | E39: =E38*0.0533 -> 9.4189199 | F39: =F38*0.0533 -> 9.5172492 | G39: =G38*0.0533 -> 9.5853313 | O39: Hvidovre
B40: Nettoløn | C40: =C38-C39 -> 164.33999 | D40: =D38-D39 -> 166.08651 | E40: =E38-E39 -> 167.29628 | F40: =F38-F39 -> 169.04277 | G40: =G38-G39 -> 170.25203
B41: Arbejdsgiverbidrag | C41: =C38*0.1067 -> 18.522316 | D41: =D38*0.1067 -> 18.719162 | E41: =E38*0.1067 -> 18.855511 | F41: =F38*0.1067 -> 19.052354 | G41: =G38*0.1067 -> 19.188646
A42: 31 | B42: Bruttoløn | C42: ='[2]Løntabel 1.10.2015'!C41/160.33 -> 176.49274 | D42: ='[2]Løntabel 1.10.2015'!D41/160.33 -> 178.22846 | E42: ='[2]Løntabel 1.10.2015'!E41/160.33 -> 179.42965 | F42: ='[2]Løntabel 1.10.2015'!F41/160.33 -> 181.16537 | G42: ='[2]Løntabel 1.10.2015'!G41/160.33 -> 182.36656
B43: Egetbidrag | C43: =C42*0.0533 -> 9.4070633 | D43: =D42*0.0533 -> 9.4995767 | E43: =E42*0.0533 -> 9.5636006 | F43: =F42*0.0533 -> 9.656114 | G43: =G42*0.0533 -> 9.7201379
B44: Nettoløn | C44: =C42-C43 -> 167.08568 | D44: =D42-D43 -> 168.72888 | E44: =E42-E43 -> 169.86605 | F44: =F42-F43 -> 171.50925 | G44: =G42-G43 -> 172.64643
B45: Arbejdsgiverbidrag | C45: =C42*0.1067 -> 18.831776 | D45: =D42*0.1067 -> 19.016976 | E45: =E42*0.1067 -> 19.145144 | F45: =F42*0.1067 -> 19.330345 | G45: =G42*0.1067 -> 19.458512
B47: Ledende
...

Sheet Løntabel april 2016
A1: Interaktiv løntabel med fuld kittelkompensation til fuldtidsansatte
A2: Løn gældende pr. 1. april 2016
A4: Eventuelle personlige løntillæg reguleres med: | D4: 0.015
A5: Egetbidrag pension: | D5: 0.055
A6: Arbejdsgiverbidrag pension: | D6: 0.11
A9: Løntrin | C9: Grundsats | D9: Område 1 | E9: Område 2 | F9: Område 3 | G9: Område 4
B11: Ikke-uddannede
A12: 19 | B12: Bruttoløn | C12: ='Løntabel oktober 2015 '!C12*(1+$D$4) -> 23743.726 | D12: ='Løntabel oktober 2015 '!D12*(1+$D$4) -> 24132.559 | E12: ='Løntabel oktober 2015 '!E12*(1+$D$4) -> 24401.767 | F12: ='Løntabel oktober 2015 '!F12*(1+$D$4) -> 24790.611 | G12: ='Løntabel oktober 2015 '!G12*(1+$D$4) -> 25059.831 | I12: Område 1 | J12: Område 2 | K12: Område 3 | L12: Område 4 | M12: Grundsats
B13: Egetbidrag | C13: =C12*$D$5 -> 1305.9049 | D13: =D12*$D$5 -> 1327.2907 | E13: =E12*$D$5 -> 1342.0972 | F13: =F12*$D$5 -> 1363.4836 | G13: =G12*$D$5 -> 1378.2907 | I13: Aalborg | J13: Køge | K13: Allerød | L13: Albertslund | M13: Alle andre kommuner
B14: Nettoløn | C14: =C12-C13 -> 22437.821 | D14: =D12-D13 -> 22805.268 | E14: =E12-E13 -> 23059.67 | F14: =F12-F13 -> 23427.127 | G14: =G12-G13 -> 23681.54 | I14: Esbjerg | J14: Lejre | K14: Fredensborg | L14: Ballerup
B15: Arbejdsgiverbidrag | C15: =C12*$D$6 -> 2611.8099 | D15: =D12*$D$6 -> 2654.5815 | E15: =E12*$D$6 -> 2684.1944 | F15: =F12*$D$6 -> 2726.9672 | G15: =G12*$D$6 -> 2756.5814
A16: HK | I16: Faaborg-Midtfyn | J16: Roskilde | K16: Frederikssund | L16: Brøndby
B17: Uddannede | I17: Frederikshavn | J17: Solrød | K17: Gribskov | L17: Dragør
A18: 24 | B18: Bruttoløn | C18: ='Løntabel oktober 2015 '!C18*(1+'Løntabel april 2016'!$D$4) -> 25626.759 | D18: ='Løntabel oktober 2015 '!D18*(1+'Løntabel april 2016'!$D$4) -> 26013.198 | E18: ='Løntabel oktober 2015 '!E18*(1+'Løntabel april 2016'!$D$4) -> 26280.781 | F18: ='Løntabel oktober 2015 '!F18*(1+'Løntabel april 2016'!$D$4) -> 26667.22 | G18: ='Løntabel oktober 2015 '!G18*(1+'Løntabel april 2016'!$D$4) -> 26934.7 | I18: Kalundborg | J18: Århus | K18: Halsnæs | L18: Egedal
B19: Egetbidrag | C19: =C18*$D$5 -> 1409.4718 | D19: =D18*$D$5 -> 1430.7259 | E19: =E18*$D$5 -> 1445.443 | F19: =F18*$D$5 -> 1466.6971 | G19: =G18*$D$5 -> 1481.4085 | I19: Kerteminde | K19: Helsingør | L19: Frederiksberg
B20: Nettoløn | C20: =C18-C19 -> 24217.288 | D20: =D18-D19 -> 24582.472 | E20: =E18-E19 -> 24835.338 | F20: =F18-F19 -> 25200.523 | G20: =G18-G19 -> 25453.291
B21: Arbejdsgiverbidrag | C21: =C18*$D$6 -> 2818.9435 | D21: =D18*$D$6 -> 2861.4518 | E21: =E18*$D$6 -> 2890.886 | F21: =F18*$D$6 -> 2933.3942 | G21: =G18*$D$6 -> 2962.817 | I21: Nyborg | K21: Hillerød | L21: Gentofte
A22: HK | I22: Næstved | K22: Hørsholm | L22: Gladsaxe
A23: 25 | B23: Bruttoløn | C23: ='Løntabel oktober 2015 '!C23*(1+'Løntabel april 2016'!$D$4) -> 26039.8 | D23: ='Løntabel oktober 2015 '!D23*(1+'Løntabel april 2016'!$D$4) -> 26414.143 | E23: ='Løntabel oktober 2015 '!E23*(1+'Løntabel april 2016'!$D$4) -> 26673.273 | F23: ='Løntabel oktober 2015 '!F23*(1+'Løntabel april 2016'!$D$4) -> 27047.811 | G23: ='Løntabel oktober 2015 '!G23*(1+'Løntabel april 2016'!$D$4) -> 27306.932 | I23: Odense | L23: Glostrup
B24: Egetbidrag | C24: =C23*$D$5 -> 1432.189 | D24: =D23*$D$5 -> 1452.7778 | E24: =E23*$D$5 -> 1467.03 | F24: =F23*$D$5 -> 1487.6296 | G24: =G23*$D$5 -> 1501.8812 | I24: Skanderborg | L24: Greve
B25: Nettoløn | C25: =C23-C24 -> 24607.611 | D25: =D23-D24 -> 24961.365 | E25: =E23-E24 -> 25206.243 | F25: =F23-F24 -> 25560.182 | G25: =G23-G24 -> 25805.05
B26: Arbejdsgiverbidrag | C26: =C23*$D$6 -> 2864.378 | D26: =D23*$D$6 -> 2905.5557 | E26: =E23*$D$6 -> 2934.0601 | F26: =F23*$D$6 -> 2975.2592 | G26: =G23*$D$6 -> 3003.7625 | I26: Slagelse | L26: Herlev
A27: HK | I27: Sønderborg | L27: Høje-Tåstrup
A28: 26 | B28: Bruttoløn | C28: ='Løntabel oktober 2015 '!C28*(1+'Løntabel april 2016'!$D$4) -> 26462.341 | D28: ='Løntabel oktober 2015 '!D28*(1+'Løntabel april 2016'!$D$4) -> 26823.911 | E28: ='Løntabel oktober 2015 '!E28*(1+'Løntabel april 2016'!$D$4) -> 27074.1 | F28: ='Løntabel oktober 2015 '!F28*(1+'Løntabel april 2016'!$D$4) -> 27435.592 | G28: ='Løntabel oktober 2015 '!G28*(1+'Løntabel april 2016'!$D$4) -> 27685.79 | L28: Ishøj
B29: Egetbidrag | C29: =C28*$D$5 -> 1455.4288 | D29: =D28*$D$5 -> 1475.3151 | E29: =E28*$D$5 -> 1489.0755 | F29: =F28*$D$5 -> 1508.9575 | G29: =G28*$D$5 -> 1522.7184 | L29: København
B30: Nettoløn | C30: =C28-C29 -> 25006.912 | D30: =D28-D29 -> 25348.596 | E30: =E28-E29 -> 25585.024 | F30: =F28-F29 -> 25926.634 | G30: =G28-G29 -> 26163.071 | L30: Lyngby-Tårbæk
B31: Arbejdsgiverbidrag | C31: =C28*$D$6 -> 2910.8575 | D31: =D28*$D$6 -> 2950.6302 | E31: =E28*$D$6 -> 2978.151 | F31: =F28*$D$6 -> 3017.9151 | G31: =G28*$D$6 -> 3045.4368 | L31: Rudersdal Rødovre
A32: HK | L32: Tårnby
A33: 28 | B33: Bruttoløn | C33: ='Løntabel oktober 2015 '!C33*(1+'Løntabel april 2016'!$D$4) -> 27336.315 | D33: ='Løntabel oktober 2015 '!D33*(1+'Løntabel april 2016'!$D$4) -> 27669.178 | E33: ='Løntabel oktober 2015 '!E33*(1+'Løntabel april 2016'!$D$4) -> 27899.601 | F33: ='Løntabel oktober 2015 '!F33*(1+'Løntabel april 2016'!$D$4) -> 28232.464 | G33: ='Løntabel oktober 2015 '!G33*(1+'Løntabel april 2016'!$D$4) -> 28462.8 | L33: Vallensbæk
B34: Egetbidrag | C34: =C33*$D$5 -> 1503.4973 | D34: =D33*$D$5 -> 1521.8048 | E34: =E33*$D$5 -> 1534.4781 | F34: =F33*$D$5 -> 1552.7855 | G34: =G33*$D$5 -> 1565.454 | L34: Furesø
B35: Nettoløn | C35: =C33-C34 -> 25832.818 | D35: =D33-D34 -> 26147.373 | E35: =E33-E34 -> 26365.123 | F35: =F33-F34 -> 26679.678 | G35: =G33-G34 -> 26897.346 | L35: Hvidovre
B36: Arbejdsgiverbidrag | C36: =C33*$D$6 -> 3006.9947 | D36: =D33*$D$6 -> 3043.6096 | E36: =E33*$D$6 -> 3068.9561 | F36: =F33*$D$6 -> 3105.571 | G36: =G33*$D$6 -> 3130.908
A37: 29 | B37: Bruttoløn | C37: ='Løntabel oktober 2015 '!C37*(1+'Løntabel april 2016'!$D$4) -> 27788.044 | D37: ='Løntabel oktober 2015 '!D37*(1+'Løntabel april 2016'!$D$4) -> 28105.156 | E37: ='Løntabel oktober 2015 '!E37*(1+'Løntabel april 2016'!$D$4) -> 28324.64 | F37: ='Løntabel oktober 2015 '!F37*(1+'Løntabel april 2016'!$D$4) -> 28641.665 | G37: ='Løntabel oktober 2015 '!G37*(1+'Løntabel april 2016'!$D$4) -> 28861.236
B38: Egetbidrag | C38: =C37*$D$5 -> 1528.3424 | D38: =D37*$D$5 -> 1545.7836 | E38: =E37*$D$5 -> 1557.8552 | F38: =F37*$D$5 -> 1575.2916 | G38: =G37*$D$5 -> 1587.368
B39: Nettoløn | C39: =C37-C38 -> 26259.701 | D39: =D37-D38 -> 26559.373 | E39: =E37-E38 -> 26766.785 | F39: =F37-F38 -> 27066.374 | G39: =G37-G38 -> 27273.868
B40: Arbejdsgiverbidrag | C40: =C37*$D$6 -> 3056.6848 | D40: =D37*$D$6 -> 3091.5672 | E40: =E37*$D$6 -> 3115.7104 | F40: =F37*$D$6 -> 3150.5832 | G40: =G37*$D$6 -> 3174.736
A41: 30 | B41: Bruttoløn | C41: ='Løntabel oktober 2015 '!C41*(1+'Løntabel april 2016'!$D$4) -> 28249.561 | D41: ='Løntabel oktober 2015 '!D41*(1+'Løntabel april 2016'!$D$4) -> 28549.784 | E41: ='Løntabel oktober 2015 '!E41*(1+'Løntabel april 2016'!$D$4) -> 28757.739 | F41: ='Løntabel oktober 2015 '!F41*(1+'Løntabel april 2016'!$D$4) -> 29057.956 | G41: ='Løntabel oktober 2015 '!G41*(1+'Løntabel april 2016'!$D$4) -> 29265.824
B42: Egetbidrag | C42: =C41*$D$5 -> 1553.7259 | D42: =D41*$D$5 -> 1570.2381 | E42: =E41*$D$5 -> 1581.6756 | F42: =F41*$D$5 -> 1598.1876 | G42: =G41*$D$5 -> 1609.6203
B43: Nettoløn | C43: =C41-C42 -> 26695.835 | D43: =D41-D42 -> 26979.546 | E43: =E41-E42 -> 27176.063 | F43: =F41-F42 -> 27459.769 | G43: =G41-G42 -> 27656.203
B44: Arbejdsgiverbidrag | C44: =C41*$D$6 -> 3107.4517 | D44: =D41*$D$6 -> 3140.4762 | E44: =E41*$D$6 -> 3163.3512 | F44: =F41*$D$6 -> 3196.3752 | G44: =G41*$D$6 -> 3219.2406
...

Sheet Deltid april 2016 
A1: Interaktiv løntabel med fuld kittelkompensation til deltidsansatte
A2: Løn gældende pr. 1. april 2016
N3: Kitteltillæg okt 2015 | Q3: 242.75
A4: Eventuelle personlige løntillæg reguleres med: | D4: 0.015 | I4: INDTAST ANTAL TIMER PR: UGE: | K4: 30 | N4: Kitteltillæg april 2016 | Q4: =Q3*(1+D4) -> 246.39125
A5: Egetbidrag pension: | D5: 0.055
A6: Arbejdsgiverbidrag pension: | D6: 0.11
A9: Løntrin | C9: Grundsats | D9: Område 1 | E9: Område 2 | F9: Område 3 | G9: Område 4
B11: Ikke-uddannede
A12: 19 | B12: Bruttoløn | C12: =(('Løntabel april 2016'!C12/37*$K$4))+($Q$4*((37-$K$4)/37)) -> 19298.285 | D12: =(('Løntabel april 2016'!D12/37*$K$4))+($Q$4*((37-$K$4)/37)) -> 19613.554 | E12: =(('Løntabel april 2016'!E12/37*$K$4))+($Q$4*((37-$K$4)/37)) -> 19831.831 | F12: =(('Løntabel april 2016'!F12/37*$K$4))+($Q$4*((37-$K$4)/37)) -> 20147.11 | G12: =(('Løntabel april 2016'!G12/37*$K$4))+($Q$4*((37-$K$4)/37)) -> 20365.396 | I12: Område 1 | J12: Område 2 | K12: Område 3 | L12: Område 4 | M12: Grundsats
B13: Egetbidrag | C13: =C12*$D$5 -> 1061.4056 | D13: =D12*$D$5 -> 1078.7455 | E13: =E12*$D$5 -> 1090.7507 | F13: =F12*$D$5 -> 1108.091 | G13: =G12*$D$5 -> 1120.0968 | I13: Aalborg | J13: Køge | K13: Allerød | L13: Albertslund | M13: Alle andre kommuner
B14: Nettoløn | C14: =C12-C13 -> 18236.879 | D14: =D12-D13 -> 18534.809 | E14: =E12-E13 -> 18741.081 | F14: =F12-F13 -> 19039.019 | G14: =G12-G13 -> 19245.299 | I14: Esbjerg | J14: Lejre | K14: Fredensborg | L14: Ballerup
B15: Arbejdsgiverbidrag | C15: =C12*$D$6 -> 2122.8113 | D15: =D12*$D$6 -> 2157.491 | E15: =E12*$D$6 -> 2181.5014 | F15: =F12*$D$6 -> 2216.1821 | G15: =G12*$D$6 -> 2240.1936
A16: HK | I16: Faaborg-Midtfyn | J16: Roskilde | K16: Frederikssund | L16: Brøndby
B17: Uddannede | I17: Frederikshavn | J17: Solrød | K17: Gribskov | L17: Dragør
A18: 24 | B18: Bruttoløn | C18: =(('Løntabel april 2016'!C18/37)*$K$4)+($Q$4*((37-$K$4)/37)) -> 20825.068 | D18: =(('Løntabel april 2016'!D18/37)*$K$4)+($Q$4*((37-$K$4)/37)) -> 21138.397 | E18: =(('Løntabel april 2016'!E18/37)*$K$4)+($Q$4*((37-$K$4)/37)) -> 21355.356 | F18: =(('Løntabel april 2016'!F18/37)*$K$4)+($Q$4*((37-$K$4)/37)) -> 21668.685 | G18: =(('Løntabel april 2016'!G18/37)*$K$4)+($Q$4*((37-$K$4)/37)) -> 21885.56 | I18: Kalundborg | J18: Århus | K18: Halsnæs | L18: Egedal
B19: Egetbidrag | C19: =C18*$D$5 -> 1145.3788 | D19: =D18*$D$5 -> 1162.6118 | E19: =E18*$D$5 -> 1174.5446 | F19: =F18*$D$5 -> 1191.7777 | G19: =G18*$D$5 -> 1203.7058 | I19: Kerteminde | K19: Helsingør | L19: Frederiksberg
B20: Nettoløn | C20: =C18-C19 -> 19679.689 | D20: =D18-D19 -> 19975.785 | E20: =E18-E19 -> 20180.812 | F20: =F18-F19 -> 20476.907 | G20: =G18-G19 -> 20681.854
B21: Arbejdsgiverbidrag | C21: =C18*$D$6 -> 2290.7575 | D21: =D18*$D$6 -> 2325.2236 | E21: =E18*$D$6 -> 2349.0892 | F21: =F18*$D$6 -> 2383.5553 | G21: =G18*$D$6 -> 2407.4116 | I21: Nyborg | K21: Hillerød | L21: Gentofte
A22: HK | I22: Næstved | K22: Hørsholm | L22: Gladsaxe
