Workbook
Name Kommune: #REF!
Name Løntrin: #REF!

Sheet Løntabel oktober 2017
A1: Interaktiv løntabel med fuld kittelkompensation til fuldtidsansatte
A2: Løn gældende pr. 1. oktober 2017
A4: Egetbidrag pension: | D4: 0.055
A5: Arbejdsgiverbidrag pension: | D5: 0.11
A7: Løntrin | C7: Grundsats | D7: Område 1 | E7: Område 2 | F7: Område 3 | G7: Område 4
B9: Ikke-uddannede
A10: 19 | B10: Bruttoløn | C10: 24097.963 | D10: 24492.597 | E10: 24765.821 | F10: 25160.466 | G10: 25433.703 | I10: Område 1 | J10: Område 2 | K10: Område 3 | L10: Område 4 | M10: Grundsats
B11: Egetbidrag | C11: =C10*$D$4 -> 1325.388 | D11: =D10*$D$4 -> 1347.0928 | E11: =E10*$D$4 -> 1362.1202 | F11: =F10*$D$4 -> 1383.8256 | G11: =G10*$D$4 -> 1398.8536 | I11: Aalborg | J11: Køge | K11: Allerød | L11: Albertslund | M11: Alle andre kommuner
B12: Nettoløn | C12: =C10-C11 -> 22772.575 | D12: =D10-D11 -> 23145.504 | E12: =E10-E11 -> 23403.701 | F12: =F10-F11 -> 23776.641 | G12: =G10-G11 -> 24034.849 | I12: Esbjerg | J12: Lejre | K12: Fredensborg | L12: Ballerup
B13: Arbejdsgiverbidrag | C13: =C10*$D$5 -> 2650.7759 | D13: =D10*$D$5 -> 2694.1856 | E13: =E10*$D$5 -> 2724.2404 | F13: =F10*$D$5 -> 2767.6513 | G13: =G10*$D$5 -> 2797.7073
A14: HK | I14: Faaborg-Midtfyn | J14: Roskilde | K14: Frederikssund | L14: Brøndby
B15: Uddannede | I15: Frederikshavn | J15: Solrød | K15: Gribskov | L15: Dragør
A16: 24 | B16: Bruttoløn | C16: 26009.09 | D16: 26401.293 | E16: 26672.869 | F16: 27065.073 | G16: 27336.543 | I16: Kalundborg | J16: Århus | K16: Halsnæs | L16: Egedal
B17: Egetbidrag | C17: =C16*$D$4 -> 1430.4999 | D17: =D16*$D$4 -> 1452.0711 | E17: =E16*$D$4 -> 1467.0078 | F17: =F16*$D$4 -> 1488.579 | G17: =G16*$D$4 -> 1503.5099 | I17: Kerteminde | K17: Helsingør | L17: Frederiksberg
B18: Nettoløn | C18: =C16-C17 -> 24578.59 | D18: =D16-D17 -> 24949.222 | E18: =E16-E17 -> 25205.861 | F18: =F16-F17 -> 25576.494 | G18: =G16-G17 -> 25833.033
B19: Arbejdsgiverbidrag | C19: =C16*$D$5 -> 2860.9999 | D19: =D16*$D$5 -> 2904.1423 | E19: =E16*$D$5 -> 2934.0156 | F19: =F16*$D$5 -> 2977.158 | G19: =G16*$D$5 -> 3007.0198 | I19: Nyborg | K19: Hillerød | L19: Gentofte
A20: HK | I20: Næstved | K20: Hørsholm | L20: Gladsaxe
A21: 25 | B21: Bruttoløn | C21: 26428.293 | D21: 26808.22 | E21: 27071.216 | F21: 27451.342 | G21: 27714.329 | I21: Odense | L21: Glostrup
B22: Egetbidrag | C22: =C21*$D$4 -> 1453.5561 | D22: =D21*$D$4 -> 1474.4521 | E22: =E21*$D$4 -> 1488.9169 | F22: =F21*$D$4 -> 1509.8238 | G22: =G21*$D$4 -> 1524.2881 | I22: Skanderborg | L22: Greve
B23: Nettoløn | C23: =C21-C22 -> 24974.736 | D23: =D21-D22 -> 25333.768 | E23: =E21-E22 -> 25582.3 | F23: =F21-F22 -> 25941.519 | G23: =G21-G22 -> 26190.04
B24: Arbejdsgiverbidrag | C24: =C21*$D$5 -> 2907.1122 | D24: =D21*$D$5 -> 2948.9042 | E24: =E21*$D$5 -> 2977.8338 | F24: =F21*$D$5 -> 3019.6477 | G24: =G21*$D$5 -> 3048.5761 | I24: Slagelse | L24: Herlev
A25: HK | I25: Sønderborg | L25: Høje-Tåstrup
A26: 26 | B26: Bruttoløn | C26: 26857.137 | D26: 27224.102 | E26: 27478.023 | F26: 27844.908 | G26: 28098.839 | L26: Ishøj
B27: Egetbidrag | C27: =C26*$D$4 -> 1477.1425 | D27: =D26*$D$4 -> 1497.3256 | E27: =E26*$D$4 -> 1511.2913 | F27: =F26*$D$4 -> 1531.4699 | G27: =G26*$D$4 -> 1545.4361 | L27: København
B28: Nettoløn | C28: =C26-C27 -> 25379.995 | D28: =D26-D27 -> 25726.776 | E28: =E26-E27 -> 25966.732 | F28: =F26-F27 -> 26313.438 | G28: =G26-G27 -> 26553.403 | L28: Lyngby-Tårbæk
B29: Arbejdsgiverbidrag | C29: =C26*$D$5 -> 2954.2851 | D29: =D26*$D$5 -> 2994.6512 | E29: =E26*$D$5 -> 3022.5825 | F29: =F26*$D$5 -> 3062.9399 | G29: =G26*$D$5 -> 3090.8723 | L29: Rudersdal Rødovre
A30: HK | L30: Tårnby
A31: 28 | B31: Bruttoløn | C31: 27744.151 | D31: 28081.979 | E31: 28315.84 | F31: 28653.669 | G31: 28887.441 | L31: Vallensbæk
B32: Egetbidrag | C32: =C31*$D$4 -> 1525.9283 | D32: =D31*$D$4 -> 1544.5089 | E32: =E31*$D$4 -> 1557.3712 | F32: =F31*$D$4 -> 1575.9518 | G32: =G31*$D$4 -> 1588.8093 | L32: Furesø
B33: Nettoløn | C33: =C31-C32 -> 26218.222 | D33: =D31-D32 -> 26537.47 | E33: =E31-E32 -> 26758.469 | F33: =F31-F32 -> 27077.717 | G33: =G31-G32 -> 27298.632 | L33: Hvidovre
B34: Arbejdsgiverbidrag | C34: =C31*$D$5 -> 3051.8566 | D34: =D31*$D$5 -> 3089.0177 | E34: =E31*$D$5 -> 3114.7424 | F34: =F31*$D$5 -> 3151.9036 | G34: =G31*$D$5 -> 3177.6186
A35: 29 | B35: Bruttoløn | C35: 28202.618 | D35: 28524.462 | E35: 28747.22 | F35: 29068.975 | G35: 29291.822
B36: Egetbidrag | C36: =C35*$D$4 -> 1551.144 | D36: =D35*$D$4 -> 1568.8454 | E36: =E35*$D$4 -> 1581.0971 | F36: =F35*$D$4 -> 1598.7936 | G36: =G35*$D$4 -> 1611.0502
B37: Nettoløn | C37: =C35-C36 -> 26651.474 | D37: =D35-D36 -> 26955.617 | E37: =E35-E36 -> 27166.123 | F37: =F35-F36 -> 27470.182 | G37: =G35-G36 -> 27680.772
B38: Arbejdsgiverbidrag | C38: =C35*$D$5 -> 3102.288 | D38: =D35*$D$5 -> 3137.6908 | E38: =E35*$D$5 -> 3162.1942 | F38: =F35*$D$5 -> 3197.5873 | G38: =G35*$D$5 -> 3222.1004
A39: 30 | B39: Bruttoløn | C39: 28671.021 | D39: 28975.723 | E39: 29186.78 | F39: 29491.477 | G39: 29702.446
B40: Egetbidrag | C40: =C39*$D$4 -> 1576.9062 | D40: =D39*$D$4 -> 1593.6648 | E40: =E39*$D$4 -> 1605.2729 | F40: =F39*$D$4 -> 1622.0312 | G40: =G39*$D$4 -> 1633.6345
B41: Nettoløn | C41: =C39-C40 -> 27094.115 | D41: =D39-D40 -> 27382.058 | E41: =E39-E40 -> 27581.507 | F41: =F39-F40 -> 27869.446 | G41: =G39-G40 -> 28068.811
B42: Arbejdsgiverbidrag | C42: =C39*$D$5 -> 3153.8123 | D42: =D39*$D$5 -> 3187.3295 | E42: =E39*$D$5 -> 3210.5458 | F42: =F39*$D$5 -> 3244.0625 | G42: =G39*$D$5 -> 3267.269
A43: HK
A44: 31 | B44: Bruttoløn | C44: 29150.04 | D44: 29436.715 | E44: 29635.108 | F44: 29921.783 | G44: 30120.176
B45: Egetbidrag | C45: =C44*$D$4 -> 1603.2522 | D45: =D44*$D$4 -> 1619.0193 | E45: =E44*$D$4 -> 1629.9309 | F45: =F44*$D$4 -> 1645.6981 | G45: =G44*$D$4 -> 1656.6097
B46: Nettoløn | C46: =C44-C45 -> 27546.787 | D46: =D44-D45 -> 27817.695 | E46: =E44-E45 -> 28005.177 | F46: =F44-F45 -> 28276.085 | G46: =G44-G45 -> 28463.567
B47: Arbejdsgiverbidrag | C47: =C44*$D$5 -> 3206.5044 | D47: =D44*$D$5 -> 3238.0386 | E47: =E44*$D$5 -> 3259.8619 | F47: =F44*$D$5 -> 3291.3961 | G47: =G44*$D$5 -> 3313.2194
B49: Ledende
A50: 39 | B50: Bruttoløn | C50: 33417.521 | D50: 33515.544 | E50: 33583.361 | F50: 33681.392 | G50: 33749.316
B51: Egetbidrag | C51: =C50*$D$4 -> 1837.9636 | D51: =D50*$D$4 -> 1843.3549 | E51: =E50*$D$4 -> 1847.0849 | F51: =F50*$D$4 -> 1852.4766 | G51: =G50*$D$4 -> 1856.2124
B52: Nettoløn | C52: =C50-C51 -> 31579.557 | D52: =D50-D51 -> 31672.189 | E52: =E50-E51 -> 31736.276 | F52: =F50-F51 -> 31828.915 | G52: =G50-G51 -> 31893.104
B53: Arbejdsgiverbidrag | C53: =C50*$D$5 -> 3675.9273 | D53: =D50*$D$5 -> 3686.7098 | E53: =E50*$D$5 -> 3694.1697 | F53: =F50*$D$5 -> 3704.9531 | G53: =G50*$D$5 -> 3712.4248
A54: HK

Sheet Timelønnede oktober 2017
A1: Løntabel for timelønnende (medarbejdere ansat i indtil 8 timer pr. uge eller højst 1 måned)
A2: Løn gældende pr. 1. oktober
A4: Egetbidrag pension: | D4: 0.055
A5: Arbejdsgiverbidrag pension: | D5: 0.11
A8: Løntrin | C8: Grundsats | D8: Område 1 | E8: Område 2 | F8: Område 3 | G8: Område 4
B10: Ikke-uddannede
A11: 19 | B11: Bruttoløn | C11: =+'Løntabel oktober 2017'!C10/160.33 -> 150.30227 | D11: =+'Løntabel oktober 2017'!D10/160.33 -> 152.76365 | E11: =+'Løntabel oktober 2017'!E10/160.33 -> 154.46779 | F11: =+'Løntabel oktober 2017'!F10/160.33 -> 156.92925 | G11: =+'Løntabel oktober 2017'!G10/160.33 -> 158.63346 | I11: Område 1 | J11: Område 2 | K11: Område 3 | L11: Område 4 | M11: Grundsats
B12: Egetbidrag | C12: =C11*$D$4 -> 8.2666249 | D12: =D11*$D$4 -> 8.402001 | E12: =E11*$D$4 -> 8.4957287 | F12: =F11*$D$4 -> 8.6311086 | G12: =G11*$D$4 -> 8.7248403 | I12: Aalborg | J12: Køge | K12: Allerød | L12: Albertslund | M12: Alle andre kommuner
B13: Nettoløn | C13: =C11-C12 -> 142.03565 | D13: =D11-D12 -> 144.36165 | E13: =E11-E12 -> 145.97207 | F13: =F11-F12 -> 148.29814 | G13: =G11-G12 -> 149.90862 | I13: Esbjerg | J13: Lejre | K13: Fredensborg | L13: Ballerup
B14: Arbejdsgiverbidrag | C14: =C11*$D$5 -> 16.53325 | D14: =D11*$D$5 -> 16.804002 | E14: =E11*$D$5 -> 16.991457 | F14: =F11*$D$5 -> 17.262217 | G14: =G11*$D$5 -> 17.449681
I15: Faaborg-Midtfyn | J15: Roskilde | K15: Frederikssund | L15: Brøndby
B16: Uddannede | I16: Frederikshavn | J16: Solrød | K16: Gribskov | L16: Dragør
A17: 24 | B17: Bruttoløn | C17: =+'Løntabel oktober 2017'!C16/160.33 -> 162.22223 | D17: =+'Løntabel oktober 2017'!D16/160.33 -> 164.66845 | E17: =+'Løntabel oktober 2017'!E16/160.33 -> 166.36231 | F17: =+'Løntabel oktober 2017'!F16/160.33 -> 168.80854 | G17: =+'Løntabel oktober 2017'!G16/160.33 -> 170.50174 | I17: Kalundborg | J17: Århus | K17: Halsnæs | L17: Egedal
B18: Egetbidrag | C18: =C17*$D$4 -> 8.9222225 | D18: =D17*$D$4 -> 9.056765 | E18: =E17*$D$4 -> 9.149927 | F18: =F17*$D$4 -> 9.2844695 | G18: =G17*$D$4 -> 9.3775954 | I18: Kerteminde | K18: Helsingør | L18: Frederiksberg
B19: Nettoløn | C19: =C17-C18 -> 153.3 | D19: =D17-D18 -> 155.61169 | E19: =E17-E18 -> 157.21238 | F19: =F17-F18 -> 159.52407 | G19: =G17-G18 -> 161.12414
B20: Arbejdsgiverbidrag | C20: =C17*$D$5 -> 17.844445 | D20: =D17*$D$5 -> 18.11353 | E20: =E17*$D$5 -> 18.299854 | F20: =F17*$D$5 -> 18.568939 | G20: =G17*$D$5 -> 18.755191 | I20: Nyborg | K20: Hillerød | L20: Gentofte
I21: Næstved | K21: Hørsholm | L21: Gladsaxe
A22: 25 | B22: Bruttoløn | C22: =+'Løntabel oktober 2017'!C21/160.33 -> 164.83685 | D22: =+'Løntabel oktober 2017'!D21/160.33 -> 167.20651 | E22: =+'Løntabel oktober 2017'!E21/160.33 -> 168.84686 | F22: =+'Løntabel oktober 2017'!F21/160.33 -> 171.21775 | G22: =+'Løntabel oktober 2017'!G21/160.33 -> 172.85803 | I22: Odense | L22: Glostrup
B23: Egetbidrag | C23: =C22*$D$4 -> 9.0660269 | D23: =D22*$D$4 -> 9.196358 | E23: =E22*$D$4 -> 9.2865771 | F23: =F22*$D$4 -> 9.4169764 | G23: =G22*$D$4 -> 9.5071919 | I23: Skanderborg | L23: Greve
B24: Nettoløn | C24: =C22-C23 -> 155.77083 | D24: =D22-D23 -> 158.01015 | E24: =E22-E23 -> 159.56028 | F24: =F22-F23 -> 161.80078 | G24: =G22-G23 -> 163.35084
B25: Arbejdsgiverbidrag | C25: =C22*$D$5 -> 18.132054 | D25: =D22*$D$5 -> 18.392716 | E25: =E22*$D$5 -> 18.573154 | F25: =F22*$D$5 -> 18.833953 | G25: =G22*$D$5 -> 19.014384 | I25: Slagelse | L25: Herlev
I26: Sønderborg | L26: Høje-Tåstrup
A27: 26 | B27: Bruttoløn | C27: =+'Løntabel oktober 2017'!C26/160.33 -> 167.51161 | D27: =+'Løntabel oktober 2017'!D26/160.33 -> 169.80042 | E27: =+'Løntabel oktober 2017'!E26/160.33 -> 171.38416 | F27: =+'Løntabel oktober 2017'!F26/160.33 -> 173.67248 | G27: =+'Løntabel oktober 2017'!G26/160.33 -> 175.25628 | L27: Ishøj
B28: Egetbidrag | C28: =C27*$D$4 -> 9.2131388 | D28: =D27*$D$4 -> 9.3390232 | E28: =E27*$D$4 -> 9.426129 | F28: =F27*$D$4 -> 9.5519862 | G28: =G27*$D$4 -> 9.6390952 | L28: København
B29: Nettoløn | C29: =C27-C28 -> 158.29848 | D29: =D27-D28 -> 160.4614 | E29: =E27-E28 -> 161.95804 | F29: =F27-F28 -> 164.12049 | G29: =G27-G28 -> 165.61718 | L29: Lyngby-Tårbæk
B30: Arbejdsgiverbidrag | C30: =C27*$D$5 -> 18.426278 | D30: =D27*$D$5 -> 18.678046 | E30: =E27*$D$5 -> 18.852258 | F30: =F27*$D$5 -> 19.103972 | G30: =G27*$D$5 -> 19.27819 | L30: Rudersdal Rødovre
L31: Tårnby
A32: 28 | B32: Bruttoløn | C32: =+'Løntabel oktober 2017'!C31/160.33 -> 173.04404 | D32: =+'Løntabel oktober 2017'!D31/160.33 -> 175.15112 | E32: =+'Løntabel oktober 2017'!E31/160.33 -> 176.60974 | F32: =+'Løntabel oktober 2017'!F31/160.33 -> 178.71683 | G32: =+'Løntabel oktober 2017'!G31/160.33 -> 180.1749 | L32: Vallensbæk
B33: Egetbidrag | C33: =C32*$D$4 -> 9.5174221 | D33: =D32*$D$4 -> 9.6333117 | E33: =E32*$D$4 -> 9.7135359 | F33: =F32*$D$4 -> 9.8294255 | G33: =G32*$D$4 -> 9.9096194 | L33: Furesø
B34: Nettoløn | C34: =C32-C33 -> 163.52662 | D34: =D32-D33 -> 165.51781 | E34: =E32-E33 -> 166.89621 | F34: =F32-F33 -> 168.8874 | G34: =G32-G33 -> 170.26528 | L34: Hvidovre
B35: Arbejdsgiverbidrag | C35: =C32*$D$5 -> 19.034844 | D35: =D32*$D$5 -> 19.266623 | E35: =E32*$D$5 -> 19.427072 | F35: =F32*$D$5 -> 19.658851 | G35: =G32*$D$5 -> 19.819239
A36: 29 | B36: Bruttoløn | C36: =+'Løntabel oktober 2017'!C35/160.33 -> 175.90356 | D36: =+'Løntabel oktober 2017'!D35/160.33 -> 177.91095 | E36: =+'Løntabel oktober 2017'!E35/160.33 -> 179.30032 | F36: =+'Løntabel oktober 2017'!F35/160.33 -> 181.30715 | G36: =+'Løntabel oktober 2017'!G35/160.33 -> 182.69707
B37: Egetbidrag | C37: =C36*$D$4 -> 9.6746959 | D37: =D36*$D$4 -> 9.7851021 | E37: =E36*$D$4 -> 9.8615175 | F37: =F36*$D$4 -> 9.9718932 | G37: =G36*$D$4 -> 10.048339
B38: Nettoløn | C38: =C36-C37 -> 166.22887 | D38: =D36-D37 -> 168.12584 | E38: =E36-E37 -> 169.4388 | F38: =F36-F37 -> 171.33526 | G38: =G36-G37 -> 172.64873
B39: Arbejdsgiverbidrag | C39: =C36*$D$5 -> 19.349392 | D39: =D36*$D$5 -> 19.570204 | E39: =E36*$D$5 -> 19.723035 | F39: =F36*$D$5 -> 19.943786 | G39: =G36*$D$5 -> 20.096678
A40: 30 | B40: Bruttoløn | C40: =+'Løntabel oktober 2017'!C39/160.33 -> 178.82506 | D40: =+'Løntabel oktober 2017'!D39/160.33 -> 180.72552 | E40: =+'Løntabel oktober 2017'!E39/160.33 -> 182.04192 | F40: =+'Løntabel oktober 2017'!F39/160.33 -> 183.94235 | G40: =+'Løntabel oktober 2017'!G39/160.33 -> 185.25819
B41: Egetbidrag | C41: =C40*$D$4 -> 9.8353781 | D41: =D40*$D$4 -> 9.9399038 | E41: =E40*$D$4 -> 10.012305 | F41: =F40*$D$4 -> 10.116829 | G41: =G40*$D$4 -> 10.1892
B42: Nettoløn | C42: =C40-C41 -> 168.98968 | D42: =D40-D41 -> 170.78562 | E42: =E40-E41 -> 172.02961 | F42: =F40-F41 -> 173.82552 | G42: =G40-G41 -> 175.06899
B43: Arbejdsgiverbidrag | C43: =C40*$D$5 -> 19.670756 | D43: =D40*$D$5 -> 19.879808 | E43: =E40*$D$5 -> 20.024611 | F43: =F40*$D$5 -> 20.233659 | G43: =G40*$D$5 -> 20.378401
A45: 31 | B45: Bruttoløn | C45: =+'Løntabel oktober 2017'!C44/160.33 -> 181.81276 | D45: =+'Løntabel oktober 2017'!D44/160.33 -> 183.60079 | E45: =+'Løntabel oktober 2017'!E44/160.33 -> 184.8382 | F45: =+'Løntabel oktober 2017'!F44/160.33 -> 186.62623 | G45: =+'Løntabel oktober 2017'!G44/160.33 -> 187.86363
B46: Egetbidrag | C46: =C45*$D$4 -> 9.9997017 | D46: =D45*$D$4 -> 10.098043 | E46: =E45*$D$4 -> 10.166101 | F46: =F45*$D$4 -> 10.264442 | G46: =G45*$D$4 -> 10.3325
B47: Nettoløn | C47: =C45-C46 -> 171.81306 | D47: =D45-D46 -> 173.50275 | E47: =E45-E46 -> 174.67209 | F47: =F45-F46 -> 176.36178 | G47: =G45-G46 -> 177.53113
B48: Arbejdsgiverbidrag | C48: =C45*$D$5 -> 19.999403 | D48: =D45*$D$5 -> 20.196087 | E48: =E45*$D$5 -> 20.332202 | F48: =F45*$D$5 -> 20.528885 | G48: =G45*$D$5 -> 20.665
B50: Ledende
A51: 39 | B51: Bruttoløn | C51: =+'Løntabel oktober 2017'!C50/160.33 -> 208.42962 | D51: =+'Løntabel oktober 2017'!D50/160.33 -> 209.041 | E51: =+'Løntabel oktober 2017'!E50/160.33 -> 209.46399 | F51: =+'Løntabel oktober 2017'!F50/160.33 -> 210.07542 | G51: =+'Løntabel oktober 2017'!G50/160.33 -> 210.49907
B52: Egetbidrag | C52: =C51*$D$4 -> 11.463629 | D52: =D51*$D$4 -> 11.497255 | E52: =E51*$D$4 -> 11.520519 | F52: =F51*$D$4 -> 11.554148 | G52: =G51*$D$4 -> 11.577449
B53: Nettoløn | C53: =C51-C52 -> 196.96599 | D53: =D51-D52 -> 197.54375 | E53: =E51-E52 -> 197.94347 | F53: =F51-F52 -> 198.52127 | G53: =G51-G52 -> 198.92162
B54: Arbejdsgiverbidrag | C54: =C51*$D$5 -> 22.927258 | D54: =D51*$D$5 -> 22.99451 | E54: =E51*$D$5 -> 23.041039 | F54: =F51*$D$5 -> 23.108296 | G54: =G51*$D$5 -> 23.154898

Sheet Løntabel oktober 2018
A1: Interaktiv løntabel med fuld kittelkompensation til fuldtidsansatte
A2: Løn gældende pr. 1. oktober 2018
A4: Beregning af personligt tillæg:
A5: Nuværende tillæg:
A6: Nyt tillæg: | D6: =+D5*(100%+D7) -> 0
A7: Personlige løntillæg reguleres med: | D7: =+E63 -> 0.0203
A9: Egetbidrag pension: | D9: 0.055
A10: Arbejdsgiverbidrag pension: | D10: 0.11
A12: Løntrin | C12: Grundsats | D12: Område 1 | E12: Område 2 | F12: Område 3 | G12: Område 4
B14: Ikke-uddannede
A15: 19 | B15: Bruttoløn | C15: =+'Løntabel oktober 2017'!C10*(100%+'Løntabel oktober 2018'!$E$63) -> 24587.152 | D15: =+'Løntabel oktober 2017'!D10*(100%+'Løntabel oktober 2018'!$E$63) -> 24989.796 | E15: =+'Løntabel oktober 2017'!E10*(100%+'Løntabel oktober 2018'!$E$63) -> 25268.568 | F15: =+'Løntabel oktober 2017'!F10*(100%+'Løntabel oktober 2018'!$E$63) -> 25671.224 | G15: =+'Løntabel oktober 2017'!G10*(100%+'Løntabel oktober 2018'!$E$63) -> 25950.007 | I15: Område 1 | J15: Område 2 | K15: Område 3 | L15: Område 4 | M15: Grundsats
B16: Egetbidrag | C16: =C15*$D$9 -> 1352.2933 | D16: =D15*$D$9 -> 1374.4388 | E16: =E15*$D$9 -> 1389.7712 | F16: =F15*$D$9 -> 1411.9173 | G16: =G15*$D$9 -> 1427.2504 | I16: Aalborg | J16: Køge | K16: Allerød | L16: Albertslund | M16: Alle andre kommuner
B17: Nettoløn | C17: =C15-C16 -> 23234.858 | D17: =D15-D16 -> 23615.358 | E17: =E15-E16 -> 23878.796 | F17: =F15-F16 -> 24259.306 | G17: =G15-G16 -> 24522.756 | I17: Esbjerg | J17: Lejre | K17: Fredensborg | L17: Ballerup
B18: Arbejdsgiverbidrag | C18: =C15*$D$10 -> 2704.5867 | D18: =D15*$D$10 -> 2748.8776 | E18: =E15*$D$10 -> 2779.5424 | F18: =F15*$D$10 -> 2823.8346 | G18: =G15*$D$10 -> 2854.5007
A19: HK | I19: Faaborg-Midtfyn | J19: Roskilde | K19: Frederikssund | L19: Brøndby
B20: Uddannede | I20: Frederikshavn | J20: Solrød | K20: Gribskov | L20: Dragør
A21: 24 | B21: Bruttoløn | C21: =+'Løntabel oktober 2017'!C16*(100%+'Løntabel oktober 2018'!$E$63) -> 26537.074 | D21: =+'Løntabel oktober 2017'!D16*(100%+'Løntabel oktober 2018'!$E$63) -> 26937.239 | E21: =+'Løntabel oktober 2017'!E16*(100%+'Løntabel oktober 2018'!$E$63) -> 27214.328 | F21: =+'Løntabel oktober 2017'!F16*(100%+'Løntabel oktober 2018'!$E$63) -> 27614.494 | G21: =+'Løntabel oktober 2017'!G16*(100%+'Løntabel oktober 2018'!$E$63) -> 27891.475 | I21: Kalundborg | J21: Århus | K21: Halsnæs | L21: Egedal
B22: Egetbidrag | C22: =C21*$D$9 -> 1459.5391 | D22: =D21*$D$9 -> 1481.5482 | E22: =E21*$D$9 -> 1496.7881 | F22: =F21*$D$9 -> 1518.7972 | G22: =G21*$D$9 -> 1534.0311 | I22: Kerteminde | K22: Helsingør | L22: Frederiksberg
B23: Nettoløn | C23: =C21-C22 -> 25077.535 | D23: =D21-D22 -> 25455.691 | E23: =E21-E22 -> 25717.54 | F23: =F21-F22 -> 26095.697 | G23: =G21-G22 -> 26357.444
B24: Arbejdsgiverbidrag | C24: =C21*$D$10 -> 2919.0782 | D24: =D21*$D$10 -> 2963.0963 | E24: =E21*$D$10 -> 2993.5761 | F24: =F21*$D$10 -> 3037.5943 | G24: =G21*$D$10 -> 3068.0623 | I24: Nyborg | K24: Hillerød | L24: Gentofte
A25: HK | I25: Næstved | K25: Hørsholm | L25: Gladsaxe
A26: 25 | B26: Bruttoløn | C26: =+'Løntabel oktober 2017'!C21*(100%+'Løntabel oktober 2018'!$E$63) -> 26964.787 | D26: =+'Løntabel oktober 2017'!D21*(100%+'Løntabel oktober 2018'!$E$63) -> 27352.427 | E26: =+'Løntabel oktober 2017'!E21*(100%+'Løntabel oktober 2018'!$E$63) -> 27620.762 | F26: =+'Løntabel oktober 2017'!F21*(100%+'Løntabel oktober 2018'!$E$63) -> 28008.605 | G26: =+'Løntabel oktober 2017'!G21*(100%+'Løntabel oktober 2018'!$E$63) -> 28276.929 | I26: Odense | L26: Glostrup
B27: Egetbidrag | C27: =C26*$D$9 -> 1483.0633 | D27: =D26*$D$9 -> 1504.3835 | E27: =E26*$D$9 -> 1519.1419 | F27: =F26*$D$9 -> 1540.4733 | G27: =G26*$D$9 -> 1555.2311 | I27: Skanderborg | L27: Greve
B28: Nettoløn | C28: =C26-C27 -> 25481.724 | D28: =D26-D27 -> 25848.043 | E28: =E26-E27 -> 26101.62 | F28: =F26-F27 -> 26468.131 | G28: =G26-G27 -> 26721.698
B29: Arbejdsgiverbidrag | C29: =C26*$D$10 -> 2966.1266 | D29: =D26*$D$10 -> 3008.7669 | E29: =E26*$D$10 -> 3038.2838 | F29: =F26*$D$10 -> 3080.9465 | G29: =G26*$D$10 -> 3110.4622 | I29: Slagelse | L29: Herlev
A30: HK | I30: Sønderborg | L30: Høje-Tåstrup
A31: 26 | B31: Bruttoløn | C31: =+'Løntabel oktober 2017'!C26*(100%+'Løntabel oktober 2018'!$E$63) -> 27402.337 | D31: =+'Løntabel oktober 2017'!D26*(100%+'Løntabel oktober 2018'!$E$63) -> 27776.751 | E31: =+'Løntabel oktober 2017'!E26*(100%+'Løntabel oktober 2018'!$E$63) -> 28035.827 | F31: =+'Løntabel oktober 2017'!F26*(100%+'Løntabel oktober 2018'!$E$63) -> 28410.16 | G31: =+'Løntabel oktober 2017'!G26*(100%+'Løntabel oktober 2018'!$E$63) -> 28669.245 | L31: Ishøj
B32: Egetbidrag | C32: =C31*$D$9 -> 1507.1285 | D32: =D31*$D$9 -> 1527.7213 | E32: =E31*$D$9 -> 1541.9705 | F32: =F31*$D$9 -> 1562.5588 | G32: =G31*$D$9 -> 1576.8085 | L32: København
B33: Nettoløn | C33: =C31-C32 -> 25895.209 | D33: =D31-D32 -> 26249.03 | E33: =E31-E32 -> 26493.856 | F33: =F31-F32 -> 26847.601 | G33: =G31-G32 -> 27092.437 | L33: Lyngby-Tårbæk
B34: Arbejdsgiverbidrag | C34: =C31*$D$10 -> 3014.2571 | D34: =D31*$D$10 -> 3055.4426 | E34: =E31*$D$10 -> 3083.941 | F34: =F31*$D$10 -> 3125.1176 | G34: =G31*$D$10 -> 3153.617 | L34: Rudersdal Rødovre
A35: HK | L35: Tårnby
A36: 28 | B36: Bruttoløn | C36: =+'Løntabel oktober 2017'!C31*(100%+'Løntabel oktober 2018'!$E$63) -> 28307.357 | D36: =+'Løntabel oktober 2017'!D31*(100%+'Løntabel oktober 2018'!$E$63) -> 28652.044 | E36: =+'Løntabel oktober 2017'!E31*(100%+'Løntabel oktober 2018'!$E$63) -> 28890.652 | F36: =+'Løntabel oktober 2017'!F31*(100%+'Løntabel oktober 2018'!$E$63) -> 29235.338 | G36: =+'Løntabel oktober 2017'!G31*(100%+'Løntabel oktober 2018'!$E$63) -> 29473.856 | L36: Vallensbæk
B37: Egetbidrag | C37: =C36*$D$9 -> 1556.9046 | D37: =D36*$D$9 -> 1575.8624 | E37: =E36*$D$9 -> 1588.9859 | F37: =F36*$D$9 -> 1607.9436 | G37: =G36*$D$9 -> 1621.0621 | L37: Furesø
B38: Nettoløn | C38: =C36-C37 -> 26750.452 | D38: =D36-D37 -> 27076.181 | E38: =E36-E37 -> 27301.666 | F38: =F36-F37 -> 27627.395 | G38: =G36-G37 -> 27852.794 | L38: Hvidovre
B39: Arbejdsgiverbidrag | C39: =C36*$D$10 -> 3113.8093 | D39: =D36*$D$10 -> 3151.7248 | E39: =E36*$D$10 -> 3177.9717 | F39: =F36*$D$10 -> 3215.8872 | G39: =G36*$D$10 -> 3242.1242
A40: 29 | B40: Bruttoløn | C40: =+'Løntabel oktober 2017'!C35*(100%+'Løntabel oktober 2018'!$E$63) -> 28775.131 | D40: =+'Løntabel oktober 2017'!D35*(100%+'Løntabel oktober 2018'!$E$63) -> 29103.509 | E40: =+'Løntabel oktober 2017'!E35*(100%+'Løntabel oktober 2018'!$E$63) -> 29330.789 | F40: =+'Løntabel oktober 2017'!F35*(100%+'Løntabel oktober 2018'!$E$63) -> 29659.076 | G40: =+'Løntabel oktober 2017'!G35*(100%+'Løntabel oktober 2018'!$E$63) -> 29886.446
B41: Egetbidrag | C41: =C40*$D$9 -> 1582.6322 | D41: =D40*$D$9 -> 1600.693 | E41: =E40*$D$9 -> 1613.1934 | F41: =F40*$D$9 -> 1631.2492 | G41: =G40*$D$9 -> 1643.7545
B42: Nettoløn | C42: =C40-C41 -> 27192.499 | D42: =D40-D41 -> 27502.816 | E42: =E40-E41 -> 27717.595 | F42: =F40-F41 -> 28027.826 | G42: =G40-G41 -> 28242.691
B43: Arbejdsgiverbidrag | C43: =C40*$D$10 -> 3165.2644 | D43: =D40*$D$10 -> 3201.386 | E43: =E40*$D$10 -> 3226.3867 | F43: =F40*$D$10 -> 3262.4983 | G43: =G40*$D$10 -> 3287.509
A44: 30 | B44: Bruttoløn | C44: =+'Løntabel oktober 2017'!C39*(100%+'Løntabel oktober 2018'!$E$63) -> 29253.043 | D44: =+'Løntabel oktober 2017'!D39*(100%+'Løntabel oktober 2018'!$E$63) -> 29563.93 | E44: =+'Løntabel oktober 2017'!E39*(100%+'Løntabel oktober 2018'!$E$63) -> 29779.272 | F44: =+'Løntabel oktober 2017'!F39*(100%+'Løntabel oktober 2018'!$E$63) -> 30090.154 | G44: =+'Løntabel oktober 2017'!G39*(100%+'Løntabel oktober 2018'!$E$63) -> 30305.405
B45: Egetbidrag | C45: =C44*$D$9 -> 1608.9174 | D45: =D44*$D$9 -> 1626.0162 | E45: =E44*$D$9 -> 1637.86 | F45: =F44*$D$9 -> 1654.9585 | G45: =G44*$D$9 -> 1666.7973
B46: Nettoløn | C46: =C44-C45 -> 27644.126 | D46: =D44-D45 -> 27937.914 | E46: =E44-E45 -> 28141.412 | F46: =F44-F45 -> 28435.196 | G46: =G44-G45 -> 28638.608
B47: Arbejdsgiverbidrag | C47: =C44*$D$10 -> 3217.8347 | D47: =D44*$D$10 -> 3252.0323 | E47: =E44*$D$10 -> 3275.7199 | F47: =F44*$D$10 -> 3309.9169 | G47: =G44*$D$10 -> 3333.5946
A48: HK
A49: 31 | B49: Bruttoløn | C49: =+'Løntabel oktober 2017'!C44*(100%+'Løntabel oktober 2018'!$E$63) -> 29741.785 | D49: =+'Løntabel oktober 2017'!D44*(100%+'Løntabel oktober 2018'!$E$63) -> 30034.28 | E49: =+'Løntabel oktober 2017'!E44*(100%+'Løntabel oktober 2018'!$E$63) -> 30236.701 | F49: =+'Løntabel oktober 2017'!F44*(100%+'Løntabel oktober 2018'!$E$63) -> 30529.195 | G49: =+'Løntabel oktober 2017'!G44*(100%+'Løntabel oktober 2018'!$E$63) -> 30731.616
B50: Egetbidrag | C50: =C49*$D$9 -> 1635.7982 | D50: =D49*$D$9 -> 1651.8854 | E50: =E49*$D$9 -> 1663.0185 | F50: =F49*$D$9 -> 1679.1057 | G50: =G49*$D$9 -> 1690.2389
B51: Nettoløn | C51: =C49-C50 -> 28105.987 | D51: =D49-D50 -> 28382.395 | E51: =E49-E50 -> 28573.682 | F51: =F49-F50 -> 28850.089 | G51: =G49-G50 -> 29041.377
B52: Arbejdsgiverbidrag | C52: =C49*$D$10 -> 3271.5964 | D52: =D49*$D$10 -> 3303.7708 | E52: =E49*$D$10 -> 3326.0371 | F52: =F49*$D$10 -> 3358.2115 | G52: =G49*$D$10 -> 3380.4777
B54: Ledende
A55: 39 | B55: Bruttoløn | C55: =+'Løntabel oktober 2017'!C50*(100%+'Løntabel oktober 2018'!$E$63) -> 34095.896 | D55: =+'Løntabel oktober 2017'!D50*(100%+'Løntabel oktober 2018'!$E$63) -> 34195.909 | E55: =+'Løntabel oktober 2017'!E50*(100%+'Løntabel oktober 2018'!$E$63) -> 34265.103 | F55: =+'Løntabel oktober 2017'!F50*(100%+'Løntabel oktober 2018'!$E$63) -> 34365.124 | G55: =+'Løntabel oktober 2017'!G50*(100%+'Løntabel oktober 2018'!$E$63) -> 34434.427
B56: Egetbidrag | C56: =C55*$D$9 -> 1875.2743 | D56: =D55*$D$9 -> 1880.775 | E56: =E55*$D$9 -> 1884.5807 | F56: =F55*$D$9 -> 1890.0818 | G56: =G55*$D$9 -> 1893.8935
B57: Nettoløn | C57: =C55-C56 -> 32220.622 | D57: =D55-D56 -> 32315.134 | E57: =E55-E56 -> 32380.523 | F57: =F55-F56 -> 32475.042 | G57: =G55-G56 -> 32540.534
B58: Arbejdsgiverbidrag | C58: =C55*$D$10 -> 3750.5486 | D58: =D55*$D$10 -> 3761.55 | E58: =E55*$D$10 -> 3769.1614 | F58: =F55*$D$10 -> 3780.1637 | G58: =G55*$D$10 -> 3787.787
A59: HK
A61: Aftalte reguleringer OK18 (1. oktober 2018): | D61: 2.3
A62: Lønregulering (faktisk): | D62: -0.27
A63: I alt | D63: =+D61+D62 -> 2.03 | E63: =+D63/100 -> 0.0203

Sheet Timelønnede oktober 2018
A1: Løntabel for timelønnende (medarbejdere ansat i indtil 8 timer pr. uge eller højst 1 måned)
A2: Løn gældende pr. 1. oktober 2018
A4: Beregning af personligt tillæg:
A5: Nuværende tillæg:
A6: Nyt tillæg: | D6: =+D5*(100%+D7) -> 0
A7: Personlige løntillæg reguleres med: | D7: =+'Løntabel oktober 2018'!D7 -> 0.0203
A9: Egetbidrag pension: | D9: 0.055
A10: Arbejdsgiverbidrag pension: | D10: 0.11
A13: Løntrin | C13: Grundsats | D13: Område 1 | E13: Område 2 | F13: Område 3 | G13: Område 4
B15: Ikke-uddannede
A16: 19 | B16: Bruttoløn | C16: =+'Løntabel oktober 2018'!C15/160.33 -> 153.35341 | D16: =+'Løntabel oktober 2018'!D15/160.33 -> 155.86476 | E16: =+'Løntabel oktober 2018'!E15/160.33 -> 157.60349 | F16: =+'Løntabel oktober 2018'!F15/160.33 -> 160.11491 | G16: =+'Løntabel oktober 2018'!G15/160.33 -> 161.85372 | I16: Område 1 | J16: Område 2 | K16: Område 3 | L16: Område 4 | M16: Grundsats
B17: Egetbidrag | C17: =C16*$D$9 -> 8.4344374 | D17: =D16*$D$9 -> 8.5725616 | E17: =E16*$D$9 -> 8.668192 | F17: =F16*$D$9 -> 8.8063201 | G17: =G16*$D$9 -> 8.9019545 | I17: Aalborg | J17: Køge | K17: Allerød | L17: Albertslund | M17: Alle andre kommuner
B18: Nettoløn | C18: =C16-C17 -> 144.91897 | D18: =D16-D17 -> 147.29219 | E18: =E16-E17 -> 148.9353 | F18: =F16-F17 -> 151.30859 | G18: =G16-G17 -> 152.95176 | I18: Esbjerg | J18: Lejre | K18: Fredensborg | L18: Ballerup
B19: Arbejdsgiverbidrag | C19: =C16*$D$10 -> 16.868875 | D19: =D16*$D$10 -> 17.145123 | E19: =E16*$D$10 -> 17.336384 | F19: =F16*$D$10 -> 17.61264 | G19: =G16*$D$10 -> 17.803909
I20: Faaborg-Midtfyn | J20: Roskilde | K20: Frederikssund | L20: Brøndby
B21: Uddannede | I21: Frederikshavn | J21: Solrød | K21: Gribskov | L21: Dragør
A22: 24 | B22: Bruttoløn | C22: =+'Løntabel oktober 2018'!C21/160.33 -> 165.51534 | D22: =+'Løntabel oktober 2018'!D21/160.33 -> 168.01122 | E22: =+'Løntabel oktober 2018'!E21/160.33 -> 169.73946 | F22: =+'Løntabel oktober 2018'!F21/160.33 -> 172.23535 | G22: =+'Løntabel oktober 2018'!G21/160.33 -> 173.96292 | I22: Kalundborg | J22: Århus | K22: Halsnæs | L22: Egedal
B23: Egetbidrag | C23: =C22*$D$9 -> 9.1033436 | D23: =D22*$D$9 -> 9.2406173 | E23: =E22*$D$9 -> 9.3356705 | F23: =F22*$D$9 -> 9.4729442 | G23: =G22*$D$9 -> 9.5679606 | I23: Kerteminde | K23: Helsingør | L23: Frederiksberg
B24: Nettoløn | C24: =C22-C23 -> 156.41199 | D24: =D22-D23 -> 158.77061 | E24: =E22-E23 -> 160.40379 | F24: =F22-F23 -> 162.76241 | G24: =G22-G23 -> 164.39496
B25: Arbejdsgiverbidrag | C25: =C22*$D$10 -> 18.206687 | D25: =D22*$D$10 -> 18.481235 | E25: =E22*$D$10 -> 18.671341 | F25: =F22*$D$10 -> 18.945888 | G25: =G22*$D$10 -> 19.135921 | I25: Nyborg | K25: Hillerød | L25: Gentofte
I26: Næstved | K26: Hørsholm | L26: Gladsaxe
A27: 25 | B27: Bruttoløn | C27: =+'Løntabel oktober 2018'!C26/160.33 -> 168.18304 | D27: =+'Løntabel oktober 2018'!D26/160.33 -> 170.6008 | E27: =+'Løntabel oktober 2018'!E26/160.33 -> 172.27445 | F27: =+'Løntabel oktober 2018'!F26/160.33 -> 174.69347 | G27: =+'Løntabel oktober 2018'!G26/160.33 -> 176.36705 | I27: Odense | L27: Glostrup
B28: Egetbidrag | C28: =C27*$D$9 -> 9.2500672 | D28: =D27*$D$9 -> 9.3830441 | E28: =E27*$D$9 -> 9.4750946 | F28: =F27*$D$9 -> 9.608141 | G28: =G27*$D$9 -> 9.7001878 | I28: Skanderborg | L28: Greve
B29: Nettoløn | C29: =C27-C28 -> 158.93297 | D29: =D27-D28 -> 161.21776 | E29: =E27-E28 -> 162.79935 | F29: =F27-F28 -> 165.08533 | G29: =G27-G28 -> 166.66686
B30: Arbejdsgiverbidrag | C30: =C27*$D$10 -> 18.500134 | D30: =D27*$D$10 -> 18.766088 | E30: =E27*$D$10 -> 18.950189 | F30: =F27*$D$10 -> 19.216282 | G30: =G27*$D$10 -> 19.400376 | I30: Slagelse | L30: Herlev
I31: Sønderborg | L31: Høje-Tåstrup
A32: 26 | B32: Bruttoløn | C32: =+'Løntabel oktober 2018'!C31/160.33 -> 170.9121 | D32: =+'Løntabel oktober 2018'!D31/160.33 -> 173.24737 | E32: =+'Løntabel oktober 2018'!E31/160.33 -> 174.86326 | F32: =+'Løntabel oktober 2018'!F31/160.33 -> 177.19803 | G32: =+'Løntabel oktober 2018'!G31/160.33 -> 178.81398 | L32: Ishøj
B33: Egetbidrag | C33: =C32*$D$9 -> 9.4001655 | D33: =D32*$D$9 -> 9.5286054 | E33: =E32*$D$9 -> 9.6174795 | F33: =F32*$D$9 -> 9.7458915 | G33: =G32*$D$9 -> 9.8347688 | L33: København
B34: Nettoløn | C34: =C32-C33 -> 161.51194 | D34: =D32-D33 -> 163.71877 | E34: =E32-E33 -> 165.24578 | F34: =F32-F33 -> 167.45214 | G34: =G32-G33 -> 168.97921 | L34: Lyngby-Tårbæk
B35: Arbejdsgiverbidrag | C35: =C32*$D$10 -> 18.800331 | D35: =D32*$D$10 -> 19.057211 | E35: =E32*$D$10 -> 19.234959 | F35: =F32*$D$10 -> 19.491783 | G35: =G32*$D$10 -> 19.669538 | L35: Rudersdal Rødovre
L36: Tårnby
A37: 28 | B37: Bruttoløn | C37: =+'Løntabel oktober 2018'!C36/160.33 -> 176.55683 | D37: =+'Løntabel oktober 2018'!D36/160.33 -> 178.70669 | E37: =+'Løntabel oktober 2018'!E36/160.33 -> 180.19492 | F37: =+'Løntabel oktober 2018'!F36/160.33 -> 182.34478 | G37: =+'Løntabel oktober 2018'!G36/160.33 -> 183.83245 | L37: Vallensbæk
B38: Egetbidrag | C38: =C37*$D$9 -> 9.7106258 | D38: =D37*$D$9 -> 9.8288679 | E38: =E37*$D$9 -> 9.9107207 | F38: =F37*$D$9 -> 10.028963 | G38: =G37*$D$9 -> 10.110785 | L38: Furesø
B39: Nettoløn | C39: =C37-C38 -> 166.84621 | D39: =D37-D38 -> 168.87782 | E39: =E37-E38 -> 170.2842 | F39: =F37-F38 -> 172.31582 | G39: =G37-G38 -> 173.72166 | L39: Hvidovre
B40: Arbejdsgiverbidrag | C40: =C37*$D$10 -> 19.421252 | D40: =D37*$D$10 -> 19.657736 | E40: =E37*$D$10 -> 19.821441 | F40: =F37*$D$10 -> 20.057926 | G40: =G37*$D$10 -> 20.221569
A41: 29 | B41: Bruttoløn | C41: =+'Løntabel oktober 2018'!C40/160.33 -> 179.4744 | D41: =+'Løntabel oktober 2018'!D40/160.33 -> 181.52254 | E41: =+'Løntabel oktober 2018'!E40/160.33 -> 182.94011 | F41: =+'Løntabel oktober 2018'!F40/160.33 -> 184.98768 | G41: =+'Løntabel oktober 2018'!G40/160.33 -> 186.40582
B42: Egetbidrag | C42: =C41*$D$9 -> 9.8710923 | D42: =D41*$D$9 -> 9.9837396 | E42: =E41*$D$9 -> 10.061706 | F42: =F41*$D$9 -> 10.174323 | G42: =G41*$D$9 -> 10.25232
B43: Nettoløn | C43: =C41-C42 -> 169.60331 | D43: =D41-D42 -> 171.5388 | E43: =E41-E42 -> 172.87841 | F43: =F41-F42 -> 174.81336 | G43: =G41-G42 -> 176.1535
B44: Arbejdsgiverbidrag | C44: =C41*$D$10 -> 19.742185 | D44: =D41*$D$10 -> 19.967479 | E44: =E41*$D$10 -> 20.123413 | F44: =F41*$D$10 -> 20.348645 | G44: =G41*$D$10 -> 20.504641
A45: 30 | B45: Bruttoløn | C45: =+'Løntabel oktober 2018'!C44/160.33 -> 182.45521 | D45: =+'Løntabel oktober 2018'!D44/160.33 -> 184.39425 | E45: =+'Løntabel oktober 2018'!E44/160.33 -> 185.73737 | F45: =+'Løntabel oktober 2018'!F44/160.33 -> 187.67638 | G45: =+'Løntabel oktober 2018'!G44/160.33 -> 189.01893
B46: Egetbidrag | C46: =C45*$D$9 -> 10.035036 | D46: =D45*$D$9 -> 10.141684 | E46: =E45*$D$9 -> 10.215555 | F46: =F45*$D$9 -> 10.322201 | G46: =G45*$D$9 -> 10.396041
B47: Nettoløn | C47: =C45-C46 -> 172.42017 | D47: =D45-D46 -> 174.25257 | E47: =E45-E46 -> 175.52181 | F47: =F45-F46 -> 177.35418 | G47: =G45-G46 -> 178.62289
B48: Arbejdsgiverbidrag | C48: =C45*$D$10 -> 20.070073 | D48: =D45*$D$10 -> 20.283368 | E48: =E45*$D$10 -> 20.43111 | F48: =F45*$D$10 -> 20.644402 | G48: =G45*$D$10 -> 20.792082
A50: 31 | B50: Bruttoløn | C50: =+'Løntabel oktober 2018'!C49/160.33 -> 185.50356 | D50: =+'Løntabel oktober 2018'!D49/160.33 -> 187.32789 | E50: =+'Løntabel oktober 2018'!E49/160.33 -> 188.59041 | F50: =+'Løntabel oktober 2018'!F49/160.33 -> 190.41474 | G50: =+'Løntabel oktober 2018'!G49/160.33 -> 191.67726
B51: Egetbidrag | C51: =C50*$D$9 -> 10.202696 | D51: =D50*$D$9 -> 10.303034 | E51: =E50*$D$9 -> 10.372473 | F51: =F50*$D$9 -> 10.472811 | G51: =G50*$D$9 -> 10.54225
B52: Nettoløn | C52: =C50-C51 -> 175.30086 | D52: =D50-D51 -> 177.02485 | E52: =E50-E51 -> 178.21794 | F52: =F50-F51 -> 179.94193 | G52: =G50-G51 -> 181.13502
B53: Arbejdsgiverbidrag | C53: =C50*$D$10 -> 20.405391 | D53: =D50*$D$10 -> 20.606067 | E53: =E50*$D$10 -> 20.744945 | F53: =F50*$D$10 -> 20.945621 | G53: =G50*$D$10 -> 21.084499
B55: Ledende
A56: 39 | B56: Bruttoløn | C56: =+'Løntabel oktober 2018'!C55/160.33 -> 212.66074 | D56: =+'Løntabel oktober 2018'!D55/160.33 -> 213.28453 | E56: =+'Løntabel oktober 2018'!E55/160.33 -> 213.71611 | F56: =+'Løntabel oktober 2018'!F55/160.33 -> 214.33995 | G56: =+'Løntabel oktober 2018'!G55/160.33 -> 214.7722
B57: Egetbidrag | C57: =C56*$D$9 -> 11.696341 | D57: =D56*$D$9 -> 11.730649 | E57: =E56*$D$9 -> 11.754386 | F57: =F56*$D$9 -> 11.788697 | G57: =G56*$D$9 -> 11.812471
B58: Nettoløn | C58: =C56-C57 -> 200.9644 | D58: =D56-D57 -> 201.55389 | E58: =E56-E57 -> 201.96172 | F58: =F56-F57 -> 202.55125 | G58: =G56-G57 -> 202.95973
B59: Arbejdsgiverbidrag | C59: =C56*$D$10 -> 23.392681 | D59: =D56*$D$10 -> 23.461299 | E59: =E56*$D$10 -> 23.508772 | F59: =F56*$D$10 -> 23.577394 | G59: =G56*$D$10 -> 23.624942

Sheet Løntabel oktober 2019
A1: Interaktiv løntabel med fuld kittelkompensation til fuldtidsansatte
A2: Løn gældende pr. 1. oktober 2019
A4: Beregning af personligt tillæg:
A5: Nuværende tillæg:
A6: Nyt tillæg: | D6: =+D5*(100%+D7) -> 0
A7: Personlige løntillæg reguleres med: | D7: =+C15/'Løntabel oktober 2018'!C15-1 -> 0.032343428
A9: Egetbidrag pension: | D9: 0.055
A10: Arbejdsgiverbidrag pension: | D10: 0.11
A12: Løntrin | C12: Grundsats | D12: Område 1 | E12: Område 2 | F12: Område 3 | G12: Område 4
B14: Ikke-uddannede
A15: 19 | B15: Bruttoløn | C15: =+'Løntabel oktober 2017'!C10*(100%+'Løntabel oktober 2018'!$E$63+$E$63) -> 25382.385 | D15: =+'Løntabel oktober 2017'!D10*(100%+'Løntabel oktober 2018'!$E$63+$E$63) -> 25798.052 | E15: =+'Løntabel oktober 2017'!E10*(100%+'Løntabel oktober 2018'!$E$63+$E$63) -> 26085.84 | F15: =+'Løntabel oktober 2017'!F10*(100%+'Løntabel oktober 2018'!$E$63+$E$63) -> 26501.519 | G15: =+'Løntabel oktober 2017'!G10*(100%+'Løntabel oktober 2018'!$E$63+$E$63) -> 26789.319 | I15: Område 1 | J15: Område 2 | K15: Område 3 | L15: Område 4 | M15: Grundsats
B16: Egetbidrag | C16: =C15*$D$9 -> 1396.0311 | D16: =D15*$D$9 -> 1418.8929 | E16: =E15*$D$9 -> 1434.7212 | F16: =F15*$D$9 -> 1457.5836 | G16: =G15*$D$9 -> 1473.4125 | I16: Aalborg | J16: Køge | K16: Allerød | L16: Albertslund | M16: Alle andre kommuner
B17: Nettoløn | C17: =C15-C16 -> 23986.353 | D17: =D15-D16 -> 24379.159 | E17: =E15-E16 -> 24651.119 | F17: =F15-F16 -> 25043.936 | G17: =G15-G16 -> 25315.906 | I17: Esbjerg | J17: Lejre | K17: Fredensborg | L17: Ballerup
B18: Arbejdsgiverbidrag | C18: =C15*$D$10 -> 2792.0623 | D18: =D15*$D$10 -> 2837.7857 | E18: =E15*$D$10 -> 2869.4424 | F18: =F15*$D$10 -> 2915.1671 | G18: =G15*$D$10 -> 2946.8251
A19: HK | I19: Faaborg-Midtfyn | J19: Roskilde | K19: Frederikssund | L19: Brøndby
B20: Uddannede | I20: Frederikshavn | J20: Solrød | K20: Gribskov | L20: Dragør
A21: 24 | B21: Bruttoløn | C21: =+'Løntabel oktober 2017'!C16*(100%+'Løntabel oktober 2018'!$E$63+$E$63) -> 27395.374 | D21: =+'Løntabel oktober 2017'!D16*(100%+'Løntabel oktober 2018'!$E$63+$E$63) -> 27808.482 | E21: =+'Løntabel oktober 2017'!E16*(100%+'Løntabel oktober 2018'!$E$63+$E$63) -> 28094.533 | F21: =+'Løntabel oktober 2017'!F16*(100%+'Løntabel oktober 2018'!$E$63+$E$63) -> 28507.641 | G21: =+'Løntabel oktober 2017'!G16*(100%+'Løntabel oktober 2018'!$E$63+$E$63) -> 28793.581 | I21: Kalundborg | J21: Århus | K21: Halsnæs | L21: Egedal
B22: Egetbidrag | C22: =C21*$D$9 -> 1506.7456 | D22: =D21*$D$9 -> 1529.4665 | E22: =E21*$D$9 -> 1545.1993 | F22: =F21*$D$9 -> 1567.9203 | G22: =G21*$D$9 -> 1583.647 | I22: Kerteminde | K22: Helsingør | L22: Frederiksberg
B23: Nettoløn | C23: =C21-C22 -> 25888.628 | D23: =D21-D22 -> 26279.016 | E23: =E21-E22 -> 26549.334 | F23: =F21-F22 -> 26939.721 | G23: =G21-G22 -> 27209.934
B24: Arbejdsgiverbidrag | C24: =C21*$D$10 -> 3013.4911 | D24: =D21*$D$10 -> 3058.933 | E24: =E21*$D$10 -> 3090.3986 | F24: =F21*$D$10 -> 3135.8405 | G24: =G21*$D$10 -> 3167.2939 | I24: Nyborg | K24: Hillerød | L24: Gentofte
A25: HK | I25: Næstved | K25: Hørsholm | L25: Gladsaxe
A26: 25 | B26: Bruttoløn | C26: =+'Løntabel oktober 2017'!C21*(100%+'Løntabel oktober 2018'!$E$63+$E$63) -> 27836.92 | D26: =+'Løntabel oktober 2017'!D21*(100%+'Løntabel oktober 2018'!$E$63+$E$63) -> 28237.098 | E26: =+'Løntabel oktober 2017'!E21*(100%+'Løntabel oktober 2018'!$E$63+$E$63) -> 28514.112 | F26: =+'Løntabel oktober 2017'!F21*(100%+'Løntabel oktober 2018'!$E$63+$E$63) -> 28914.499 | G26: =+'Løntabel oktober 2017'!G21*(100%+'Løntabel oktober 2018'!$E$63+$E$63) -> 29191.502 | I26: Odense | L26: Glostrup
B27: Egetbidrag | C27: =C26*$D$9 -> 1531.0306 | D27: =D26*$D$9 -> 1553.0404 | E27: =E26*$D$9 -> 1568.2762 | F27: =F26*$D$9 -> 1590.2974 | G27: =G26*$D$9 -> 1605.5326 | I27: Skanderborg | L27: Greve
B28: Nettoløn | C28: =C26-C27 -> 26305.89 | D28: =D26-D27 -> 26684.057 | E28: =E26-E27 -> 26945.836 | F28: =F26-F27 -> 27324.201 | G28: =G26-G27 -> 27585.97
B29: Arbejdsgiverbidrag | C29: =C26*$D$10 -> 3062.0613 | D29: =D26*$D$10 -> 3106.0808 | E29: =E26*$D$10 -> 3136.5523 | F29: =F26*$D$10 -> 3180.5949 | G29: =G26*$D$10 -> 3211.0652 | I29: Slagelse | L29: Herlev
A30: HK | I30: Sønderborg | L30: Høje-Tåstrup
A31: 26 | B31: Bruttoløn | C31: =+'Løntabel oktober 2017'!C26*(100%+'Løntabel oktober 2018'!$E$63+$E$63) -> 28288.623 | D31: =+'Løntabel oktober 2017'!D26*(100%+'Løntabel oktober 2018'!$E$63+$E$63) -> 28675.146 | E31: =+'Løntabel oktober 2017'!E26*(100%+'Løntabel oktober 2018'!$E$63+$E$63) -> 28942.602 | F31: =+'Løntabel oktober 2017'!F26*(100%+'Løntabel oktober 2018'!$E$63+$E$63) -> 29329.042 | G31: =+'Løntabel oktober 2017'!G26*(100%+'Løntabel oktober 2018'!$E$63+$E$63) -> 29596.507 | L31: Ishøj
B32: Egetbidrag | C32: =C31*$D$9 -> 1555.8742 | D32: =D31*$D$9 -> 1577.133 | E32: =E31*$D$9 -> 1591.8431 | F32: =F31*$D$9 -> 1613.0973 | G32: =G31*$D$9 -> 1627.8079 | L32: København
B33: Nettoløn | C33: =C31-C32 -> 26732.748 | D33: =D31-D32 -> 27098.013 | E33: =E31-E32 -> 27350.759 | F33: =F31-F32 -> 27715.944 | G33: =G31-G32 -> 27968.699 | L33: Lyngby-Tårbæk
B34: Arbejdsgiverbidrag | C34: =C31*$D$10 -> 3111.7485 | D34: =D31*$D$10 -> 3154.2661 | E34: =E31*$D$10 -> 3183.6862 | F34: =F31*$D$10 -> 3226.1946 | G34: =G31*$D$10 -> 3255.6157 | L34: Rudersdal Rødovre
A35: HK | L35: Tårnby
A36: 28 | B36: Bruttoløn | C36: =+'Løntabel oktober 2017'!C31*(100%+'Løntabel oktober 2018'!$E$63+$E$63) -> 29222.914 | D36: =+'Løntabel oktober 2017'!D31*(100%+'Løntabel oktober 2018'!$E$63+$E$63) -> 29578.749 | E36: =+'Løntabel oktober 2017'!E31*(100%+'Løntabel oktober 2018'!$E$63+$E$63) -> 29825.075 | F36: =+'Løntabel oktober 2017'!F31*(100%+'Løntabel oktober 2018'!$E$63+$E$63) -> 30180.91 | G36: =+'Løntabel oktober 2017'!G31*(100%+'Løntabel oktober 2018'!$E$63+$E$63) -> 30427.142 | L36: Vallensbæk
B37: Egetbidrag | C37: =C36*$D$9 -> 1607.2603 | D37: =D36*$D$9 -> 1626.8312 | E37: =E36*$D$9 -> 1640.3791 | F37: =F36*$D$9 -> 1659.95 | G37: =G36*$D$9 -> 1673.4928 | L37: Furesø
B38: Nettoløn | C38: =C36-C37 -> 27615.654 | D38: =D36-D37 -> 27951.918 | E38: =E36-E37 -> 28184.695 | F38: =F36-F37 -> 28520.96 | G38: =G36-G37 -> 28753.649 | L38: Hvidovre
B39: Arbejdsgiverbidrag | C39: =C36*$D$10 -> 3214.5205 | D39: =D36*$D$10 -> 3253.6624 | E39: =E36*$D$10 -> 3280.7582 | F39: =F36*$D$10 -> 3319.9 | G39: =G36*$D$10 -> 3346.9856
A40: 29 | B40: Bruttoløn | C40: =+'Løntabel oktober 2017'!C35*(100%+'Løntabel oktober 2018'!$E$63+$E$63) -> 29705.818 | D40: =+'Løntabel oktober 2017'!D35*(100%+'Løntabel oktober 2018'!$E$63+$E$63) -> 30044.816 | E40: =+'Løntabel oktober 2017'!E35*(100%+'Løntabel oktober 2018'!$E$63+$E$63) -> 30279.447 | F40: =+'Løntabel oktober 2017'!F35*(100%+'Løntabel oktober 2018'!$E$63+$E$63) -> 30618.352 | G40: =+'Løntabel oktober 2017'!G35*(100%+'Løntabel oktober 2018'!$E$63+$E$63) -> 30853.076
B41: Egetbidrag | C41: =C40*$D$9 -> 1633.82 | D41: =D40*$D$9 -> 1652.4649 | E41: =E40*$D$9 -> 1665.3696 | F41: =F40*$D$9 -> 1684.0093 | G41: =G40*$D$9 -> 1696.9192
B42: Nettoløn | C42: =C40-C41 -> 28071.998 | D42: =D40-D41 -> 28392.351 | E42: =E40-E41 -> 28614.077 | F42: =F40-F41 -> 28934.342 | G42: =G40-G41 -> 29156.157
B43: Arbejdsgiverbidrag | C43: =C40*$D$10 -> 3267.64 | D43: =D40*$D$10 -> 3304.9297 | E43: =E40*$D$10 -> 3330.7392 | F43: =F40*$D$10 -> 3368.0187 | G43: =G40*$D$10 -> 3393.8384
A44: 30 | B44: Bruttoløn | C44: =+'Løntabel oktober 2017'!C39*(100%+'Løntabel oktober 2018'!$E$63+$E$63) -> 30199.187 | D44: =+'Løntabel oktober 2017'!D39*(100%+'Løntabel oktober 2018'!$E$63+$E$63) -> 30520.129 | E44: =+'Løntabel oktober 2017'!E39*(100%+'Løntabel oktober 2018'!$E$63+$E$63) -> 30742.436 | F44: =+'Løntabel oktober 2017'!F39*(100%+'Løntabel oktober 2018'!$E$63+$E$63) -> 31063.373 | G44: =+'Løntabel oktober 2017'!G39*(100%+'Løntabel oktober 2018'!$E$63+$E$63) -> 31285.586
B45: Egetbidrag | C45: =C44*$D$9 -> 1660.9553 | D45: =D44*$D$9 -> 1678.6071 | E45: =E44*$D$9 -> 1690.834 | F45: =F44*$D$9 -> 1708.4855 | G45: =G44*$D$9 -> 1720.7072
B46: Nettoløn | C46: =C44-C45 -> 28538.232 | D46: =D44-D45 -> 28841.522 | E46: =E44-E45 -> 29051.602 | F46: =F44-F45 -> 29354.887 | G46: =G44-G45 -> 29564.879
B47: Arbejdsgiverbidrag | C47: =C44*$D$10 -> 3321.9105 | D47: =D44*$D$10 -> 3357.2142 | E47: =E44*$D$10 -> 3381.6679 | F47: =F44*$D$10 -> 3416.971 | G47: =G44*$D$10 -> 3441.4145
A48: HK
A49: 31 | B49: Bruttoløn | C49: =+'Løntabel oktober 2017'!C44*(100%+'Løntabel oktober 2018'!$E$63+$E$63) -> 30703.737 | D49: =+'Løntabel oktober 2017'!D44*(100%+'Løntabel oktober 2018'!$E$63+$E$63) -> 31005.692 | E49: =+'Løntabel oktober 2017'!E44*(100%+'Løntabel oktober 2018'!$E$63+$E$63) -> 31214.659 | F49: =+'Løntabel oktober 2017'!F44*(100%+'Løntabel oktober 2018'!$E$63+$E$63) -> 31516.614 | G49: =+'Løntabel oktober 2017'!G44*(100%+'Løntabel oktober 2018'!$E$63+$E$63) -> 31725.582
B50: Egetbidrag | C50: =C49*$D$9 -> 1688.7055 | D50: =D49*$D$9 -> 1705.313 | E50: =E49*$D$9 -> 1716.8063 | F50: =F49*$D$9 -> 1733.4138 | G50: =G49*$D$9 -> 1744.907
B51: Nettoløn | C51: =C49-C50 -> 29015.031 | D51: =D49-D50 -> 29300.379 | E51: =E49-E50 -> 29497.853 | F51: =F49-F50 -> 29783.2 | G51: =G49-G50 -> 29980.675
B52: Arbejdsgiverbidrag | C52: =C49*$D$10 -> 3377.411 | D52: =D49*$D$10 -> 3410.6261 | E52: =E49*$D$10 -> 3433.6125 | F52: =F49*$D$10 -> 3466.8275 | G52: =G49*$D$10 -> 3489.814
B54: Ledende
A55: 39 | B55: Bruttoløn | C55: =+'Løntabel oktober 2017'!C50*(100%+'Løntabel oktober 2018'!$E$63+$E$63) -> 35198.674 | D55: =+'Løntabel oktober 2017'!D50*(100%+'Løntabel oktober 2018'!$E$63+$E$63) -> 35301.922 | E55: =+'Løntabel oktober 2017'!E50*(100%+'Løntabel oktober 2018'!$E$63+$E$63) -> 35373.354 | F55: =+'Løntabel oktober 2017'!F50*(100%+'Løntabel oktober 2018'!$E$63+$E$63) -> 35476.61 | G55: =+'Løntabel oktober 2017'!G50*(100%+'Løntabel oktober 2018'!$E$63+$E$63) -> 35548.155
B56: Egetbidrag | C56: =C55*$D$9 -> 1935.9271 | D56: =D55*$D$9 -> 1941.6057 | E56: =E55*$D$9 -> 1945.5345 | F56: =F55*$D$9 -> 1951.2136 | G56: =G55*$D$9 -> 1955.1485
B57: Nettoløn | C57: =C55-C56 -> 33262.747 | D57: =D55-D56 -> 33360.317 | E57: =E55-E56 -> 33427.82 | F57: =F55-F56 -> 33525.397 | G57: =G55-G56 -> 33593.006
B58: Arbejdsgiverbidrag | C58: =C55*$D$10 -> 3871.8542 | D58: =D55*$D$10 -> 3883.2115 | E58: =E55*$D$10 -> 3891.069 | F58: =F55*$D$10 -> 3902.4271 | G58: =G55*$D$10 -> 3910.297
A59: HK
A61: Aftalte reguleringer OK18 (1. oktober 2019): | D61: 3.51
A62: Lønregulering (faktisk): | D62: -0.21
A63: I alt | D63: =+D61+D62 -> 3.3 | E63: =+D63/100 -> 0.033

Sheet Timelønnede oktober 2019
A1: Løntabel for timelønnende (medarbejdere ansat i indtil 8 timer pr. uge eller højst 1 måned)
A2: Løn gældende pr. 1. oktober 2019
A4: Beregning af personligt tillæg:
A5: Nuværende tillæg:
A6: Nyt tillæg: | D6: =+D5*(100%+D7) -> 0
A7: Personlige løntillæg reguleres med: | D7: =+'Løntabel oktober 2019'!D7 -> 0.032343428
A9: Egetbidrag pension: | D9: 0.055
A10: Arbejdsgiverbidrag pension: | D10: 0.11
A13: Løntrin | C13: Grundsats | D13: Område 1 | E13: Område 2 | F13: Område 3 | G13: Område 4
B15: Ikke-uddannede
A16: 19 | B16: Bruttoløn | C16: =+'Løntabel oktober 2019'!C15/160.33 -> 158.31338 | D16: =+'Løntabel oktober 2019'!D15/160.33 -> 160.90596 | E16: =+'Løntabel oktober 2019'!E15/160.33 -> 162.70093 | F16: =+'Løntabel oktober 2019'!F15/160.33 -> 165.29358 | G16: =+'Løntabel oktober 2019'!G15/160.33 -> 167.08862 | I16: Område 1 | J16: Område 2 | K16: Område 3 | L16: Område 4 | M16: Grundsats
B17: Egetbidrag | C17: =C16*$D$9 -> 8.707236 | D17: =D16*$D$9 -> 8.8498276 | E17: =E16*$D$9 -> 8.948551 | F17: =F16*$D$9 -> 9.0911467 | G17: =G16*$D$9 -> 9.1898743 | I17: Aalborg | J17: Køge | K17: Allerød | L17: Albertslund | M17: Alle andre kommuner
B18: Nettoløn | C18: =C16-C17 -> 149.60615 | D18: =D16-D17 -> 152.05613 | E18: =E16-E17 -> 153.75238 | F18: =F16-F17 -> 156.20243 | G18: =G16-G17 -> 157.89875 | I18: Esbjerg | J18: Lejre | K18: Fredensborg | L18: Ballerup
B19: Arbejdsgiverbidrag | C19: =C16*$D$10 -> 17.414472 | D19: =D16*$D$10 -> 17.699655 | E19: =E16*$D$10 -> 17.897102 | F19: =F16*$D$10 -> 18.182293 | G19: =G16*$D$10 -> 18.379749
I20: Faaborg-Midtfyn | J20: Roskilde | K20: Frederikssund | L20: Brøndby
B21: Uddannede | I21: Frederikshavn | J21: Solrød | K21: Gribskov | L21: Dragør
A22: 24 | B22: Bruttoløn | C22: =+'Løntabel oktober 2019'!C21/160.33 -> 170.86867 | D22: =+'Løntabel oktober 2019'!D21/160.33 -> 173.44528 | E22: =+'Løntabel oktober 2019'!E21/160.33 -> 175.22942 | F22: =+'Løntabel oktober 2019'!F21/160.33 -> 177.80603 | G22: =+'Løntabel oktober 2019'!G21/160.33 -> 179.58948 | I22: Kalundborg | J22: Århus | K22: Halsnæs | L22: Egedal
B23: Egetbidrag | C23: =C22*$D$9 -> 9.3977769 | D23: =D22*$D$9 -> 9.5394905 | E23: =E22*$D$9 -> 9.6376181 | F23: =F22*$D$9 -> 9.7793317 | G23: =G22*$D$9 -> 9.8774213 | I23: Kerteminde | K23: Helsingør | L23: Frederiksberg
B24: Nettoløn | C24: =C22-C23 -> 161.47089 | D24: =D22-D23 -> 163.90579 | E24: =E22-E23 -> 165.5918 | F24: =F22-F23 -> 168.0267 | G24: =G22-G23 -> 169.71206
B25: Arbejdsgiverbidrag | C25: =C22*$D$10 -> 18.795554 | D25: =D22*$D$10 -> 19.078981 | E25: =E22*$D$10 -> 19.275236 | F25: =F22*$D$10 -> 19.558663 | G25: =G22*$D$10 -> 19.754843 | I25: Nyborg | K25: Hillerød | L25: Gentofte
I26: Næstved | K26: Hørsholm | L26: Gladsaxe
A27: 25 | B27: Bruttoløn | C27: =+'Løntabel oktober 2019'!C26/160.33 -> 173.62266 | D27: =+'Løntabel oktober 2019'!D26/160.33 -> 176.11862 | E27: =+'Løntabel oktober 2019'!E26/160.33 -> 177.84639 | F27: =+'Løntabel oktober 2019'!F26/160.33 -> 180.34366 | G27: =+'Løntabel oktober 2019'!G26/160.33 -> 182.07137 | I27: Odense | L27: Glostrup
B28: Egetbidrag | C28: =C27*$D$9 -> 9.5492461 | D28: =D27*$D$9 -> 9.6865239 | E28: =E27*$D$9 -> 9.7815516 | F28: =F27*$D$9 -> 9.9189013 | G28: =G27*$D$9 -> 10.013925 | I28: Skanderborg | L28: Greve
B29: Nettoløn | C29: =C27-C28 -> 164.07341 | D29: =D27-D28 -> 166.43209 | E29: =E27-E28 -> 168.06484 | F29: =F27-F28 -> 170.42476 | G29: =G27-G28 -> 172.05744
B30: Arbejdsgiverbidrag | C30: =C27*$D$10 -> 19.098492 | D30: =D27*$D$10 -> 19.373048 | E30: =E27*$D$10 -> 19.563103 | F30: =F27*$D$10 -> 19.837803 | G30: =G27*$D$10 -> 20.02785 | I30: Slagelse | L30: Herlev
I31: Sønderborg | L31: Høje-Tåstrup
A32: 26 | B32: Bruttoløn | C32: =+'Løntabel oktober 2019'!C31/160.33 -> 176.43998 | D32: =+'Løntabel oktober 2019'!D31/160.33 -> 178.85078 | E32: =+'Løntabel oktober 2019'!E31/160.33 -> 180.51894 | F32: =+'Løntabel oktober 2019'!F31/160.33 -> 182.92922 | G32: =+'Løntabel oktober 2019'!G31/160.33 -> 184.59744 | L32: Ishøj
B33: Egetbidrag | C33: =C32*$D$9 -> 9.7041991 | D33: =D32*$D$9 -> 9.8367932 | E33: =E32*$D$9 -> 9.9285417 | F33: =F32*$D$9 -> 10.061107 | G33: =G32*$D$9 -> 10.152859 | L33: København
B34: Nettoløn | C34: =C32-C33 -> 166.73578 | D34: =D32-D33 -> 169.01399 | E34: =E32-E33 -> 170.5904 | F34: =F32-F33 -> 172.86811 | G34: =G32-G33 -> 174.44458 | L34: Lyngby-Tårbæk
B35: Arbejdsgiverbidrag | C35: =C32*$D$10 -> 19.408398 | D35: =D32*$D$10 -> 19.673586 | E35: =E32*$D$10 -> 19.857083 | F35: =F32*$D$10 -> 20.122214 | G35: =G32*$D$10 -> 20.305718 | L35: Rudersdal Rødovre
L36: Tårnby
A37: 28 | B37: Bruttoløn | C37: =+'Løntabel oktober 2019'!C36/160.33 -> 182.26729 | D37: =+'Løntabel oktober 2019'!D36/160.33 -> 184.48668 | E37: =+'Løntabel oktober 2019'!E36/160.33 -> 186.02304 | F37: =+'Løntabel oktober 2019'!F36/160.33 -> 188.24243 | G37: =+'Løntabel oktober 2019'!G36/160.33 -> 189.77822 | L37: Vallensbæk
B38: Egetbidrag | C38: =C37*$D$9 -> 10.024701 | D38: =D37*$D$9 -> 10.146767 | E38: =E37*$D$9 -> 10.231267 | F38: =F37*$D$9 -> 10.353334 | G38: =G37*$D$9 -> 10.437802 | L38: Furesø
B39: Nettoløn | C39: =C37-C38 -> 172.24258 | D39: =D37-D38 -> 174.33991 | E39: =E37-E38 -> 175.79178 | F39: =F37-F38 -> 177.8891 | G39: =G37-G38 -> 179.34042 | L39: Hvidovre
B40: Arbejdsgiverbidrag | C40: =C37*$D$10 -> 20.049401 | D40: =D37*$D$10 -> 20.293534 | E40: =E37*$D$10 -> 20.462535 | F40: =F37*$D$10 -> 20.706668 | G40: =G37*$D$10 -> 20.875604
A41: 29 | B41: Bruttoløn | C41: =+'Løntabel oktober 2019'!C40/160.33 -> 185.27922 | D41: =+'Løntabel oktober 2019'!D40/160.33 -> 187.3936 | E41: =+'Løntabel oktober 2019'!E40/160.33 -> 188.85703 | F41: =+'Løntabel oktober 2019'!F40/160.33 -> 190.97082 | G41: =+'Løntabel oktober 2019'!G40/160.33 -> 192.43483
B42: Egetbidrag | C42: =C41*$D$9 -> 10.190357 | D42: =D41*$D$9 -> 10.306648 | E42: =E41*$D$9 -> 10.387136 | F42: =F41*$D$9 -> 10.503395 | G42: =G41*$D$9 -> 10.583916
B43: Nettoløn | C43: =C41-C42 -> 175.08887 | D43: =D41-D42 -> 177.08695 | E43: =E41-E42 -> 178.46989 | F43: =F41-F42 -> 180.46743 | G43: =G41-G42 -> 181.85091
B44: Arbejdsgiverbidrag | C44: =C41*$D$10 -> 20.380714 | D44: =D41*$D$10 -> 20.613296 | E44: =E41*$D$10 -> 20.774273 | F44: =F41*$D$10 -> 21.00679 | G44: =G41*$D$10 -> 21.167831
A45: 30 | B45: Bruttoløn | C45: =+'Løntabel oktober 2019'!C44/160.33 -> 188.35643 | D45: =+'Løntabel oktober 2019'!D44/160.33 -> 190.35819 | E45: =+'Løntabel oktober 2019'!E44/160.33 -> 191.74475 | F45: =+'Løntabel oktober 2019'!F44/160.33 -> 193.74648 | G45: =+'Løntabel oktober 2019'!G44/160.33 -> 195.13245
B46: Egetbidrag | C46: =C45*$D$9 -> 10.359604 | D46: =D45*$D$9 -> 10.469701 | E46: =E45*$D$9 -> 10.545961 | F46: =F45*$D$9 -> 10.656056 | G46: =G45*$D$9 -> 10.732285
B47: Nettoløn | C47: =C45-C46 -> 177.99683 | D47: =D45-D46 -> 179.88849 | E47: =E45-E46 -> 181.19879 | F47: =F45-F46 -> 183.09042 | G47: =G45-G46 -> 184.40017
B48: Arbejdsgiverbidrag | C48: =C45*$D$10 -> 20.719208 | D48: =D45*$D$10 -> 20.939401 | E48: =E45*$D$10 -> 21.091922 | F48: =F45*$D$10 -> 21.312113 | G48: =G45*$D$10 -> 21.46457
A50: 31 | B50: Bruttoløn | C50: =+'Løntabel oktober 2019'!C49/160.33 -> 191.50338 | D50: =+'Løntabel oktober 2019'!D49/160.33 -> 193.38671 | E50: =+'Løntabel oktober 2019'!E49/160.33 -> 194.69007 | F50: =+'Løntabel oktober 2019'!F49/160.33 -> 196.5734 | G50: =+'Løntabel oktober 2019'!G49/160.33 -> 197.87676
B51: Egetbidrag | C51: =C50*$D$9 -> 10.532686 | D51: =D50*$D$9 -> 10.636269 | E51: =E50*$D$9 -> 10.707954 | F51: =F50*$D$9 -> 10.811537 | G51: =G50*$D$9 -> 10.883222
B52: Nettoløn | C52: =C50-C51 -> 180.97069 | D52: =D50-D51 -> 182.75044 | E52: =E50-E51 -> 183.98212 | F52: =F50-F51 -> 185.76187 | G52: =G50-G51 -> 186.99354
B53: Arbejdsgiverbidrag | C53: =C50*$D$10 -> 21.065372 | D53: =D50*$D$10 -> 21.272538 | E53: =E50*$D$10 -> 21.415908 | F53: =F50*$D$10 -> 21.623075 | G53: =G50*$D$10 -> 21.766444
B55: Ledende
A56: 39 | B56: Bruttoløn | C56: =+'Løntabel oktober 2019'!C55/160.33 -> 219.53892 | D56: =+'Løntabel oktober 2019'!D55/160.33 -> 220.18289 | E56: =+'Løntabel oktober 2019'!E55/160.33 -> 220.62842 | F56: =+'Løntabel oktober 2019'!F55/160.33 -> 221.27244 | G56: =+'Løntabel oktober 2019'!G55/160.33 -> 221.71867
B57: Egetbidrag | C57: =C56*$D$9 -> 12.07464 | D57: =D56*$D$9 -> 12.110059 | E57: =E56*$D$9 -> 12.134563 | F57: =F56*$D$9 -> 12.169984 | G57: =G56*$D$9 -> 12.194527
B58: Nettoløn | C58: =C56-C57 -> 207.46428 | D58: =D56-D57 -> 208.07283 | E58: =E56-E57 -> 208.49385 | F58: =F56-F57 -> 209.10245 | G58: =G56-G57 -> 209.52415
B59: Arbejdsgiverbidrag | C59: =C56*$D$10 -> 24.149281 | D59: =D56*$D$10 -> 24.220118 | E59: =E56*$D$10 -> 24.269126 | F59: =F56*$D$10 -> 24.339968 | G59: =G56*$D$10 -> 24.389054

Sheet Løntabel oktober 2020
A1: Interaktiv løntabel med fuld kittelkompensation til fuldtidsansatte
A2: Løn gældende pr. 1. oktober 2020
A4: Beregning af personligt tillæg:
A5: Nuværende tillæg:
A6: Nyt tillæg: | D6: =+D5*(100%+D7) -> 0
A7: Personlige løntillæg reguleres med: | D7: =+C15/'Løntabel oktober 2019'!C15-1 -> 0.012816861
A9: Egetbidrag pension: | D9: 0.055
A10: Arbejdsgiverbidrag pension: | D10: 0.11
A12: Løntrin | C12: Grundsats | D12: Område 1 | E12: Område 2 | F12: Område 3 | G12: Område 4
B14: Ikke-uddannede
A15: 19 | B15: Bruttoløn | C15: =+'Løntabel oktober 2017'!C10*(100%+'Løntabel oktober 2018'!$E$63+'Løntabel oktober 2019'!$E$63+$E$63) -> 25707.707 | D15: =+'Løntabel oktober 2017'!D10*(100%+'Løntabel oktober 2018'!$E$63+'Løntabel oktober 2019'!$E$63+$E$63) -> 26128.702 | E15: =+'Løntabel oktober 2017'!E10*(100%+'Løntabel oktober 2018'!$E$63+'Løntabel oktober 2019'!$E$63+$E$63) -> 26420.178 | F15: =+'Løntabel oktober 2017'!F10*(100%+'Løntabel oktober 2018'!$E$63+'Løntabel oktober 2019'!$E$63+$E$63) -> 26841.185 | G15: =+'Løntabel oktober 2017'!G10*(100%+'Løntabel oktober 2018'!$E$63+'Løntabel oktober 2019'!$E$63+$E$63) -> 27132.674 | I15: Område 1 | J15: Område 2 | K15: Område 3 | L15: Område 4 | M15: Grundsats
B16: Egetbidrag | C16: =C15*$D$9 -> 1413.9239 | D16: =D15*$D$9 -> 1437.0786 | E16: =E15*$D$9 -> 1453.1098 | F16: =F15*$D$9 -> 1476.2652 | G16: =G15*$D$9 -> 1492.2971 | I16: Aalborg | J16: Køge | K16: Allerød | L16: Albertslund | M16: Alle andre kommuner
B17: Nettoløn | C17: =C15-C16 -> 24293.783 | D17: =D15-D16 -> 24691.624 | E17: =E15-E16 -> 24967.069 | F17: =F15-F16 -> 25364.92 | G17: =G15-G16 -> 25640.377 | I17: Esbjerg | J17: Lejre | K17: Fredensborg | L17: Ballerup
B18: Arbejdsgiverbidrag | C18: =C15*$D$10 -> 2827.8478 | D18: =D15*$D$10 -> 2874.1572 | E18: =E15*$D$10 -> 2906.2196 | F18: =F15*$D$10 -> 2952.5304 | G18: =G15*$D$10 -> 2984.5941
A19: HK | I19: Faaborg-Midtfyn | J19: Roskilde | K19: Frederikssund | L19: Brøndby
B20: Uddannede | I20: Frederikshavn | J20: Solrød | K20: Gribskov | L20: Dragør
A21: 24 | B21: Bruttoløn | C21: =+'Løntabel oktober 2017'!C16*(100%+'Løntabel oktober 2018'!$E$63+'Løntabel oktober 2019'!$E$63+$E$63) -> 27746.497 | D21: =+'Løntabel oktober 2017'!D16*(100%+'Løntabel oktober 2018'!$E$63+'Løntabel oktober 2019'!$E$63+$E$63) -> 28164.9 | E21: =+'Løntabel oktober 2017'!E16*(100%+'Løntabel oktober 2018'!$E$63+'Løntabel oktober 2019'!$E$63+$E$63) -> 28454.617 | F21: =+'Løntabel oktober 2017'!F16*(100%+'Løntabel oktober 2018'!$E$63+'Løntabel oktober 2019'!$E$63+$E$63) -> 28873.02 | G21: =+'Løntabel oktober 2017'!G16*(100%+'Løntabel oktober 2018'!$E$63+'Løntabel oktober 2019'!$E$63+$E$63) -> 29162.624 | I21: Kalundborg | J21: Århus | K21: Halsnæs | L21: Egedal
B22: Egetbidrag | C22: =C21*$D$9 -> 1526.0573 | D22: =D21*$D$9 -> 1549.0695 | E22: =E21*$D$9 -> 1565.0039 | F22: =F21*$D$9 -> 1588.0161 | G22: =G21*$D$9 -> 1603.9443 | I22: Kerteminde | K22: Helsingør | L22: Frederiksberg
B23: Nettoløn | C23: =C21-C22 -> 26220.439 | D23: =D21-D22 -> 26615.83 | E23: =E21-E22 -> 26889.613 | F23: =F21-F22 -> 27285.003 | G23: =G21-G22 -> 27558.68
B24: Arbejdsgiverbidrag | C24: =C21*$D$10 -> 3052.1146 | D24: =D21*$D$10 -> 3098.139 | E24: =E21*$D$10 -> 3130.0078 | F24: =F21*$D$10 -> 3176.0321 | G24: =G21*$D$10 -> 3207.8887 | I24: Nyborg | K24: Hillerød | L24: Gentofte
A25: HK | I25: Næstved | K25: Hørsholm | L25: Gladsaxe
A26: 25 | B26: Bruttoløn | C26: =+'Løntabel oktober 2017'!C21*(100%+'Løntabel oktober 2018'!$E$63+'Løntabel oktober 2019'!$E$63+$E$63) -> 28193.702 | D26: =+'Løntabel oktober 2017'!D21*(100%+'Løntabel oktober 2018'!$E$63+'Løntabel oktober 2019'!$E$63+$E$63) -> 28599.009 | E26: =+'Løntabel oktober 2017'!E21*(100%+'Løntabel oktober 2018'!$E$63+'Løntabel oktober 2019'!$E$63+$E$63) -> 28879.574 | F26: =+'Løntabel oktober 2017'!F21*(100%+'Løntabel oktober 2018'!$E$63+'Løntabel oktober 2019'!$E$63+$E$63) -> 29285.092 | G26: =+'Løntabel oktober 2017'!G21*(100%+'Løntabel oktober 2018'!$E$63+'Løntabel oktober 2019'!$E$63+$E$63) -> 29565.646 | I26: Odense | L26: Glostrup
B27: Egetbidrag | C27: =C26*$D$9 -> 1550.6536 | D27: =D26*$D$9 -> 1572.9455 | E27: =E26*$D$9 -> 1588.3766 | F27: =F26*$D$9 -> 1610.6801 | G27: =G26*$D$9 -> 1626.1105 | I27: Skanderborg | L27: Greve
B28: Nettoløn | C28: =C26-C27 -> 26643.049 | D28: =D26-D27 -> 27026.063 | E28: =E26-E27 -> 27291.197 | F28: =F26-F27 -> 27674.412 | G28: =G26-G27 -> 27939.535
B29: Arbejdsgiverbidrag | C29: =C26*$D$10 -> 3101.3073 | D29: =D26*$D$10 -> 3145.891 | E29: =E26*$D$10 -> 3176.7531 | F29: =F26*$D$10 -> 3221.3601 | G29: =G26*$D$10 -> 3252.221 | I29: Slagelse | L29: Herlev
A30: HK | I30: Sønderborg | L30: Høje-Tåstrup
A31: 26 | B31: Bruttoløn | C31: =+'Løntabel oktober 2017'!C26*(100%+'Løntabel oktober 2018'!$E$63+'Løntabel oktober 2019'!$E$63+$E$63) -> 28651.194 | D31: =+'Løntabel oktober 2017'!D26*(100%+'Løntabel oktober 2018'!$E$63+'Løntabel oktober 2019'!$E$63+$E$63) -> 29042.672 | E31: =+'Løntabel oktober 2017'!E26*(100%+'Løntabel oktober 2018'!$E$63+'Løntabel oktober 2019'!$E$63+$E$63) -> 29313.555 | F31: =+'Løntabel oktober 2017'!F26*(100%+'Løntabel oktober 2018'!$E$63+'Løntabel oktober 2019'!$E$63+$E$63) -> 29704.948 | G31: =+'Løntabel oktober 2017'!G26*(100%+'Løntabel oktober 2018'!$E$63+'Løntabel oktober 2019'!$E$63+$E$63) -> 29975.841 | L31: Ishøj
B32: Egetbidrag | C32: =C31*$D$9 -> 1575.8157 | D32: =D31*$D$9 -> 1597.3469 | E32: =E31*$D$9 -> 1612.2455 | F32: =F31*$D$9 -> 1633.7721 | G32: =G31*$D$9 -> 1648.6713 | L32: København
B33: Nettoløn | C33: =C31-C32 -> 27075.378 | D33: =D31-D32 -> 27445.325 | E33: =E31-E32 -> 27701.309 | F33: =F31-F32 -> 28071.176 | G33: =G31-G32 -> 28327.17 | L33: Lyngby-Tårbæk
B34: Arbejdsgiverbidrag | C34: =C31*$D$10 -> 3151.6313 | D34: =D31*$D$10 -> 3194.6939 | E34: =E31*$D$10 -> 3224.4911 | F34: =F31*$D$10 -> 3267.5443 | G34: =G31*$D$10 -> 3297.3425 | L34: Rudersdal Rødovre
A35: HK | L35: Tårnby
A36: 28 | B36: Bruttoløn | C36: =+'Løntabel oktober 2017'!C31*(100%+'Løntabel oktober 2018'!$E$63+'Løntabel oktober 2019'!$E$63+$E$63) -> 29597.46 | D36: =+'Løntabel oktober 2017'!D31*(100%+'Løntabel oktober 2018'!$E$63+'Løntabel oktober 2019'!$E$63+$E$63) -> 29957.856 | E36: =+'Løntabel oktober 2017'!E31*(100%+'Løntabel oktober 2018'!$E$63+'Løntabel oktober 2019'!$E$63+$E$63) -> 30207.338 | F36: =+'Løntabel oktober 2017'!F31*(100%+'Løntabel oktober 2018'!$E$63+'Løntabel oktober 2019'!$E$63+$E$63) -> 30567.734 | G36: =+'Løntabel oktober 2017'!G31*(100%+'Løntabel oktober 2018'!$E$63+'Løntabel oktober 2019'!$E$63+$E$63) -> 30817.122 | L36: Vallensbæk
B37: Egetbidrag | C37: =C36*$D$9 -> 1627.8603 | D37: =D36*$D$9 -> 1647.6821 | E37: =E36*$D$9 -> 1661.4036 | F37: =F36*$D$9 -> 1681.2254 | G37: =G36*$D$9 -> 1694.9417 | L37: Furesø
B38: Nettoløn | C38: =C36-C37 -> 27969.6 | D38: =D36-D37 -> 28310.173 | E38: =E36-E37 -> 28545.935 | F38: =F36-F37 -> 28886.509 | G38: =G36-G37 -> 29122.181 | L38: Hvidovre
B39: Arbejdsgiverbidrag | C39: =C36*$D$10 -> 3255.7206 | D39: =D36*$D$10 -> 3295.3641 | E39: =E36*$D$10 -> 3322.8072 | F39: =F36*$D$10 -> 3362.4507 | G39: =G36*$D$10 -> 3389.8835
A40: 29 | B40: Bruttoløn | C40: =+'Løntabel oktober 2017'!C35*(100%+'Løntabel oktober 2018'!$E$63+'Løntabel oktober 2019'!$E$63+$E$63) -> 30086.553 | D40: =+'Løntabel oktober 2017'!D35*(100%+'Løntabel oktober 2018'!$E$63+'Løntabel oktober 2019'!$E$63+$E$63) -> 30429.896 | E40: =+'Løntabel oktober 2017'!E35*(100%+'Løntabel oktober 2018'!$E$63+'Løntabel oktober 2019'!$E$63+$E$63) -> 30667.534 | F40: =+'Løntabel oktober 2017'!F35*(100%+'Løntabel oktober 2018'!$E$63+'Løntabel oktober 2019'!$E$63+$E$63) -> 31010.783 | G40: =+'Løntabel oktober 2017'!G35*(100%+'Løntabel oktober 2018'!$E$63+'Løntabel oktober 2019'!$E$63+$E$63) -> 31248.516
B41: Egetbidrag | C41: =C40*$D$9 -> 1654.7604 | D41: =D40*$D$9 -> 1673.6443 | E41: =E40*$D$9 -> 1686.7144 | F41: =F40*$D$9 -> 1705.5931 | G41: =G40*$D$9 -> 1718.6684
B42: Nettoløn | C42: =C40-C41 -> 28431.793 | D42: =D40-D41 -> 28756.252 | E42: =E40-E41 -> 28980.82 | F42: =F40-F41 -> 29305.19 | G42: =G40-G41 -> 29529.847
B43: Arbejdsgiverbidrag | C43: =C40*$D$10 -> 3309.5208 | D43: =D40*$D$10 -> 3347.2886 | E43: =E40*$D$10 -> 3373.4288 | F43: =F40*$D$10 -> 3411.1861 | G43: =G40*$D$10 -> 3437.3367
A44: 30 | B44: Bruttoløn | C44: =+'Løntabel oktober 2017'!C39*(100%+'Løntabel oktober 2018'!$E$63+'Løntabel oktober 2019'!$E$63+$E$63) -> 30586.246 | D44: =+'Løntabel oktober 2017'!D39*(100%+'Løntabel oktober 2018'!$E$63+'Løntabel oktober 2019'!$E$63+$E$63) -> 30911.301 | E44: =+'Løntabel oktober 2017'!E39*(100%+'Løntabel oktober 2018'!$E$63+'Løntabel oktober 2019'!$E$63+$E$63) -> 31136.457 | F44: =+'Løntabel oktober 2017'!F39*(100%+'Løntabel oktober 2018'!$E$63+'Løntabel oktober 2019'!$E$63+$E$63) -> 31461.508 | G44: =+'Løntabel oktober 2017'!G39*(100%+'Løntabel oktober 2018'!$E$63+'Løntabel oktober 2019'!$E$63+$E$63) -> 31686.569
B45: Egetbidrag | C45: =C44*$D$9 -> 1682.2435 | D45: =D44*$D$9 -> 1700.1216 | E45: =E44*$D$9 -> 1712.5051 | F45: =F44*$D$9 -> 1730.3829 | G45: =G44*$D$9 -> 1742.7613
B46: Nettoløn | C46: =C44-C45 -> 28904.002 | D46: =D44-D45 -> 29211.18 | E46: =E44-E45 -> 29423.952 | F46: =F44-F45 -> 29731.125 | G46: =G44-G45 -> 29943.808
B47: Arbejdsgiverbidrag | C47: =C44*$D$10 -> 3364.487 | D47: =D44*$D$10 -> 3400.2432 | E47: =E44*$D$10 -> 3425.0103 | F47: =F44*$D$10 -> 3460.7658 | G47: =G44*$D$10 -> 3485.5226
A48: HK
A49: 31 | B49: Bruttoløn | C49: =+'Løntabel oktober 2017'!C44*(100%+'Løntabel oktober 2018'!$E$63+'Løntabel oktober 2019'!$E$63+$E$63) -> 31097.262 | D49: =+'Løntabel oktober 2017'!D44*(100%+'Løntabel oktober 2018'!$E$63+'Løntabel oktober 2019'!$E$63+$E$63) -> 31403.087 | E49: =+'Løntabel oktober 2017'!E44*(100%+'Løntabel oktober 2018'!$E$63+'Løntabel oktober 2019'!$E$63+$E$63) -> 31614.733 | F49: =+'Løntabel oktober 2017'!F44*(100%+'Løntabel oktober 2018'!$E$63+'Løntabel oktober 2019'!$E$63+$E$63) -> 31920.558 | G49: =+'Løntabel oktober 2017'!G44*(100%+'Løntabel oktober 2018'!$E$63+'Løntabel oktober 2019'!$E$63+$E$63) -> 32132.204
B50: Egetbidrag | C50: =C49*$D$9 -> 1710.3494 | D50: =D49*$D$9 -> 1727.1698 | E50: =E49*$D$9 -> 1738.8103 | F50: =F49*$D$9 -> 1755.6307 | G50: =G49*$D$9 -> 1767.2712
B51: Nettoløn | C51: =C49-C50 -> 29386.913 | D51: =D49-D50 -> 29675.917 | E51: =E49-E50 -> 29875.923 | F51: =F49-F50 -> 30164.927 | G51: =G49-G50 -> 30364.933
B52: Arbejdsgiverbidrag | C52: =C49*$D$10 -> 3420.6988 | D52: =D49*$D$10 -> 3454.3396 | E52: =E49*$D$10 -> 3477.6206 | F52: =F49*$D$10 -> 3511.2614 | G52: =G49*$D$10 -> 3534.5424
B54: Ledende
A55: 39 | B55: Bruttoløn | C55: =+'Løntabel oktober 2017'!C50*(100%+'Løntabel oktober 2018'!$E$63+'Løntabel oktober 2019'!$E$63+$E$63) -> 35649.811 | D55: =+'Løntabel oktober 2017'!D50*(100%+'Løntabel oktober 2018'!$E$63+'Løntabel oktober 2019'!$E$63+$E$63) -> 35754.382 | E55: =+'Løntabel oktober 2017'!E50*(100%+'Løntabel oktober 2018'!$E$63+'Løntabel oktober 2019'!$E$63+$E$63) -> 35826.73 | F55: =+'Løntabel oktober 2017'!F50*(100%+'Løntabel oktober 2018'!$E$63+'Løntabel oktober 2019'!$E$63+$E$63) -> 35931.309 | G55: =+'Løntabel oktober 2017'!G50*(100%+'Løntabel oktober 2018'!$E$63+'Løntabel oktober 2019'!$E$63+$E$63) -> 36003.771
B56: Egetbidrag | C56: =C55*$D$9 -> 1960.7396 | D56: =D55*$D$9 -> 1966.491 | E56: =E55*$D$9 -> 1970.4701 | F56: =F55*$D$9 -> 1976.222 | G56: =G55*$D$9 -> 1980.2074
B57: Nettoløn | C57: =C55-C56 -> 33689.071 | D57: =D55-D56 -> 33787.891 | E57: =E55-E56 -> 33856.259 | F57: =F55-F56 -> 33955.087 | G57: =G55-G56 -> 34023.563
B58: Arbejdsgiverbidrag | C58: =C55*$D$10 -> 3921.4792 | D58: =D55*$D$10 -> 3932.982 | E58: =E55*$D$10 -> 3940.9403 | F58: =F55*$D$10 -> 3952.444 | G58: =G55*$D$10 -> 3960.4148
A59: HK
A61: Aftalte reguleringer OK18 (1. oktober 2020): | D61: 0.98
A62: Lønregulering (skønnet): | D62: 0.37
A63: I alt | D63: =+D61+D62 -> 1.35 | E63: =+D63/100 -> 0.0135

Sheet Timelønnede oktober 2020
A1: Løntabel for timelønnende (medarbejdere ansat i indtil 8 timer pr. uge eller højst 1 måned)
A2: Løn gældende pr. 1. oktober 2020
A4: Beregning af personligt tillæg:
A5: Nuværende tillæg:
A6: Nyt tillæg: | D6: =+D5*(100%+D7) -> 0
A7: Personlige løntillæg reguleres med: | D7: =+'Løntabel oktober 2020'!D7 -> 0.012816861
A9: Egetbidrag pension: | D9: 0.055
A10: Arbejdsgiverbidrag pension: | D10: 0.11
A13: Løntrin | C13: Grundsats | D13: Område 1 | E13: Område 2 | F13: Område 3 | G13: Område 4
B15: Ikke-uddannede
A16: 19 | B16: Bruttoløn | C16: =+'Løntabel oktober 2020'!C15/160.33 -> 160.34246 | D16: =+'Løntabel oktober 2020'!D15/160.33 -> 162.96827 | E16: =+'Løntabel oktober 2020'!E15/160.33 -> 164.78624 | F16: =+'Løntabel oktober 2020'!F15/160.33 -> 167.41212 | G16: =+'Løntabel oktober 2020'!G15/160.33 -> 169.23017 | I16: Område 1 | J16: Område 2 | K16: Område 3 | L16: Område 4 | M16: Grundsats
B17: Egetbidrag | C17: =C16*$D$9 -> 8.8188354 | D17: =D16*$D$9 -> 8.9632546 | E17: =E16*$D$9 -> 9.0632434 | F17: =F16*$D$9 -> 9.2076667 | G17: =G16*$D$9 -> 9.3076596 | I17: Aalborg | J17: Køge | K17: Allerød | L17: Albertslund | M17: Alle andre kommuner
B18: Nettoløn | C18: =C16-C17 -> 151.52363 | D18: =D16-D17 -> 154.00501 | E18: =E16-E17 -> 155.723 | F18: =F16-F17 -> 158.20445 | G18: =G16-G17 -> 159.92252 | I18: Esbjerg | J18: Lejre | K18: Fredensborg | L18: Ballerup
B19: Arbejdsgiverbidrag | C19: =C16*$D$10 -> 17.637671 | D19: =D16*$D$10 -> 17.926509 | E19: =E16*$D$10 -> 18.126487 | F19: =F16*$D$10 -> 18.415333 | G19: =G16*$D$10 -> 18.615319
I20: Faaborg-Midtfyn | J20: Roskilde | K20: Frederikssund | L20: Brøndby
B21: Uddannede | I21: Frederikshavn | J21: Solrød | K21: Gribskov | L21: Dragør
A22: 24 | B22: Bruttoløn | C22: =+'Løntabel oktober 2020'!C21/160.33 -> 173.05867 | D22: =+'Løntabel oktober 2020'!D21/160.33 -> 175.66831 | E22: =+'Løntabel oktober 2020'!E21/160.33 -> 177.47531 | F22: =+'Løntabel oktober 2020'!F21/160.33 -> 180.08495 | G22: =+'Løntabel oktober 2020'!G21/160.33 -> 181.89125 | I22: Kalundborg | J22: Århus | K22: Halsnæs | L22: Egedal
B23: Egetbidrag | C23: =C22*$D$9 -> 9.5182269 | D23: =D22*$D$9 -> 9.6617569 | E23: =E22*$D$9 -> 9.7611421 | F23: =F22*$D$9 -> 9.9046721 | G23: =G22*$D$9 -> 10.004019 | I23: Kerteminde | K23: Helsingør | L23: Frederiksberg
B24: Nettoløn | C24: =C22-C23 -> 163.54044 | D24: =D22-D23 -> 166.00655 | E24: =E22-E23 -> 167.71417 | F24: =F22-F23 -> 170.18027 | G24: =G22-G23 -> 171.88723
B25: Arbejdsgiverbidrag | C25: =C22*$D$10 -> 19.036454 | D25: =D22*$D$10 -> 19.323514 | E25: =E22*$D$10 -> 19.522284 | F25: =F22*$D$10 -> 19.809344 | G25: =G22*$D$10 -> 20.008038 | I25: Nyborg | K25: Hillerød | L25: Gentofte
I26: Næstved | K26: Hørsholm | L26: Gladsaxe
A27: 25 | B27: Bruttoløn | C27: =+'Løntabel oktober 2020'!C26/160.33 -> 175.84795 | D27: =+'Løntabel oktober 2020'!D26/160.33 -> 178.3759 | E27: =+'Løntabel oktober 2020'!E26/160.33 -> 180.12583 | F27: =+'Løntabel oktober 2020'!F26/160.33 -> 182.6551 | G27: =+'Løntabel oktober 2020'!G26/160.33 -> 184.40495 | I27: Odense | L27: Glostrup
B28: Egetbidrag | C28: =C27*$D$9 -> 9.6716375 | D28: =D27*$D$9 -> 9.8106748 | E28: =E27*$D$9 -> 9.9069204 | F28: =F27*$D$9 -> 10.04603 | G28: =G27*$D$9 -> 10.142272 | I28: Skanderborg | L28: Greve
B29: Nettoløn | C29: =C27-C28 -> 166.17632 | D29: =D27-D28 -> 168.56523 | E29: =E27-E28 -> 170.21891 | F29: =F27-F28 -> 172.60907 | G29: =G27-G28 -> 174.26268
B30: Arbejdsgiverbidrag | C30: =C27*$D$10 -> 19.343275 | D30: =D27*$D$10 -> 19.62135 | E30: =E27*$D$10 -> 19.813841 | F30: =F27*$D$10 -> 20.092061 | G30: =G27*$D$10 -> 20.284545 | I30: Slagelse | L30: Herlev
I31: Sønderborg | L31: Høje-Tåstrup
A32: 26 | B32: Bruttoløn | C32: =+'Løntabel oktober 2020'!C31/160.33 -> 178.70139 | D32: =+'Løntabel oktober 2020'!D31/160.33 -> 181.14309 | E32: =+'Løntabel oktober 2020'!E31/160.33 -> 182.83263 | F32: =+'Løntabel oktober 2020'!F31/160.33 -> 185.2738 | G32: =+'Løntabel oktober 2020'!G31/160.33 -> 186.96339 | L32: Ishøj
B33: Egetbidrag | C33: =C32*$D$9 -> 9.8285765 | D33: =D32*$D$9 -> 9.96287 | E33: =E32*$D$9 -> 10.055794 | F33: =F32*$D$9 -> 10.190059 | G33: =G32*$D$9 -> 10.282987 | L33: København
B34: Nettoløn | C34: =C32-C33 -> 168.87281 | D34: =D32-D33 -> 171.18022 | E34: =E32-E33 -> 172.77683 | F34: =F32-F33 -> 175.08374 | G34: =G32-G33 -> 176.68041 | L34: Lyngby-Tårbæk
B35: Arbejdsgiverbidrag | C35: =C32*$D$10 -> 19.657153 | D35: =D32*$D$10 -> 19.92574 | E35: =E32*$D$10 -> 20.111589 | F35: =F32*$D$10 -> 20.380118 | G35: =G32*$D$10 -> 20.565973 | L35: Rudersdal Rødovre
L36: Tårnby
A37: 28 | B37: Bruttoløn | C37: =+'Løntabel oktober 2020'!C36/160.33 -> 184.60338 | D37: =+'Løntabel oktober 2020'!D36/160.33 -> 186.85122 | E37: =+'Løntabel oktober 2020'!E36/160.33 -> 188.40728 | F37: =+'Løntabel oktober 2020'!F36/160.33 -> 190.65511 | G37: =+'Løntabel oktober 2020'!G36/160.33 -> 192.21058 | L37: Vallensbæk
B38: Egetbidrag | C38: =C37*$D$9 -> 10.153186 | D38: =D37*$D$9 -> 10.276817 | E38: =E37*$D$9 -> 10.3624 | F38: =F37*$D$9 -> 10.486031 | G38: =G37*$D$9 -> 10.571582 | L38: Furesø
B39: Nettoløn | C39: =C37-C38 -> 174.45019 | D39: =D37-D38 -> 176.5744 | E39: =E37-E38 -> 178.04487 | F39: =F37-F38 -> 180.16908 | G39: =G37-G38 -> 181.639 | L39: Hvidovre
B40: Arbejdsgiverbidrag | C40: =C37*$D$10 -> 20.306372 | D40: =D37*$D$10 -> 20.553634 | E40: =E37*$D$10 -> 20.7248 | F40: =F37*$D$10 -> 20.972062 | G40: =G37*$D$10 -> 21.143164
A41: 29 | B41: Bruttoløn | C41: =+'Løntabel oktober 2020'!C40/160.33 -> 187.65392 | D41: =+'Løntabel oktober 2020'!D40/160.33 -> 189.7954 | E41: =+'Løntabel oktober 2020'!E40/160.33 -> 191.27758 | F41: =+'Løntabel oktober 2020'!F40/160.33 -> 193.41847 | G41: =+'Løntabel oktober 2020'!G40/160.33 -> 194.90124
B42: Egetbidrag | C42: =C41*$D$9 -> 10.320966 | D42: =D41*$D$9 -> 10.438747 | E42: =E41*$D$9 -> 10.520267 | F42: =F41*$D$9 -> 10.638016 | G42: =G41*$D$9 -> 10.719568
B43: Nettoløn | C43: =C41-C42 -> 177.33295 | D43: =D41-D42 -> 179.35665 | E43: =E41-E42 -> 180.75731 | F43: =F41-F42 -> 182.78045 | G43: =G41-G42 -> 184.18167
B44: Arbejdsgiverbidrag | C44: =C41*$D$10 -> 20.641931 | D44: =D41*$D$10 -> 20.877494 | E44: =E41*$D$10 -> 21.040534 | F44: =F41*$D$10 -> 21.276031 | G44: =G41*$D$10 -> 21.439136
A45: 30 | B45: Bruttoløn | C45: =+'Løntabel oktober 2020'!C44/160.33 -> 190.77057 | D45: =+'Løntabel oktober 2020'!D44/160.33 -> 192.79799 | E45: =+'Løntabel oktober 2020'!E44/160.33 -> 194.20232 | F45: =+'Løntabel oktober 2020'!F44/160.33 -> 196.2297 | G45: =+'Løntabel oktober 2020'!G44/160.33 -> 197.63344
B46: Egetbidrag | C46: =C45*$D$9 -> 10.492381 | D46: =D45*$D$9 -> 10.603889 | E46: =E45*$D$9 -> 10.681127 | F46: =F45*$D$9 -> 10.792633 | G46: =G45*$D$9 -> 10.869839
B47: Nettoløn | C47: =C45-C46 -> 180.27819 | D47: =D45-D46 -> 182.1941 | E47: =E45-E46 -> 183.52119 | F47: =F45-F46 -> 185.43707 | G47: =G45-G46 -> 186.7636
B48: Arbejdsgiverbidrag | C48: =C45*$D$10 -> 20.984763 | D48: =D45*$D$10 -> 21.207779 | E48: =E45*$D$10 -> 21.362255 | F48: =F45*$D$10 -> 21.585267 | G48: =G45*$D$10 -> 21.739678
A50: 31 | B50: Bruttoløn | C50: =+'Løntabel oktober 2020'!C49/160.33 -> 193.95785 | D50: =+'Løntabel oktober 2020'!D49/160.33 -> 195.86532 | E50: =+'Løntabel oktober 2020'!E49/160.33 -> 197.18539 | F50: =+'Løntabel oktober 2020'!F49/160.33 -> 199.09286 | G50: =+'Løntabel oktober 2020'!G49/160.33 -> 200.41292
B51: Egetbidrag | C51: =C50*$D$9 -> 10.667682 | D51: =D50*$D$9 -> 10.772593 | E51: =E50*$D$9 -> 10.845196 | F51: =F50*$D$9 -> 10.950107 | G51: =G50*$D$9 -> 11.022711
B52: Nettoløn | C52: =C50-C51 -> 183.29017 | D52: =D50-D51 -> 185.09273 | E52: =E50-E51 -> 186.34019 | F52: =F50-F51 -> 188.14275 | G52: =G50-G51 -> 189.39021
B53: Arbejdsgiverbidrag | C53: =C50*$D$10 -> 21.335364 | D53: =D50*$D$10 -> 21.545185 | E53: =E50*$D$10 -> 21.690393 | F53: =F50*$D$10 -> 21.900214 | G53: =G50*$D$10 -> 22.045422
B55: Ledende
A56: 39 | B56: Bruttoløn | C56: =+'Løntabel oktober 2020'!C55/160.33 -> 222.35272 | D56: =+'Løntabel oktober 2020'!D55/160.33 -> 223.00494 | E56: =+'Løntabel oktober 2020'!E55/160.33 -> 223.45618 | F56: =+'Løntabel oktober 2020'!F55/160.33 -> 224.10846 | G56: =+'Løntabel oktober 2020'!G55/160.33 -> 224.56041
B57: Egetbidrag | C57: =C56*$D$9 -> 12.229399 | D57: =D56*$D$9 -> 12.265272 | E57: =E56*$D$9 -> 12.29009 | F57: =F56*$D$9 -> 12.325965 | G57: =G56*$D$9 -> 12.350823
B58: Nettoløn | C58: =C56-C57 -> 210.12332 | D58: =D56-D57 -> 210.73967 | E58: =E56-E57 -> 211.16609 | F58: =F56-F57 -> 211.78249 | G58: =G56-G57 -> 212.20959
B59: Arbejdsgiverbidrag | C59: =C56*$D$10 -> 24.458799 | D59: =D56*$D$10 -> 24.530544 | E59: =E56*$D$10 -> 24.58018 | F59: =F56*$D$10 -> 24.65193 | G59: =G56*$D$10 -> 24.701645
