Workbook

Sheet Fuldtid
A1: Interaktiv løntabel til fuldtidsansatte ekskl. tillæg til tjenestedragt
A2: Løn gældende pr. 1. dec. 2023
A4: Eventuelle personlige tillæg skal også reguleres pr. 1. dec. 2023:
A5: Nuværende tillæg:
A6: Nyt tillæg: | B6: =+B5*B7+B5 -> 0
A7: Personlige løntillæg reguleres med: | B7: =0.01/1.05 -> 0.0095238095
A9: Egetbidrag pension: | B9: 0.0516
A10: Arbejdsgiverbidrag pension: | B10: 0.1034
A11: Egetbidrag pension (ledende bioanalytiker): | B11: 0.06
A12: Arbejdsgiverbidrag pension (ledende bioanalytiker): | B12: 0.12
C15: Grundsats
A17: Indtil 2 års praksiserfaring | B17: Bruttoløn | C17: 36453.4
B18: Egetbidrag | C18: =C17*B9 -> 1880.9954
B19: Nettoløn | C19: =C17-C18 -> 34572.405
B20: Arbejdsgiverbidrag | C20: =C17*B10 -> 3769.2816
A21: Efter 2 år praksiserfaring | B21: Bruttoløn | C21: 41343.83
B22: Egetbidrag | C22: =C21*B9 -> 2133.3416
B23: Nettoløn | C23: =C21-C22 -> 39210.488
B24: Arbejdsgiverbidrag | C24: =C21*B10 -> 4274.952
A25: Ledende bioanalytiker | B25: Bruttoløn | C25: 49023.38
B26: Egetbidrag | C26: =C25*B11 -> 2941.4028
B27: Nettoløn | C27: =C25-C26 -> 46081.977
B28: Arbejdsgiverbidrag | C28: =C25*B12 -> 5882.8056

Sheet Deltid
A1: Interaktiv løntabel til deltidsansatte ekskl. tillæg til tjenestedragt
A2: Løn gældende pr. 1. dec. 2023
A4: Eventuelle personlige tillæg skal også reguleres pr. 1. dec. 2023:
A5: Nuværende tillæg:
A6: Nyt tillæg: | B6: =+B5*B7+B5 -> 0
A7: Personlige løntillæg reguleres med: | B7: =+Fuldtid!B7 -> 0.0095238095
A9: Egetbidrag pension | B9: =+Fuldtid!B9 -> 0.0516 | G9: INDTAST ANTAL TIMER PR. UGE | H9: 32
A10: Arbejdsgiverbidrag pension: | B10: =+Fuldtid!B10 -> 0.1034
A11: Egetbidrag pension (ledende bioanalytiker): | B11: =+Fuldtid!B11 -> 0.06 | G11: *Hvis den ansatte ikke arbejder et helt antal timer om ugen, skal antallet af minutter divideres i 60.
A12: Arbejdsgiverbidrag pension (ledende bioanalytiker): | B12: =+Fuldtid!B12 -> 0.12
C15: Grundsats | G15: Eksempel: En praksisbioanalytiker arbejder 21 timer og 45 minutter pr. uge: 45/60=0,75. Altså skal der indtastes 21,75.
A17: Indtil 2 års praksiserfaring | B17: Bruttoløn | C17: =(Fuldtid!C17/37*Deltid!H9) -> 31527.265
B18: Egetbidrag | C18: =C17*B9 -> 1626.8069
B19: Nettoløn | C19: =C17-C18 -> 29900.458
B20: Arbejdsgiverbidrag | C20: =C17*B10 -> 3259.9192
A21: Efter 2 år praksiserfaring | B21: Bruttoløn | C21: =(Fuldtid!C21/37*Deltid!H9) -> 35756.826
B22: Egetbidrag | C22: =C21*B9 -> 1845.0522
B23: Nettoløn | C23: =C21-C22 -> 33911.774
B24: Arbejdsgiverbidrag | C24: =C21*B10 -> 3697.2558
A25: Ledende bioanalytiker | B25: Bruttoløn | C25: =Fuldtid!C25/37*Deltid!H9 -> 42398.599
B26: Egetbidrag | C26: =C25*B11 -> 2543.9159
B27: Nettoløn | C27: =C25-C26 -> 39854.683
B28: Arbejdsgiverbidrag | C28: =C25*B12 -> 5087.8319

Sheet Timeløn
A1: Interaktiv løntabel til timelønnede ekskl. tillæg til tjenestedragt
A2: Løn gældende pr. 1. dec. 2023
A4: Egetbidrag pension | B4: =+Deltid!B9 -> 0.0516
A5: Arbejdsgiverbidrag pension: | B5: =+Deltid!B10 -> 0.1034
A6: Egetbidrag pension (ledende bioanalytiker): | B6: =+Deltid!B11 -> 0.06
A7: Arbejdsgiverbidrag pension (ledende bioanalytiker): | B7: =+Deltid!B12 -> 0.12
C10: Grundsats
A12: Indtil 2 års praksiserfaring | B12: Bruttoløn | C12: =Fuldtid!C17/(160+1/3) -> 227.36008
B13: Egetbidrag | C13: =C12*B4 -> 11.73178
B14: Nettoløn | C14: =C12-C13 -> 215.6283
B15: Arbejdsgiverbidrag | C15: =C12*B5 -> 23.509033
A16: Efter 2 år praksiserfaring | B16: Bruttoløn | C16: =Fuldtid!C21/(160+1/3) -> 257.86173
B17: Egetbidrag | C17: =C16*B4 -> 13.305665
B18: Nettoløn | C18: =C16-C17 -> 244.55606
B19: Arbejdsgiverbidrag | C19: =C16*B5 -> 26.662902
A20: Ledende bioanalytiker | B20: Bruttoløn | C20: =Fuldtid!C25/(160+1/3) -> 305.75913
B21: Egetbidrag | C21: =C20*B6 -> 18.345548
B22: Nettoløn | C22: =C20-C21 -> 287.41358
B23: Arbejdsgiverbidrag | C23: =C20*B7 -> 36.691095
